BEGIN:VCALENDAR
VERSION:2.0
PRODID:-//Kölle for Future - ECPv6.15.20//NONSGML v1.0//EN
CALSCALE:GREGORIAN
METHOD:PUBLISH
X-WR-CALNAME:Kölle for Future
X-ORIGINAL-URL:https://koelle4future.de
X-WR-CALDESC:Veranstaltungen für Kölle for Future
REFRESH-INTERVAL;VALUE=DURATION:PT1H
X-Robots-Tag:noindex
X-PUBLISHED-TTL:PT1H
BEGIN:VTIMEZONE
TZID:Europe/Berlin
BEGIN:DAYLIGHT
TZOFFSETFROM:+0100
TZOFFSETTO:+0200
TZNAME:CEST
DTSTART:20220327T010000
END:DAYLIGHT
BEGIN:STANDARD
TZOFFSETFROM:+0200
TZOFFSETTO:+0100
TZNAME:CET
DTSTART:20221030T010000
END:STANDARD
BEGIN:DAYLIGHT
TZOFFSETFROM:+0100
TZOFFSETTO:+0200
TZNAME:CEST
DTSTART:20230326T010000
END:DAYLIGHT
BEGIN:STANDARD
TZOFFSETFROM:+0200
TZOFFSETTO:+0100
TZNAME:CET
DTSTART:20231029T010000
END:STANDARD
BEGIN:DAYLIGHT
TZOFFSETFROM:+0100
TZOFFSETTO:+0200
TZNAME:CEST
DTSTART:20240331T010000
END:DAYLIGHT
BEGIN:STANDARD
TZOFFSETFROM:+0200
TZOFFSETTO:+0100
TZNAME:CET
DTSTART:20241027T010000
END:STANDARD
END:VTIMEZONE
BEGIN:VEVENT
DTSTART;TZID=Europe/Berlin:20230617T150000
DTEND;TZID=Europe/Berlin:20230624T150000
DTSTAMP:20260424T222546
CREATED:20230528T123541Z
LAST-MODIFIED:20230608T063545Z
UID:12345-1687014000-1687618800@koelle4future.de
SUMMARY:Projektwoche Strukturwandel und Zukunft der geretteten Dörfer im Kulturzentrum Bürgewald
DESCRIPTION:Herzliche Einladung an alle: Eine Woche lang wird Morschenich-Alt zum Universitätsstandort.  Mischt Euch ein und gestaltet die Zukunft der geretteten Dörfer mit. \nVorläufiges Programm\, Änderungen vorbehalten\, aktuelles auf der Projektwebseite. \nProgrammheft *** Programmkalender *** Plakat\nStändige Veranstaltungen / Rahmenprogramm während der Woche\nÜbersicht 1: Commen grunds\nÜbersicht 2: Ausstellungen\nSamstag\, 17.06.2023\n15:00–18:00 Das Experiment kann beginnen – Auftaktveranstaltung\nDie tu! Hambach öffnet ihre Türen!\nMit Spaziergang durch Morschenich-Alt\nZusammensein im Gastgarten – Kaffee trinken\, Ausstellungseröffnung\nEröffnung Gastgarten und Beiträge (Common Grounds) der Studierenden\nAusklang an der Wandelbar \nRWTH Aachen University\, REVIERa\, Neuland Hambach\, Gemeinde Merzenich \nFür: Alle\nOrt: Treffpunkt Kirche\, ab 16:00 Uhr KITA \nOhne Anmeldung – gerne unter johann@pt.rwth-aachen.de \nSpecial Guest: Ingo Klafke mit Saxophone – für Stimmung am Abend mit Live Session\nMehr Infos unter: www.get-your-song.de \n17:30 KRAFTWERKE\nPerformance\nRessourcen in Bewegung – eine intergenerative Tanzperformance \nDüren tanzt!\, Art Bewegung e.V.\, Förderverein\nder Musikschule Düren e.V. \nFür: Besucher:innen\, Bewohner:innen….\nTreffpunkt: I Großes Zelt + Gastgarten \nKeine Anmeldung notwendig \nSonntag\, 18.06.2023\n09:00–22:00 Stadt Landschaft Transformation\nRound Table\nSzenarien zur Entwicklung der Region \nHochschule für Wirtschaft und Umwelt Nürtingen Geislingen (HfWU)\, Masterstudiengang \nFür: Bürger:innen\, Akteure der Region\, Planer:innen\, Verwaltung\nOrt: V Kleiner Raum \nAnmeldung: Ilka.mecklenbrauck@hfwu.de \n11:00-13:00 Gemeinsam geSCHICHTEN erzählen\nGeschichten\nDeine Region sichtbar machen \nLVR-Kooperationsprojekt geSCHICHTEN Rheinisches Revier \nFür: Menschen und ihre geSCHICHTEN in\, mit\, über und aus dem Rheinischen Revier\nOrt: I Großes Zelt \nAnmeldung: geschichten@lvr.de \n14:00-15:30 Zivilgesellschaftliche Beteiligung\nVortrag + Diskurs\nAn der Reviertransformation im Rheinland und der Lausitz \nTH Köln\, Institut für Technologie- und Ressourcenmanagement; WWU Münster\, Institut für Politikwissenschaft \nFür: alle\, die sich für Beteiligung am Strukturwandel interessieren\nOrt: I Großes Zelt \nOhne Anmeldung \n15:30-18:00 Zukunftsrevier mit oder ohne Zivilgesellschaft?\nVortrag + Diskurs\nVon Beteiligung am Strukturwandel zu Teilhabe an Transformation \nKlima-Allianz Deutschland e.V. \nFür: Interessierte Zivilgesellschaft\, Strukturwandelmanager:innen\, Wissenschaft\, Presse\, Landespolitik\nOrt: I Großes Zelt \nAnmeldung: linus.platzer@klima-allianz.de \n14:00-18:00 Der Pilz am Ende der Welt von Anna L. Tsing\nBuchbesprechung\nBuchbesprechung am Aussichtspunkt Tagebau Hambach \nRWTH Aachen University\, Projekt „Leonardo“ am Human Technology Center \nFür: Studierende\, Doktorand:innen\, interessierte Bürger:innen\nOrt: Treffpunkt KITA Vorplatz (bei Regen IV Großer Raum) // Feedbackbereich\, danach Spaziergang zum Aussichtspunkt Tagebau Hambach \nAnmeldung bis 12. Juni: leonardo@humtec.rwth-aachen.de \n14:00-18:00 Zukunft Kirche Morschenich-Alt\nBürgerworkshop\nNeuer Ort der Hoffnung? \nRWTH Aachen University\, REVIERa\, Lehrstuhl für Planungstheorie und Stadtentwicklung\, Masterprojekt; Gemeinde Merzenich  \nFür: alle\, Familien\, Bürger:innen\, Besucher:innen\, Schüler:innen\, junge Menschen\nOrt: II Kleines Zelt + III Wandelbar \nAnmeldung: johann@pt.rwth-aachen.de \n19:00-22:00 Archiv der verschwundenen Orte Rheinland\nWorkshop\nEin Impulsworkshop \nYannick Rouault \nFür: Umsiedler:innen\,Studierende (Architektur/ Stadtplanung)\, Mitarbeitende von LVR\, Stadtarchiven\, Umsiedlungsabteilung RWE\, Indeland\, Neuland Hambach\, Landfolge Garzweiler\nOrt: II Kleines Zelt \nAnmeldung: yannick@postabstraktfilm.de \nMontag\, 19.06.2023\n09:00-12:00 Structural Change and Inequality\nLehrveranstaltung\nLearning from Economic Reseach for the Rhenish Lignite Region \nRWTH Aachen University\, LuF Empirische Wirtschaftsforschung \nFür: Bachelorstudierende der Fakultät 8\, RWTH Aachen University\nOrt: II Kleines Zelt // Geschlossene Lehrveranstaltung \nGeschlossene Lehrveranstaltung. Keine Anmeldung möglich \n09:00-17:00 Symposium Kontext Bestand\nMini-Symposium\nFragen an eine neue Architekturumbaukultur und -produktion im Bestand \nFH Aachen\, Fachbereich Architektur\, Stadtplanung\, Transformation und Prozessgestaltung \nFür: Strukturwandelakteure\, Politik und Verwaltung\, Zivilgesellschaft\, Archkt:innen\, Stadtplaner:innen\, Landschaftsarchitekt:innen\, lokale gemeinwohlorientierte Initiativen und Akteure\, Hochschulen\, Forscher:innen und Studierende\,\nOrt: I Großes Zelt \nKeine Anmeldung notwendig \n09:00-13:00 Die Gesellschaft im Strukturwandel\nInterviews\nErwartungen\, Chancen und Herausforderungen \nRWTH Aachen University\, HumTec \nFür: Bürger:innen\, Studentin:innen\, Schüler:innen\nOrt: III Wandelbar + V Kleiner Raum \nAnmeldung: julia.cornely@humtec.rwth-aachen.de \n14:00 Neuer Wein in alten Schläuchen?\nLehr- Workshop\nDie Neuerfindung verlassener Dörfer im Angesicht transformationsbedingter Herausforderungen im Braunkohleausstieg \nBundesinstitut für Bau-\, Stadt- und Raumforschung (BBSR) – Kompetenzzentrum Regionalentwicklung Cottbus + RWTH Aachen University\, Projekt „Leonardo“\, Hum Tec \nFür: Studierende der RWTH Aachen University\, Doktorand:innen der Raum-\, Planungs- und Sozialwissenschaften im weiteren Sinne\, Interessierte und fachlich versierte Bürger:innen\nOrt: II Kleines Zelt \nAnmeldung: lennart.goepfert@leonardo.rwth-aachen.de \n12:00-17:00 Kulturküche\nWandelbar\nEin Wandelbar-Format \nRWTH Aachen University\, REVIERa\, Lehrstuhl für Planungstheorie und Stadtentwicklung\, Masterprojekt \nFür: alle\nOrt: Vorplatz Kita / Wandelbar \nAnmeldung: schotte@pt.rwth-aachen.de \n13:00-15:00 ReDorfing\nReflektion\nAm Rande neu bauen – Dorfentwicklungskonzepte im Revier \nRWTH Aachen University\, Institut und Lehrstuhl für Landschaftsarchitektur \nFür: Bewohner:innen\, Planer:innen\, Wissenschaftler:innen\, Investor:innen\, Politik\nOrt: V Kleiner Raum \nAnmeldung: stuetzel@la.rwth-aachen.de \n14:00-18:00 Baulabore\nWorkshop\nRundgang durch den Ort\, Impulsvorträge und Diskussion \nInnovationsprogramm Zukunft Bau\, Bundesinstitut für Bau-\, Stadt- und Raumforschung (BBSR) \nFür: Vertreter:innen von Kommunen\, Planer:innen\, interessierte Öffentlichkeit\nOrt: IV Großer Raum \nAnmeldung: zb@bbr.bund.de \n19:00-22:00 Big Picture – Bauen im Rheinischen Revier\nImpulsvortrag\nMit welchen Mitteln die regionale Bauwende gelingen kann \nFaktor X Agentur Entwicklungsgesellschaft indeland GmbH \nFür: alle\, die mit dem Bauen zu tun haben Kommunalpolitiker:innen\, Investor:innen\, Bauherr:innen\, Planer:innen\, Handwerker:innen\, Bauunternehmer:innen\nOrt: I Großes Zelt \nAnmeldung: info@faktor-x.info \nDienstag\, 20.06.2023\n09:00-13:00 Neuer Wein in alten Schläuchen?\nPräsentation\nDie Neuerfindung verlassener Dörfer im Angesicht transformationsbedingter Herausforderungen im Braunkohleausstieg \nBundesinstitut für Bau-\, Stadt- und Raumforschung (BBSR) – Kompetenzzentrum Regionalentwicklung Cottbus + RWTH Aachen University\, Projekt „Leonardo“\, Hum Tec  \nFür: Studierende der RWTH Aachen University\, Doktorand:innen der Raum-\, Planungs- und Sozialwissenschaften im weiteren Sinne\, Interessierte und fachlich versierte Bürger:innen\nOrt: II Kleines Zelt \nGeschlossene Lehrveranstaltung. Keine Anmeldung möglich \n09:00-13:00 Aus- und Weiterbildung im Rheinischen Revier\nWorkshop\nDesign Thinking \nZukunftsagentur Rheinisches Revier GmbH \nFür: Auszubildende\, Dual Studierende\nOrt: IV Großer Raum \nAnmeldung: christian.vonstyp@rheinisches-revier.de \n14:00-18:00 Zukunft Kirche Morschenich-Alt\nSchülerworkshop\nNeuer Ort der Hoffnung? \nRWTH Aachen University\, REVIERa\, Lehrstuhl für Planungstheorie und Stadtentwicklung\, Masterprojekt \nFür: Schüler:innen und junge Menschen\nOrt: I Großes Zelt + III Wandelbar \nAnmeldung: johann@pt.rwth-aachen.de \n14:00-18:00 Klimaanpassungsstrategie für das Rheinische Revier\nDiskussion\nBedarfe\, Ideen und Maßnahmen diskutieren und entwickeln \nZukunftsagentur Rheinisches Revier GmbH \nFür: Interessierte aller Art im Tagebauumfeld Hambach\nOrt: IV Großer Raum \nAnmeldung: ruth.Hausmann@rheinisches-revier.de \n14:00-18:00 Wasserkreislauf im Strukturwandel und Klimawandel\nVortrag+Exkurs\nAufarbeitung wasserwirtschaftlicher Fragen im Rheinischen Revier \nForschungsinstitut für Wasserwirtschaft und Klimazukunft an der RWTH Aachen e. V. (FiW) \nFür: Interessierte aller Art\, Studierende\nOrt: I Großes Zelt \nAnmeldung: derevicev@fiw.rwth-aachen.de; hoevel@fiw.rwth-aachen.de \n14:00-17:00 WERTstoffe und KREISläufe\nOpen Lab\nBiokunststoffe erleben und Wertstoffkreisläufe erfahren \nRWTH Aachen University\, Institut für Anorganische Chemie und Human Technology Center \nFür: Interessierte jeden Alters\nOrt: II Kleines Zelt \nKeine Anmeldung notwendig \n19:00-20:00 Besuch der Agri-PV Anlage in Morschenich-Alt\nExkursion\nKoppelung von Photovoltaik mit Pflanzenproduktion \nForschungszentrum Jülich\, Koordinierungsstelle BioökonomieREVIER \nFür: Bürger:innen\, Landwirt:innen\, Regionale Einrichtungen und Kommunen\nTreffpunkt: an der III Wandelbar \nAnmeldung: kontakt@biooekonomierevier.de \n19:00-22:00 Kultursalon\nOpen Session\nEin Wandelbar-Format \nRWTH Aachen University\, REVIERa\, Lehrstuhl für Planungstheorie und Stadtentwicklung\, Masterprojekt \nFür: alle Kunst- und Kulturinteressierten\nOrt: III Wandelbar + II Kleines Zelt \nAnmeldung: schotte@pt.rwth-aachen.de \n19:00-22:00 Wasser im Rheinischen Revier\nVortrag\nGestern. Heute. Morgen. \nErftverband \nFür: Vertreter:innen der Lokalpolitik und der Behörden sowie interessierte Bürger:innen\nOrt: I Großes Zelt \nAnmeldung: stefan.simon@erftverband.de \n19:00-22:00 Künstliche Intelligenz und neuromorphe Technologie im Strukturwandel imaginieren\nDiskussion\nEin Zukunftsforum \nRWTH Aachen University\, HumTec\, Lehr- und Forschungsgebiet Angewandte Ethik\, Zukunftscluster NeuroSys \nFür: Interessierte Bürger:innen\, Wirtschaft der Region\, Interessierte an Technik und Technikentwicklung\nOrt: IV Großer Raum \nAnmeldung: frieder.boegner@humtec.rwth-aachen.de \nMittwoch\, 21.06.2023\n09:00-10:00 Von der Braunkohle zur Bioökonomie\nVortrag\nVortrag zum Strukturwandel im Rheinischen Revier \nForschungszentrum Jülich\, Koordinationsstelle BioökonomieREVIER \nFür: Interessierte Bürger:innen; Landwirt: innen\, Schüler:innen\, Region & Kommunen\, Unternehmen\nOrt: IV Großer Raum \nAnmeldung: kontakt@biooekonomierevier.de \n10:00-11:30 Gemeinsam kochen und Lebensmittel retten\nMitmach-Aktion\nKulinarische Protestaktion mit Resten aus der lokalen Lebensmittelindustrie \nForschungszentrum Jülich\, Koordinationsstelle BioökonomieREVIER \nFür: Interessierte Bürgerinnen und Bürger\, Schüler:innen\nOrt: IV Großer Raum \nAnmeldung: kontakt@biooekonomierevier.de \n11:30-13:00 Spielerisch die Bioökonomie entdecken\nVortrag\nWirtschaft neu denken – mit biobasierten Rohstoffen und Prozessen \nForschungszentrum Jülich\, Koordinationsstelle BioökonomieREVIER \nFür: Interessierte Bürger:innen\, Schüler:innen\nOrt: IV Großer Raum \nAnmeldung: kontakt@biooekonomierevier.de \n13:00-16:00 Humboldt-School: Innovationsökosystem Wasserstoff\nWorkshop\nWissenschaft trifft Praxis im Revier / Perspektivenwechsel mit Akteuren aus dem Rheinischen Revier \nHumboldtn-Initiative in Kooperation mit RWTH Aachen University\, Forschungszentrum Jülich\, weitere Wissenschaftler:innen aus NRW \nFür: nicht öffentlich – Humboldtn-School Postdocs\, Akteure aus dem Rheinischen Revier\nOrt: Großes Zelt\, 16:00–17:00 öffentlicher Teil \nAnmeldung: lena.herlitzius@zhv.rwth-aachen.de \n14:00-18:00 Klima- und ressourcenschonendes Bauen\nVortrag\nMit Faktor X Strategien den gesamten Lebenszyklus eines Gebäudes bewerten \nFaktor X Agentur der Entwicklungsgesellschaft indeland GmbH\, Stadt Eschweiler\, Unternehmen Frauenrath  \nFür: Impulsgeber:innen\, Nachhaltigkeitsinteressierte\, Bau-Menschen\, Forschung\, Kommunalentwicklung\nOrt: II Kleines Zelt \nAnmeldung: a.porz@kreis-dueren.de \n19:00-22:00 Mobiland\nWorkshop\nEin Planspiel rund um Mobilitätsangebote im ländlichen Raum \nVerkehrsverbund Rhein-Sieg GmbH\, Zukunftsnetz Mobilität NRW \nFür: Kommunalpolitik\, Kommunalverwaltung\nOrt: I Großes Zelt \nAnmeldung: christoph.overs@vrs.de \n19:00-22:00 Zusammenhalt hoch drei\nDiskussion\nDiskussion der Zwischenergebnisse \nILS Research GmbH und Landfolge Garzweiler \nFür: Interessierte Bewohner:innen\, Politik\, lokale Akteure\, Vereine und Interessengemeinschaften\, Studierende und Forscher:innen\nOrt: II Kleines Zelt \nAnmeldung: felix.matzke@ils-forschung.de \n19:00-22:00 Harena Campus\nRound Table\nDer Platz für die postfossile Zukunft \nHARENA GmbH \nFür: Kommunen\, Landschaftsplaner:innen\, Stadtplaner:innen\nOrt: III Wandelbar + V Kleiner Raum \nAnmeldung: info@harena.de \n19:00-22:00 Resiliente Demokratie\nVortrag+\nDas rheinische Revier als Demokratielabor \nLandeszentrale für politische Bildung NRW\, Nell-Breuning-Haus. Lernort Arbeit und Menschenwürde\, Demokratiewerkstatt Rheinisches Revier \nFür: alle Interessierten\, Vertreter:innen der organisierten Zivilgesellschaft\nOrt: IV Großer Raum \nAnmeldung: seminar@nbh.de \nDonnerstag 22.06.2023\n09:00-13:00 Ressource Boden trifft Zukunftsbild\nWorkshop\nNachhaltige Infrastrukturen und Multicodierung für die Transformation von Siedlungsflächen \nFH Aachen\, Fachbereich Architektur\, Stadtplanung\, Transformation und Prozessgestaltung \nFür: Strukturwandelakteure\, Politik und Verwaltung\, Zivilgesellschaft\, Architekt:innen\, Stadtplaner:innen\, Landschaftsarchitekt:innen\, lokale / gemeinwohlorientierte Initiativen und Akteure\nOrt: II Kleines Zelt \nAnmeldung: vervoorts@fh-aachen.de \n09:00-18:00 Die Gesellschaft im Strukturwandel\nInterviews\nErwartungen\, Chancen und Herausforderungen \nRWTH Aachen University\, HumTec \nFür: Bürger:innen\, Studierende\, Schüler:innen\nOrt: III Wandelbar + V Kleiner Raum \nAnmeldung: julia.cornely@humtec.rwth-aachen.de \n09:00-16:00 Transformationscontrolling\nLehrveranstaltung+\nErgebnisse zur Bewertung von Transformationsthemen im Revier \nRWTH Aachen University\, Lehrstuhl für Controlling \nFür: Interessierte an der Bewertung vielfältiger Themen im Strukturwandel\nOrt: IV Großer Raum \nAnmeldung: paegert@controlling.rwth-aachen.de \n14:00-18:00 Nachbarschaften bedürfnisgerecht – gestalten!\nWie sieht ein lebenswertes Quartier aus? \nRWTH Aachen University\, Lehrstuhl für Planungstheorie und Stadtentwicklung \nFür: Studierende\, Engagierte in den Orten und Quartieren der Region\, Expert:innen zu den Themen Sozialraum\, Nachbarschaft und Daseinsvorsorge\nOrt: II Kleines Zelt \nAnmeldung: nberding@pt.rwth-aachen.de \n14:00-16:00 Rheinkiesel-Exkursion bei Morschenich-Alt\nExkursion\nVor 800.000 Jahren floss der Rhein schon einmal nach Hambach \nSven von Loga \nFür: Hobbygeolog:innen\, Heimatkundler:innen\, Naturfreund:innen\nTreffpunkt: am Tagebaurand an der alten A4 \nAnmeldung: post@expedition-rheinland.de \n11:00-13:00 Die große Transformation\nVortrag + Diskurs\nDie große Transformation braucht Vision und Gestaltungswillen zugleich \nKirchenkreis Jülich \nFür: Studierende\, Professor:innen\, Handwerker:innen\nOrt: I Großes Zelt \nAnmeldung: superintendentur.juelich@ekir.de \n15:30-17:00 Arbeiten im Rheinischen Revier 4.0\nBundesagentur für Arbeit\, Berufsberatung im Erwerbsleben – Aachen / Düren und Brühl \nFür: Erwachsene und Jugendliche die sich beruflich orientieren möchten\nOrt: I Großes Zelt \nAnmeldung: Dueren.181-Berufsberatung-im-Erwerbsleben@arbeitsagentur.de \n17:30-19:00 Kohleausstieg und Transformation – Was macht das mit Arbeitnehmer:innen?\nOffene Diskussion\nPerspektiven Beschäftigter für die Zeit nach 2030 \nRevierwende Büro Bedburg \nFür: Alle Interessierten\nOrt: I Großes Zelt \nAnmeldung: bedburg@revierwende.de \n17:00-19:00 Unter uns – ein nachbarschaftlicher Erfahrungsaustausch von Menschen mit Umsiedlungserfahrungen im Rheinischen Revier\nZukunftsagentur Rheinisches Revier GmbH \nFür: Menschen mit Umsiedlungserfahrungen im Rheinischen Revier\nOrt: IV Großer Raum \nAnmeldung: susanne.hartig@rheinisches-revier.de \n19:00-22:00 Klimaproteste und ihre Rolle für regionale Transformation\nDiskurs + Reflektion\nEine Theorie-Praxis-Werkstatt \nRWTH Aachen University\, Lehr- und Forschungsgebiet Angewandte Ethik / Zukunftscluster NeuroSys \nFür: Interessierte Bürger:innen\, Engagierte vor Ort\, Studierende\nOrt: II Kleines Zelt \nAnmeldung: frieder.boegner@humtec.rwth-aachen.de \nFreitag 23.06.2023\n09:00-13:00 Ressourcenwende im Rheinischen Revier\nVortrag \nZukunftsagentur Rheinisches Revier \nFür: Zivilgesellschaft\nOrt: I Großes Zelt \nAnmeldung: ressourcen-agrobusiness@rheinisches-revier.de \n09:00-18:00 Die Gesellschaft im Strukturwandel\nInterviews\nErwartungen\, Chancen und Herausforderungen \nRWTH Aachen University\, HumTec \nFür: Bürger:innen\, Studentin:innen\, Schüler:innen\nOrt: III Wandelbar + V Kleiner Raum \nAnmeldung: julia.cornely@humtec.rwth-aachen.de \n09:00-22:00 Landschaftliche Zukunftsbilder\nLehrveranstaltung\nVon einer ausgebeuteten Region zu einer wiederbelebten Landschaft \nUniversität Kassel\, Fachgebiet Freiraumplanung \nFür: Menschen aus Wissenschaft und Bevölkerung\nOrt: IV Großer Raum \nAnmeldung: muenderlein@asl.uni-kassel.de \n09:00-10:30 Erfolgsbedingungen gelingenden Strukturwandels\nVortrag +\nAufbau und Wirken einer Tagebauumfeldinitiative – indeland \nEntwicklungsgesellschaft indeland GmbH \nFür: Verwaltung\, Politik\, Regionalentwicklung\, Bürger:innen\, Studierende\nOrt: II Kleines Zelt \nAnmeldung: https://indeland.de/tu-hambach \n11:00-17:00 Perspektiven für die Räume zwischen den Seen\nWorkshop+ \nEntwicklungsgesellschaft indeland GmbH; Neuland Hambach GmbH \nFür: Studierende\, Fachleute und Bürger:innen\nOrt: II Kleines Zelt \nAnmeldung: https://indeland.de/tu-hambach \n12:00-16:00 DENKWEG\nExkursion+\nLandschaft Gestern. Landschaft Morgen – auf die Sophienhöhe \nAkademie LandPartie\, Verein Denkwege e.V.\, Atelier Latent \nFür: Neugierige & Suchende\nTreffpunkt: am Schloss Hambach (9-12 km Walk) \nAnmeldung: walk@denkweg.net \n13:00-17:00 Stadtentwicklung erFAHREN – Strukturwandel in Elsdorf\nRadtour\nFahrradtour entlang der acht Kilometer langen Elsdorfer Tagebaukante \nStadt Elsdorf\, Abt. 4.40 Wirtschaftsförderung und Strukturentwicklung \nFür: Elsdorfer:innen\, Bewohner:innen des Rheinischen Reviers\, kreative Köpfe und Studierende\nTreffpunkt: Forum terra nova \nAnmeldung: strukturwandel@elsdorf.de \n14:00-16:00 Rheinkiesel-Exkursion bei Morschenich-Alt\nExkursion\nVor 800.000 Jahren floss der Rhein schon einmal nach Hambach \nSven von Loga \nFür: Hobbygeolog:innen\, Heimatkundler:innen\, Naturfreund:innen\nTreffpunkt: am Tagebaurand an der alten A4 \nAnmeldung: post@expedition-rheinland.de \n17:00-18:30 Regional. Digital. Individual.\nVortrag\nRegionaler Zellstoff verarbeitet mit digitalen Technologien für nachhaltige Textil- und Papierprodukte \nRWTH Aachen University\, Institut für Textiltechnik \nFür: Schüler:innen\, Studierene\, Interessierte aus den Bereichender Agrar-\, Textil-\, Papier- und Verpackungswirtschaft und darüber hinaus\nOrt: I Großes Zelt \nAnmeldung: rosario.othen@ita.rwth-aachen.de \n19:00-22:00 Plattform Zivilgesellschaft Rheinland\nDiskurs+Vespern\nWer darf die Region mitgestalten? Die Zivilgesellschaft kommt zusammen \nKlima-Allianz Deutschland e.V. \nFür: Zivilgesellschaftlich Engagierte\, Menschen aus der Region\, Interessierte Kooperationspartner:innen und Zuhörer:innen aus Politik\, Verwaltung\, Wirtschaft\, Wissenschaft\, Kultur\nOrt: I Großes Zelt \nAnmeldung: linus.platzer@klima-allianz.de \nSamstag 24.06.2023\n11:00-13:00 Trialog-Camp\nTrialog Reflexion\nZusammenarbeit für den Strukturwandel gemeinsam reflektieren \nTrialog: RWTH Aachen University\, Lehrstuhl Planungstheorie und Stadtentwicklung\, Frankfurt University of Applied Sciences \nFür: Engagierte und Gestalter:innen im Strukturwandel aus Wissenschaft\, Zivilgesellschaft und öffentlicher Hand (Anmeldung erwünscht)\nOrt: Kita \n15:30-19:00 Tu was\, mach weiter!\ntu! Reflexion\nDie Zukunft gemeinsamen Lernens und Gestaltens im Revier \nRWTH Aachen University\, REVIERa\, Neuland Hambach\, Gemeinde Merzenich \nFür: alle\nOrt: Kita
URL:https://koelle4future.de/event/projektwoche-strukturwandel-und-zukunft-der-geretteten-doerfer-im-kulturzentrum-buergewald/
LOCATION:Transformations- und Kulturzentrum Bürgewald (Morschenich-Alt)\, Ellener Straße 26\, Merzenich\, 52399\, Deutschland
CATEGORIES:Demokratielabor
ATTACH;FMTTYPE=image/jpeg:https://koelle4future.de/wp-content/uploads/2023/05/2305-projektwoche-scaled.jpg
END:VEVENT
END:VCALENDAR