BEGIN:VCALENDAR
VERSION:2.0
PRODID:-//Kölle for Future - ECPv6.15.20//NONSGML v1.0//EN
CALSCALE:GREGORIAN
METHOD:PUBLISH
X-ORIGINAL-URL:https://koelle4future.de
X-WR-CALDESC:Veranstaltungen für Kölle for Future
REFRESH-INTERVAL;VALUE=DURATION:PT1H
X-Robots-Tag:noindex
X-PUBLISHED-TTL:PT1H
BEGIN:VTIMEZONE
TZID:Europe/Berlin
BEGIN:DAYLIGHT
TZOFFSETFROM:+0100
TZOFFSETTO:+0200
TZNAME:CEST
DTSTART:20240331T010000
END:DAYLIGHT
BEGIN:STANDARD
TZOFFSETFROM:+0200
TZOFFSETTO:+0100
TZNAME:CET
DTSTART:20241027T010000
END:STANDARD
BEGIN:DAYLIGHT
TZOFFSETFROM:+0100
TZOFFSETTO:+0200
TZNAME:CEST
DTSTART:20250330T010000
END:DAYLIGHT
BEGIN:STANDARD
TZOFFSETFROM:+0200
TZOFFSETTO:+0100
TZNAME:CET
DTSTART:20251026T010000
END:STANDARD
BEGIN:DAYLIGHT
TZOFFSETFROM:+0100
TZOFFSETTO:+0200
TZNAME:CEST
DTSTART:20260329T010000
END:DAYLIGHT
BEGIN:STANDARD
TZOFFSETFROM:+0200
TZOFFSETTO:+0100
TZNAME:CET
DTSTART:20261025T010000
END:STANDARD
END:VTIMEZONE
BEGIN:VEVENT
DTSTART;TZID=Europe/Berlin:20250318T190000
DTEND;TZID=Europe/Berlin:20250318T230000
DTSTAMP:20260423T103921
CREATED:20250315T070638Z
LAST-MODIFIED:20250315T070638Z
UID:105972-1742324400-1742338800@koelle4future.de
SUMMARY:Ist der Kampf gegen den Klimawandel gescheitert?
DESCRIPTION:Welche neuen Utopien können aus der Akzeptanz des Klimakollaps entstehen?\nLese- und Diskussionsabend mit Tadzio Müller für die Klimabewegung \nGUT & KLIMA FREUNDE Köln haben eine spannende Lesung organisiert. \nTadzio Müller gehört zum Urgestein der deutschen Klimabewegung. Der Politologe ist einer der Mitbegründer von Ende Gelände und kämpft seit über 15 Jahren gegen die drohende Klimakatastrophe. Nun zieht er die bittere Bilanz: Dieser Kampf ist gescheitert. Doch aus der aus der Akzeptanz des Klimakollaps entstehen für ihn auch neue Utopien. Gerade jetzt\, wo die politische Lage kaum noch Anlass zur Hoffnung gibt\, freuen wir deshalb um so mehr\, dass Tadzio im BüZe in Ehrenfeld aus seinem neuen Buch lesen wird. Wir wollen mit ihm und euch ins Gespräch kommen\, nicht zuletzt über die Frage\, welche politischen Konsequenzen aus dieser Haltung heraus entstehen. \nUm Anmeldung wird gebeten: inga.feuser(ätt)gut-klimafreunde.koeln \nBuchbesprechung\nTadzio Müller: „Zwischen friedlicher Sabotage und Kollaps – Wie ich lernte\, die Zukunft wieder zu lieben„\, Oktober 2024\, Mandelbaumverlag\, derzeit nur als Buch im praktischen Westentaschenformat \nMustHave: Sorge solidarisch vor
URL:https://koelle4future.de/event/ist-der-kampf-gegen-den-klimawandel-gescheitert/
LOCATION:BüZe Ehrenfeld\, Venloer Straße 429\, Köln\, 50825\, Germany
CATEGORIES:Vortrag und Austausch
ATTACH;FMTTYPE=image/jpeg:https://koelle4future.de/wp-content/uploads/2024/11/2411-mueller.jpg
END:VEVENT
END:VCALENDAR