BEGIN:VCALENDAR
VERSION:2.0
PRODID:-//Kölle for Future - ECPv6.15.20//NONSGML v1.0//EN
CALSCALE:GREGORIAN
METHOD:PUBLISH
X-WR-CALNAME:Kölle for Future
X-ORIGINAL-URL:https://koelle4future.de
X-WR-CALDESC:Veranstaltungen für Kölle for Future
REFRESH-INTERVAL;VALUE=DURATION:PT1H
X-Robots-Tag:noindex
X-PUBLISHED-TTL:PT1H
BEGIN:VTIMEZONE
TZID:Europe/Berlin
BEGIN:DAYLIGHT
TZOFFSETFROM:+0100
TZOFFSETTO:+0200
TZNAME:CEST
DTSTART:20240331T010000
END:DAYLIGHT
BEGIN:STANDARD
TZOFFSETFROM:+0200
TZOFFSETTO:+0100
TZNAME:CET
DTSTART:20241027T010000
END:STANDARD
BEGIN:DAYLIGHT
TZOFFSETFROM:+0100
TZOFFSETTO:+0200
TZNAME:CEST
DTSTART:20250330T010000
END:DAYLIGHT
BEGIN:STANDARD
TZOFFSETFROM:+0200
TZOFFSETTO:+0100
TZNAME:CET
DTSTART:20251026T010000
END:STANDARD
BEGIN:DAYLIGHT
TZOFFSETFROM:+0100
TZOFFSETTO:+0200
TZNAME:CEST
DTSTART:20260329T010000
END:DAYLIGHT
BEGIN:STANDARD
TZOFFSETFROM:+0200
TZOFFSETTO:+0100
TZNAME:CET
DTSTART:20261025T010000
END:STANDARD
END:VTIMEZONE
BEGIN:VEVENT
DTSTART;TZID=Europe/Berlin:20250114T183000
DTEND;TZID=Europe/Berlin:20250114T200000
DTSTAMP:20260425T010441
CREATED:20250102T125829Z
LAST-MODIFIED:20250102T125829Z
UID:18741-1736879400-1736884800@koelle4future.de
SUMMARY:Psychische und körperliche Gesundheit im Angesicht der Klimakrise
DESCRIPTION:14.01.2025; 18:30 bis 20:00 Uhr \nAnmeldung zur Veranstaltung hier: \nBildung für die Zukunft: Psychische und körperliche Gesundheit im Angesicht der Klimakrise \n \nUnterrichtsmaterialien für Schüler*innen der 8. bis 10. Klasse\, alle Schulformen\nIhr seid interessiert an Bildungsarbeit in Schulen und möchtet Jugendlichen Resilienz in Bezug auf körperliche und psychische Auswirkungen der Klimakrise mit auf den Weg geben? Ihr möchtet an Schulen über Planetare Gesundheit sprechen\, für einen gesunden Umgang mit der Klimakrise sensibilisieren und Schüler*innen somit für die Zukunft stärken? \nDies möchten wir durch unser Workshopmodul erreichen\, das sich an Schüler*innen der Mittelstufe (8.-10. Klasse) aller Schulformen richtet. Ziel unseres Projekts ist es\, Schüler*innen auf die zukünftigen Herausforderungen der Klimakrise vorzubereiten und ihnen die notwendigen Kompetenzen zu vermitteln\, um handlungsfähig zu sein. \nDie ausgearbeiteten Module sind samt Anleitungen und Materialien frei verfügbar und können von z.B. Lehrpersonen einfach in den Unterricht integriert werden. Um den Einstieg zu vereinfachen\, möchten wir gerne die gesamte Unterrichtseinheit und das Konzept dahinter präsentieren und interaktiv mit euch diskutieren\, wo wir dieses Modul sinnvoll verbreiten können. \nDie Inhalte richten sich an Menschen\, die Interesse haben\, mit Schüler*innen über die Klimakrise und gesundheitliche Auswirkungen im psychischen und physischen Bereich zu sprechen\, sowie Handlungsoptionen aufzuzeigen und die Selbstwirksamkeit der Lernenden zu stärken\, indem konkrete Projekte umgesetzt werden sollen. \nTeilt sehr gerne die Einladung über eure Netzwerke\, alle sind herzlich eingeladen!\nGerne auch an Referendar*innen/Lehrer*innen/Pädagog*innen außerhalb von H4F weiterleiten! \nFalls ihr Unterstützung für die Teilnahme am Workshop möchtet (aufgrund einer Seh- oder Hör-Einschränkung oder aus anderen Gründen)\, kontaktiert uns gerne per Mail an skillslab@healthforfuture.de.
URL:https://koelle4future.de/event/gesundheit-im-angesicht-der-klimakrise/
LOCATION:Online
CATEGORIES:Vortrag und Austausch
ATTACH;FMTTYPE=image/jpeg:https://koelle4future.de/wp-content/uploads/2025/01/250114-SkillLab.jpg
END:VEVENT
END:VCALENDAR