BEGIN:VCALENDAR
VERSION:2.0
PRODID:-//Kölle for Future - ECPv6.15.20//NONSGML v1.0//EN
CALSCALE:GREGORIAN
METHOD:PUBLISH
X-WR-CALNAME:Kölle for Future
X-ORIGINAL-URL:https://koelle4future.de
X-WR-CALDESC:Veranstaltungen für Kölle for Future
REFRESH-INTERVAL;VALUE=DURATION:PT1H
X-Robots-Tag:noindex
X-PUBLISHED-TTL:PT1H
BEGIN:VTIMEZONE
TZID:Europe/Berlin
BEGIN:DAYLIGHT
TZOFFSETFROM:+0100
TZOFFSETTO:+0200
TZNAME:CEST
DTSTART:20230326T010000
END:DAYLIGHT
BEGIN:STANDARD
TZOFFSETFROM:+0200
TZOFFSETTO:+0100
TZNAME:CET
DTSTART:20231029T010000
END:STANDARD
BEGIN:DAYLIGHT
TZOFFSETFROM:+0100
TZOFFSETTO:+0200
TZNAME:CEST
DTSTART:20240331T010000
END:DAYLIGHT
BEGIN:STANDARD
TZOFFSETFROM:+0200
TZOFFSETTO:+0100
TZNAME:CET
DTSTART:20241027T010000
END:STANDARD
BEGIN:DAYLIGHT
TZOFFSETFROM:+0100
TZOFFSETTO:+0200
TZNAME:CEST
DTSTART:20250330T010000
END:DAYLIGHT
BEGIN:STANDARD
TZOFFSETFROM:+0200
TZOFFSETTO:+0100
TZNAME:CET
DTSTART:20251026T010000
END:STANDARD
END:VTIMEZONE
BEGIN:VEVENT
DTSTART;TZID=Europe/Berlin:20241124T113000
DTEND;TZID=Europe/Berlin:20241124T160000
DTSTAMP:20260419T203231
CREATED:20241123T080711Z
LAST-MODIFIED:20241123T141830Z
UID:18068-1732447800-1732464000@koelle4future.de
SUMMARY:Rote Linie am Tagebau Hambach
DESCRIPTION:Geplanter Ablauf: \n\n\n\nTreffpunkt um 11.30 Uhr rund um die Kirche in Manheim\n12 Uhr Start Richtung Tagebaukante (BUND-Grundstück)\, dort Rote Linie\, im Anschluss geht’s zum Sündenwäldchen\n\n\n\nAb S-Bahnhof Buir gibt es einen Shuttelservice. Achtung: Durch die Streckensperrung gibt es Schienenersatzverkehr. Bitte plan mehr Zeit bei der Anreise ein. \nKommt bitte alle in ROT! \nHinweis: es wird einen Shuttle-Service vom Bahnhof Buir nach Manheim geben. \nUnser Dank gilt Eva Töller und Michael Zobel für die Organisation. \nDie RWE Power AG will in Kürze zur Erweiterung der Manheimer Bucht weitere Fakten schaffen. Wichtige Biotopverbundstrukturen und Trittsteinbiotope\, die den Erhalt des Hambacher Waldes sichern\, sollen zerstört werden. Insbesondere geht es dabei um das Manheimer „Sünden“ – oder „Sportplatz“-Wäldchen. Hier leben streng geschützte Fledermäuse\, der Stieleichen-Hainbuchenwald ist von naturschutzfachlich hohem Wert. \nRWE will den Wald zerstören\, um auch darunter Material für die Böschungsstabilisierung und Rekultivierung im Tagebauloch und der (unsinnig) überhöhten Innenkippe zu gewinnen. Werden diese Pläne Realität\, werden alle Pläne für die Waldwiedervernetzung zunehmend unrealistisch [mehr Infos zum Thema]. \nWir ziehen deshalb erneut die Rote Linie\, an der ehemaligen A4-Trasse\, vor Manheim\, vor der BUND-Wiese\, vor der neuen Waldbesetzung im Manheimer Sündenwäldchen… \nMehr\nhttps://www.bund-nrw.de/termine/detail/event/rote-linie-am-hambacher-wald/ \nhttps://www.bund-nrw.de/themen/braunkohle/im-fokus/biotopverbund-rheinisches-revier/waldvernetzung-in-gefahr/
URL:https://koelle4future.de/event/rote-linie-am-tagebau-hambach/
LOCATION:Manheim\, Am Wäldchen 31\, Kerpen\, 50170\, Germany
CATEGORIES:Demo
ATTACH;FMTTYPE=image/jpeg:https://koelle4future.de/wp-content/uploads/2024/11/241124-rote-linie.jpg
END:VEVENT
END:VCALENDAR