BEGIN:VCALENDAR
VERSION:2.0
PRODID:-//Kölle for Future - ECPv6.15.20//NONSGML v1.0//EN
CALSCALE:GREGORIAN
METHOD:PUBLISH
X-ORIGINAL-URL:https://koelle4future.de
X-WR-CALDESC:Veranstaltungen für Kölle for Future
REFRESH-INTERVAL;VALUE=DURATION:PT1H
X-Robots-Tag:noindex
X-PUBLISHED-TTL:PT1H
BEGIN:VTIMEZONE
TZID:Europe/Berlin
BEGIN:DAYLIGHT
TZOFFSETFROM:+0100
TZOFFSETTO:+0200
TZNAME:CEST
DTSTART:20240331T010000
END:DAYLIGHT
BEGIN:STANDARD
TZOFFSETFROM:+0200
TZOFFSETTO:+0100
TZNAME:CET
DTSTART:20241027T010000
END:STANDARD
BEGIN:DAYLIGHT
TZOFFSETFROM:+0100
TZOFFSETTO:+0200
TZNAME:CEST
DTSTART:20250330T010000
END:DAYLIGHT
BEGIN:STANDARD
TZOFFSETFROM:+0200
TZOFFSETTO:+0100
TZNAME:CET
DTSTART:20251026T010000
END:STANDARD
BEGIN:DAYLIGHT
TZOFFSETFROM:+0100
TZOFFSETTO:+0200
TZNAME:CEST
DTSTART:20260329T010000
END:DAYLIGHT
BEGIN:STANDARD
TZOFFSETFROM:+0200
TZOFFSETTO:+0100
TZNAME:CET
DTSTART:20261025T010000
END:STANDARD
END:VTIMEZONE
BEGIN:VEVENT
DTSTART;TZID=Europe/Berlin:20250709T190000
DTEND;TZID=Europe/Berlin:20250709T220000
DTSTAMP:20260420T092732
CREATED:20250621T084837Z
LAST-MODIFIED:20250621T084856Z
UID:107081-1752087600-1752098400@koelle4future.de
SUMMARY:NaturMensch - Lesung im Allerweltshaus
DESCRIPTION:Auch in diesem Jahr veranstalten wir wieder im Rahmen des Kölner Klimafestivals unsere Lesung NaturMensch\, dieses mal in Kooperation mit dem Allerweltshaus. \nDie Lesung findet am Mittwoch\, den 09.07. 2025 im Allerweltshaus\, Geisselstraße 3-5 statt. Einlass 19:00 Uhr\, Beginn 19:30. \nDas Bild zeigt ein grünes Plakat mit dem Titel „NaturMensch“ und dem Untertitel „Blicke in eine offene Beziehung“. Es kündigt eine Lesung im Rahmen der Kölner Klimawoche an.Der Hintergrund ist in verschiedenen Grüntönen gehalten und zeigt eine große Blattform\, die die Natur symbolisiert.Der Text lautet:„Die Natur ist uns voraus in ihrer Fähigkeit\, das Leben immer wieder zu erneuern. Sie ist großzügig und erfinderisch. Darin scheint sie ein Versprechen zu geben:Als Paradies haben wir sie längst verlassen\, doch der höllische Abgrund ist nicht ihre Absicht.Sie zeigt andere Pfade in die Zukunft. Die Natur lehrt die Zuversicht am Lebendigen. Schauen wir ihr ab\, das Leben neu zu erfinden.“Im unteren rechten Bereich befindet sich ein Logo mit der Aufschrift „Parents 4 Future Köln“.
URL:https://koelle4future.de/event/naturmensch-lesung-allerweltshaus/
LOCATION:Allerweltshaus\, Geisselstraße 3\, Köln\, 50823\, Deutschland
CATEGORIES:Festival
ATTACH;FMTTYPE=image/png:https://koelle4future.de/wp-content/uploads/2025/05/NaturMensch-OPEN-Call-Slide-1-2025-2.png
END:VEVENT
END:VCALENDAR