BEGIN:VCALENDAR
VERSION:2.0
PRODID:-//Kölle for Future - ECPv6.15.20//NONSGML v1.0//EN
CALSCALE:GREGORIAN
METHOD:PUBLISH
X-ORIGINAL-URL:https://koelle4future.de
X-WR-CALDESC:Veranstaltungen für Kölle for Future
REFRESH-INTERVAL;VALUE=DURATION:PT1H
X-Robots-Tag:noindex
X-PUBLISHED-TTL:PT1H
BEGIN:VTIMEZONE
TZID:Europe/Berlin
BEGIN:DAYLIGHT
TZOFFSETFROM:+0100
TZOFFSETTO:+0200
TZNAME:CEST
DTSTART:20230326T010000
END:DAYLIGHT
BEGIN:STANDARD
TZOFFSETFROM:+0200
TZOFFSETTO:+0100
TZNAME:CET
DTSTART:20231029T010000
END:STANDARD
BEGIN:DAYLIGHT
TZOFFSETFROM:+0100
TZOFFSETTO:+0200
TZNAME:CEST
DTSTART:20240331T010000
END:DAYLIGHT
BEGIN:STANDARD
TZOFFSETFROM:+0200
TZOFFSETTO:+0100
TZNAME:CET
DTSTART:20241027T010000
END:STANDARD
BEGIN:DAYLIGHT
TZOFFSETFROM:+0100
TZOFFSETTO:+0200
TZNAME:CEST
DTSTART:20250330T010000
END:DAYLIGHT
BEGIN:STANDARD
TZOFFSETFROM:+0200
TZOFFSETTO:+0100
TZNAME:CET
DTSTART:20251026T010000
END:STANDARD
END:VTIMEZONE
BEGIN:VEVENT
DTSTART;TZID=Europe/Berlin:20240921T180000
DTEND;TZID=Europe/Berlin:20240921T210000
DTSTAMP:20260420T171038
CREATED:20240802T090052Z
LAST-MODIFIED:20240913T064133Z
UID:16147-1726941600-1726952400@koelle4future.de
SUMMARY:NaturMensch Lesung
DESCRIPTION:Im Rahmen der Klimawoche veranstaltet Parents for Future Köln eine Lesung mit dem Thema „NaturMensch“. \nSie soll Raum und Rahmen bieten\, sich literarisch mit dem Spannungsfeld des Themas zu beschäftigen. Selbst geschriebene literarische Texte der verschiedenen Gattungen wie Lyrik\, Erzählung\, Kurzgeschichte oder Essay sind gefragt und sollen eine Bühne bekommen. \nMit einem zeitlichen Rahmen von sieben Minuten werden die Texte im Rahmen der Lesung dann von den Autor*innen selbst vorgetragen. Musikalische Elemente werden die Veranstaltung unterstreichen. \nTermin der Lesung: \n21.September 2024 um 18:00 Uhr \nOrt: \nLiteraturhaus Köln e.V.\, Großer Griechenmarkt 39\, 50676 Köln \nWir freuen uns auf zahlreiche Beteiligung! \nTexte können bis zum 6. September 2024eingesendet werden: \nkoeln@parentsforfuture.de Betreff: Lesung „NaturMensch“ \nUnsere Rückmeldung erfolgt am 15.09.2024 \nOffene Fragen können ebenfalls gestellt werden unter koeln@parentsforfuture.de \n 
URL:https://koelle4future.de/event/naturmensch-lesung/
LOCATION:Literaturhaus Köln\, Großer Griechenmarkt 39\, Köln\, 50676\, Deutschland
CATEGORIES:Kultur,Mach was!
ATTACH;FMTTYPE=image/jpeg:https://koelle4future.de/wp-content/uploads/2024/08/fullsizeoutput_c98.jpeg
END:VEVENT
END:VCALENDAR