BEGIN:VCALENDAR
VERSION:2.0
PRODID:-//Kölle for Future - ECPv6.15.20//NONSGML v1.0//EN
CALSCALE:GREGORIAN
METHOD:PUBLISH
X-ORIGINAL-URL:https://koelle4future.de
X-WR-CALDESC:Veranstaltungen für Kölle for Future
REFRESH-INTERVAL;VALUE=DURATION:PT1H
X-Robots-Tag:noindex
X-PUBLISHED-TTL:PT1H
BEGIN:VTIMEZONE
TZID:Europe/Berlin
BEGIN:DAYLIGHT
TZOFFSETFROM:+0100
TZOFFSETTO:+0200
TZNAME:CEST
DTSTART:20240331T010000
END:DAYLIGHT
BEGIN:STANDARD
TZOFFSETFROM:+0200
TZOFFSETTO:+0100
TZNAME:CET
DTSTART:20241027T010000
END:STANDARD
BEGIN:DAYLIGHT
TZOFFSETFROM:+0100
TZOFFSETTO:+0200
TZNAME:CEST
DTSTART:20250330T010000
END:DAYLIGHT
BEGIN:STANDARD
TZOFFSETFROM:+0200
TZOFFSETTO:+0100
TZNAME:CET
DTSTART:20251026T010000
END:STANDARD
BEGIN:DAYLIGHT
TZOFFSETFROM:+0100
TZOFFSETTO:+0200
TZNAME:CEST
DTSTART:20260329T010000
END:DAYLIGHT
BEGIN:STANDARD
TZOFFSETFROM:+0200
TZOFFSETTO:+0100
TZNAME:CET
DTSTART:20261025T010000
END:STANDARD
END:VTIMEZONE
BEGIN:VEVENT
DTSTART;TZID=Europe/Berlin:20250604T190000
DTEND;TZID=Europe/Berlin:20250604T210000
DTSTAMP:20260421T110635
CREATED:20250529T171353Z
LAST-MODIFIED:20250529T171353Z
UID:106806-1749063600-1749070800@koelle4future.de
SUMMARY:Vernetzungstreffen
DESCRIPTION:Gemeinsam mehr bewegen!\nKomm zum Vernetzungstreffen der Kölner Klima- und Umweltgruppen zur Kommunalwahl 2025. \nWir freuen uns auf euch! \n04.06.25\, 19 Uhr Allerweltshaus Geisselstr. 3-5 Köln-Ehrenfeld
URL:https://koelle4future.de/event/vernetzungstreffen-2/
LOCATION:Allerweltshaus\, Geisselstraße 3\, Köln\, 50823\, Deutschland
CATEGORIES:Mach was!
ATTACH;FMTTYPE=image/jpeg:https://koelle4future.de/wp-content/uploads/2025/05/260604-planungstreffen.jpg
END:VEVENT
END:VCALENDAR