BEGIN:VCALENDAR
VERSION:2.0
PRODID:-//Kölle for Future - ECPv6.15.20//NONSGML v1.0//EN
CALSCALE:GREGORIAN
METHOD:PUBLISH
X-WR-CALNAME:Kölle for Future
X-ORIGINAL-URL:https://koelle4future.de
X-WR-CALDESC:Veranstaltungen für Kölle for Future
REFRESH-INTERVAL;VALUE=DURATION:PT1H
X-Robots-Tag:noindex
X-PUBLISHED-TTL:PT1H
BEGIN:VTIMEZONE
TZID:Europe/Berlin
BEGIN:DAYLIGHT
TZOFFSETFROM:+0100
TZOFFSETTO:+0200
TZNAME:CEST
DTSTART:20240331T010000
END:DAYLIGHT
BEGIN:STANDARD
TZOFFSETFROM:+0200
TZOFFSETTO:+0100
TZNAME:CET
DTSTART:20241027T010000
END:STANDARD
BEGIN:DAYLIGHT
TZOFFSETFROM:+0100
TZOFFSETTO:+0200
TZNAME:CEST
DTSTART:20250330T010000
END:DAYLIGHT
BEGIN:STANDARD
TZOFFSETFROM:+0200
TZOFFSETTO:+0100
TZNAME:CET
DTSTART:20251026T010000
END:STANDARD
BEGIN:DAYLIGHT
TZOFFSETFROM:+0100
TZOFFSETTO:+0200
TZNAME:CEST
DTSTART:20260329T010000
END:DAYLIGHT
BEGIN:STANDARD
TZOFFSETFROM:+0200
TZOFFSETTO:+0100
TZNAME:CET
DTSTART:20261025T010000
END:STANDARD
END:VTIMEZONE
BEGIN:VEVENT
DTSTART;TZID=Europe/Berlin:20250507T190000
DTEND;TZID=Europe/Berlin:20250507T210000
DTSTAMP:20260421T163553
CREATED:20250502T180028Z
LAST-MODIFIED:20250502T175456Z
UID:106221-1746644400-1746651600@koelle4future.de
SUMMARY:Kommunalwahl 2025 - Gemeinsam lauter!
DESCRIPTION:Klimawende e.V. und Parents for Future Köln laden euch (nochmal) ein: \nzu dem Vernetzungstreffen am 7.5.2025\, 19 Uhr im Allerweltshaus (großer Saal) \nLiebe Klima-\, Naturschutz und Umweltgruppen und alle\, denen die Zukunft am Herzen liegt\, \nwir sind viele! \nWäre es daher nicht stark\, wir würden uns zusammentun\, um anlässlich der Kommunalwahl ein deutlich sichtbares Zeichen für Umwelt-\, Natur und Klimaschutz in Köln zu setzen\, nachhaltig und sozial gerecht? \nWo\, wann und wie\, wollen wir mit euch gemeinsam entwickeln. \nViele haben ja bereits Erfahrungen mit verschiedensten Aktionsformen und könnten ihr Know-how hier einbringen\, andere näher kennenlernen sowie Möglichkeiten für Kooperationen ausloten. \nWir freuen uns auf euch!\nKlimawende und Parents for Future Köln
URL:https://koelle4future.de/event/kommunalwahl-2025-vernetzung/
LOCATION:Allerweltshaus\, Geisselstraße 3\, Köln\, 50823\, Deutschland
CATEGORIES:Plenum,Vortrag und Austausch
ATTACH;FMTTYPE=image/jpeg:https://koelle4future.de/wp-content/uploads/2024/08/201017-NRW-Tag35k.jpg
END:VEVENT
END:VCALENDAR