BEGIN:VCALENDAR
VERSION:2.0
PRODID:-//Kölle for Future - ECPv6.15.20//NONSGML v1.0//EN
CALSCALE:GREGORIAN
METHOD:PUBLISH
X-WR-CALNAME:Kölle for Future
X-ORIGINAL-URL:https://koelle4future.de
X-WR-CALDESC:Veranstaltungen für Kölle for Future
REFRESH-INTERVAL;VALUE=DURATION:PT1H
X-Robots-Tag:noindex
X-PUBLISHED-TTL:PT1H
BEGIN:VTIMEZONE
TZID:Europe/Berlin
BEGIN:DAYLIGHT
TZOFFSETFROM:+0100
TZOFFSETTO:+0200
TZNAME:CEST
DTSTART:20230326T010000
END:DAYLIGHT
BEGIN:STANDARD
TZOFFSETFROM:+0200
TZOFFSETTO:+0100
TZNAME:CET
DTSTART:20231029T010000
END:STANDARD
BEGIN:DAYLIGHT
TZOFFSETFROM:+0100
TZOFFSETTO:+0200
TZNAME:CEST
DTSTART:20240331T010000
END:DAYLIGHT
BEGIN:STANDARD
TZOFFSETFROM:+0200
TZOFFSETTO:+0100
TZNAME:CET
DTSTART:20241027T010000
END:STANDARD
BEGIN:DAYLIGHT
TZOFFSETFROM:+0100
TZOFFSETTO:+0200
TZNAME:CEST
DTSTART:20250330T010000
END:DAYLIGHT
BEGIN:STANDARD
TZOFFSETFROM:+0200
TZOFFSETTO:+0100
TZNAME:CET
DTSTART:20251026T010000
END:STANDARD
END:VTIMEZONE
BEGIN:VEVENT
DTSTART;TZID=Europe/Berlin:20241107T110000
DTEND;TZID=Europe/Berlin:20241107T120000
DTSTAMP:20260421T104944
CREATED:20241106T125207Z
LAST-MODIFIED:20241106T125207Z
UID:17879-1730977200-1730980800@koelle4future.de
SUMMARY:Die Nutzen-Kosten-Untersuchung zur Stadtbahn auf der Ost-West-Achse wurde stark manipuliert und ist in Teilen falsch.
DESCRIPTION:Einladung zur Pressekonferenz am Donnerstag\, 07.11.2024\, 11:00 Uhr im DGB-Haus\, 1. Etg.\, großer Saal\, Hans-Böckler-Platz\nHerr Dr. Vieregg von der „Innovativen Verkehrsberatung Vieregg-Rössler GmbH“ wird auf einer Pressekonferenz am Donnerstag\, dem 7. November um 11:00 Uhr seine Stellungnahmen zur Nutzen-Kosten-Untersuchung zur Ost-West-Achse vorstellen. \nNäheres dazu in unserer Pressemitteilung (PDF) \n„Es ist sicher\, dass der Nutzen-Kosten-Wert der Tunnelvariante deutlich unter 1\,0 liegt\, unter Umständen liegt er sogar unter 0\,0. Somit ist die Tunnelvariante nicht mit Bundesund Landesmitteln förderfähig.“ \nDies stellt Herr Dr. Vieregg von der „Innovativen Verkehrsberatung Vieregg-Rössler GmbH“\, nach Prüfung der Nutzen-Kosten-Untersuchung der Fa. Spiekermann zur Tunnelvariante auf der Ost-West-Achse fest. Er weist entsprechende Fehler in dieser Untersuchung nach. \n 
URL:https://koelle4future.de/event/die-nutzen-kosten-untersuchung-zur-stadtbahn-auf-der-ost-west-achse-wurde-stark-manipuliert-und-ist-in-teilen-falsch/
LOCATION:DGB Haus Köln\, Hans-Böckler-Platz 1\, Köln\, 50672\, Germany
CATEGORIES:Vortrag und Austausch
ATTACH;FMTTYPE=image/jpeg:https://koelle4future.de/wp-content/uploads/2020/03/verkehrswende-scaled.jpeg
END:VEVENT
BEGIN:VEVENT
DTSTART;TZID=Europe/Berlin:20241111T190000
DTEND;TZID=Europe/Berlin:20241111T210000
DTSTAMP:20260421T104945
CREATED:20241106T150245Z
LAST-MODIFIED:20241106T150245Z
UID:17881-1731351600-1731358800@koelle4future.de
SUMMARY:Plenum Bündnis Verkehrswende Köln (Online)
DESCRIPTION:HINWEIS: WÄHREND DER WINTERMONATE WOLLEN WIR UNS NUR ONLINE TREFFEN! \nBeim Plenum diskutieren wir gemeinsam inhaltliche Themen zur Verkehrspolitik und planen unsere Aktionen. Oft stellen unsere Arbeitsgruppen inhaltliche Ergebnisse oder Aktionsvorschläge vor. Wenn Du Dich für eine fortschrittliche und klimapolitisch verantwortliche Verkehrspolitik engagieren möchtest\, bist Du herzlich willkommen. \nAnmeldungen bitte gerne an info@verkehrswende.koeln \nUnser Plenum findet in der Regel am zweiten Montag im Monat statt. \nDas nächste Plenum findet am 11.11.2024 statt. Beginn um 19:00 Uhr. \nThemen dieses Mal u.a.: Entscheidung zur Ost-West-Achse („oben“ oder „unten“?) \nZeit: Montag\, 11. November 2024\, 19:00 Uhr bis ca. 21:00 Uhr
URL:https://koelle4future.de/event/2411-plenum-verkehrswende-koeln/
LOCATION:Online
CATEGORIES:Plenum
ATTACH;FMTTYPE=image/jpeg:https://koelle4future.de/wp-content/uploads/2024/04/2404-oben-bleiben.jpg
END:VEVENT
BEGIN:VEVENT
DTSTART;TZID=Europe/Berlin:20241114T143000
DTEND;TZID=Europe/Berlin:20241114T153000
DTSTAMP:20260421T104945
CREATED:20241106T150555Z
LAST-MODIFIED:20241106T150555Z
UID:17883-1731594600-1731598200@koelle4future.de
SUMMARY:Kundgebung vor der Ratssitzung
DESCRIPTION:Bündnis Verkehrswende Köln ruft zur Kundgebung gegen den Ost-West-Tunnel auf\nVor der um 14:30 Uhr beginnenden Sitzung des Stadtrates wollen wir unseren laustarken Protest gegen das wahnsinnige Großprojekt Ost-West-Tunnel kundtun\, über das an diesem Tag entschieden werden soll. \nDie Kölner Innenstadt würde für 20 Jahre aufgebuddelt und Milliarden im Boden zu versenkt\, statt die KVB oberirdisch zügig zu ertüchtigen. Der KVB-Vorstand hat wahrlich genug Baustellen: Personalmangel\, Fahrplankürzungen\, Streichen aller Ausbauprojekte außer dem Tunnel\, kaputte Rolltreppen und Aufzüge\, fehlende Ersatzteile\, ausfallende Bahnen\, die Nord-Süd-Bahn ist noch nicht fertig und kostet die Stadt bisher schon über 1\,1\, Milliarden – die KVB braucht nicht noch ein Wahnsinns-Bauprojekt. \nKommt alle vorbei!
URL:https://koelle4future.de/event/kundgebung-vor-der-ratssitzung/
LOCATION:Rathaus Köln – Theo-Burauen-Platz\, Unter Goldschmied 9\, Köln\, 50667\, Deutschland
CATEGORIES:Demo
ATTACH;FMTTYPE=image/jpeg:https://koelle4future.de/wp-content/uploads/2024/04/2404-oben-bleiben.jpg
END:VEVENT
BEGIN:VEVENT
DTSTART;TZID=Europe/Berlin:20241116T160000
DTEND;TZID=Europe/Berlin:20241116T170000
DTSTAMP:20260421T104945
CREATED:20241114T103606Z
LAST-MODIFIED:20250626T063834Z
UID:17961-1731772800-1731776400@koelle4future.de
SUMMARY:Sichere Luxemburger Straße für alle: Unfälle verhindern\, nicht verwalten!
DESCRIPTION:Wann? Samstag\, 16. November\, 16-17 Uhr\nTreffpunkt: Luxemburger Straße / Klettenbergpark\nZiel: Luxemburger Straße / Gottesweg \nUnser 5-Punkte Plan für die Luxemburger Straße – Demonstration:\nKöln\, 12.11.2024: Nach mehreren Unfällen mit Schwerverletzten und Toten auf der Luxemburger Straße in Sülz und Klettenberg demonstriert die IG Lebenswerte Lux mit einem Bündnis aus zivilgesellschaftlichen Initiativen für die Gewährleistung von Verkehrssicherheit. Es beteiligen sich FUSS e.V.\, Kidical Mass-Aktionsbündnis\, Verkehrsclub Deutschland\, ADFC Köln sowie Fahrrad-Entscheid Köln. \nSeit 2022 setzt sich die IG Lebenswerte Lux für eine lebenswerte und zukunftsgewandte Luxemburger Straße ein. Anlass der Gründung war ein tödlicher Unfall im Jahr 2021\, in dem eine 81-Jährige Radfahrerin durch eine unachtsam geöffnete Autotür getötet wurde. In den darauffolgenden Jahren ereigneten sich weitere Unfälle mit Schwerverletzten und gar Todesfolge. Politische Anträge\, um die Situation auf der Lux zu verändern\, gibt es aktuell nicht. Es stellt sich zunehmend auch die Frage\, inwiefern Schwerlastverkehr mit innerstädtischen Geschäftsstraßen noch verträglich ist. \nUnser 5-Punkte Plan für eine sichere Luxemburger Straße: \n\nKonfliktfreie Ampelschaltungen\, wo der abbiegende Autoverkehr nicht zeitgleich Grün mit dem Rad- und Fußverkehr erhält\nTempo 30 als Sofortmaßnahme zur Gewährleistung der Verkehrssicherheit und Minderung von Unfallfolgen\nEinrichten von Radfahrstreifen auf der rechten Fahrspur der Lux sowie an angrenzenden Hauptverkehrsstraßen\nAbbau der freilaufenden Rechtsabbieger an der Universitätsstraße\nPolizeiliche Kontrollen von Schrittgeschwindigkeit beim Rechtsabbiegen von Lkw\, Zweite Reihe-Parken\, Rotlichtverstößen sowie Überholabständen zwischen dem Kfz- und Radverkehr\n\nWir laden alle dazu ein\, sich uns anzuschließen. Wir werden die Luxemburger Straße zu Fuß vom Klettenbergpark bis zum Gottesweg begehen. Auf der Strecke werden wir an Stellen\, wo es zu tödlichen Unfällen gekommen ist\, anhalten. Am Gottesweg werden wir zu einem „Die-In“ aufrufen: Wir legen und setzen uns auf die Fahrbahn\, um auf die Verletzlichkeit von Menschen aufmerksam zu machen\, die zu Fuß oder mit dem Rad unterwegs sind. \n„Mehrmals im Jahr müssen wir schwere oder gar tödliche Unfälle auf der Luxemburger Straße schmerzvoll zur Kenntnis nehmen. Dabei haben wir alle ein Grundrecht auf Leben und körperliche Unversehrtheit. Gleichzeitig liegen keine politischen Anträge vor\, die Verkehrssicherheit endlich herzustellen. Wir haben deshalb fünf konkrete Maßnahmen erarbeitet: sichere Ampelschaltungen\, Geschwindigkeitsreduzierung\, die Trennung der Verkehrsarten\, Abbau der freilaufenden Rechtsabbieger sowie Kontrollen durch die Polizei. \nWir appellieren an die politisch Verantwortlichen\, sich für die Umsetzung dieser Maßnahmen auszusprechen und eine Mehrheit zu finden.“\n— Dominik Kerl\, Sprecher IG Lebenswerte Lux \nÜber die Interessengemeinschaft Lebenswerte Lux\nDie Interessengemeinschaft (IG) Lebenswerte Lux hat sich im Frühjahr 2022 gegründet und setzt sich für eine lebenswerte und zukunftsgewandte Luxemburger Straße ein. Die Luxemburger Straße wird als Ort zum Wohnen\, Einkaufen\, Besuchen der Gastronomie sowie auch als Verkehrsachse mit dem Auto\, dem Rad und zu Fuß genutzt. Um die Aufenthalts- und Wohnqualität zu steigern\, setzt sich die IG für eine Lärmreduzierung\, bessere Luftreinhaltung und höhere Verkehrssicherheit ein. Denn zu Fuß Gehende und Radfahrende jeden Alters sollen sicher auf der Lux unterwegs sein können. \nWeitere Informationen sind unter www.lebenswerte-lux.koeln abrufbar. \n 
URL:https://koelle4future.de/event/sichere-luxemburger-strasse-fuer-alle-unfaelle-verhindern-nicht-verwalten/
LOCATION:Klettenbergpark\, Luxemburger Str. 349\, Köln\, 50939\, Germany
CATEGORIES:Demo
ATTACH;FMTTYPE=image/jpeg:https://koelle4future.de/wp-content/uploads/2024/11/241116-lux.jpeg
END:VEVENT
BEGIN:VEVENT
DTSTART;TZID=Europe/Berlin:20241129T174500
DTEND;TZID=Europe/Berlin:20241129T200000
DTSTAMP:20260421T104945
CREATED:20241129T081021Z
LAST-MODIFIED:20241129T081021Z
UID:18147-1732902300-1732910400@koelle4future.de
SUMMARY:Critical Mass Köln
DESCRIPTION:Die Kölner Critical Mass wird jeden letzten Freitag im Monat gefahren. Treffpunkt ist um 17:30 Uhr am Rudolfplatz unter dem Hahnentor\, los geht es dann üblicherweise spätestens um 18:00 Uhr
URL:https://koelle4future.de/event/2411-critical-mass-koeln/
LOCATION:Rudolfplatz\, Rudolfplatz\, Köln\, 50674\, Deutschland
CATEGORIES:Demo,Mach was!
ATTACH;FMTTYPE=image/png:https://koelle4future.de/wp-content/uploads/2024/11/2411-critical-mass.png
END:VEVENT
END:VCALENDAR