BEGIN:VCALENDAR
VERSION:2.0
PRODID:-//Kölle for Future - ECPv6.15.20//NONSGML v1.0//EN
CALSCALE:GREGORIAN
METHOD:PUBLISH
X-ORIGINAL-URL:https://koelle4future.de
X-WR-CALDESC:Veranstaltungen für Kölle for Future
REFRESH-INTERVAL;VALUE=DURATION:PT1H
X-Robots-Tag:noindex
X-PUBLISHED-TTL:PT1H
BEGIN:VTIMEZONE
TZID:Europe/Berlin
BEGIN:DAYLIGHT
TZOFFSETFROM:+0100
TZOFFSETTO:+0200
TZNAME:CEST
DTSTART:20230326T010000
END:DAYLIGHT
BEGIN:STANDARD
TZOFFSETFROM:+0200
TZOFFSETTO:+0100
TZNAME:CET
DTSTART:20231029T010000
END:STANDARD
BEGIN:DAYLIGHT
TZOFFSETFROM:+0100
TZOFFSETTO:+0200
TZNAME:CEST
DTSTART:20240331T010000
END:DAYLIGHT
BEGIN:STANDARD
TZOFFSETFROM:+0200
TZOFFSETTO:+0100
TZNAME:CET
DTSTART:20241027T010000
END:STANDARD
BEGIN:DAYLIGHT
TZOFFSETFROM:+0100
TZOFFSETTO:+0200
TZNAME:CEST
DTSTART:20250330T010000
END:DAYLIGHT
BEGIN:STANDARD
TZOFFSETFROM:+0200
TZOFFSETTO:+0100
TZNAME:CET
DTSTART:20251026T010000
END:STANDARD
END:VTIMEZONE
BEGIN:VEVENT
DTSTART;TZID=Europe/Berlin:20241002T100000
DTEND;TZID=Europe/Berlin:20241002T170000
DTSTAMP:20260421T163549
CREATED:20240914T084521Z
LAST-MODIFIED:20240929T175741Z
UID:16723-1727863200-1727888400@koelle4future.de
SUMMARY:Erntefest: Fiesta de la Milpa
DESCRIPTION:Flyer zur Veranstaltung \nVormittags: Deutschsprachiges Programm\n\n10 UHR Ankommen und Begrüßung\n10.30 UHR Austellungseröffnung: Der Mais und seine Reise durch die Welt: + Rundgang\n11 UHR Deutschsprachiges Puppentheater :Mazorquita sucht ihre Freund:innen\nAB 11.30 UHR Spielstationen und Parcours : Mais und Globale Landwirtschaft\n\nNachmittags: Spanisch-/Deutschsprachiges Programm\n\n14.00 UHR Grußwort und Vorstellung des Projektes MAIZ\n15.00 UHR Spanischsprachiges Puppentheater :Mazorquita sucht ihre Freund:innen\nmit anschließendem Parcours und Spielstationen\n16.00 UHR Die Milpa – biodiverser Kultur-und Lebensraum:\nDiashow: Milpaerfahrungen aus NRW (Theatersaal)\nVortrag: Andres (Gramor e.V.): (Foyer)\nInfotische lokaler und überregionaler Projekte\,\nRundgang Ausstellung mit Jaime Rodríguez (kollektiv tonalli)\nTortilla Workshop mit Maite Garcia Cruz & Carlos\n17.00 UHR Abschluss und Verabschiedung\n\nIn der Projektreihe MAIZ beschäftigen wir uns mit den Themen Ernährungssouveränität und globale Landwirtschaft. Durch künstlerische-pädagogische Methoden machen wir greif- und erlebbar\, wie im globalen Agrarsystem Alles mit Allem zusammenhängt. Dabei arbeiten wir exemplarisch anhand der Maispflanze\, die einerseits für Monokultur und industrielle Landwirtschaft\, andererseits aber auch für Biodiversität und nachhaltige Anbaumethoden\, wie sie z.B. in dem Konzept der Milpa zu finden ist\, steht. \nFür unser aktuelles Projekt :Der Mais und seine Kinder haben wir Bildungsformate v.a. für Kinder im Vor-/Grundschulalter\, schulische und außerschulische Bildungseinrichtungen und Multiplikator:innen erarbeitet: \nPUPPENTHEATER\n:Mazorquita sucht ihre Freund:innen9 erzählt von dem kleinen Maiskolben Mazorquita\, der sich auf die Reise um die Welt macht\, um ihre verloren gegangenen Freund:innen aus der Milpa finden. \nAuf der Reise lernt sie nicht nur viel über Kultur\, Geschichte und Herkunft der Nutzpflanze kennen\, sondern auch über die Notwendigkeit\, gemeinsam Lösungen zu finden. Ein spannendes Abenteuer rund um die Themen Ernährungssouveränität\, Biodiversität und globale Landwirtschaft. \nSPIELSTATIONEN/ PARCOURS\nDer Spieleparcours zum Thema Mais und Globale Landwirtschaft vertieft auf spielerische Weise die im Puppentheater aufgegriffenen Themen. In verschiedenen Stationen können die Kinder mehr über die Nutz- und Kulturpflanze Mais\, Herkunft und Produktion unserer Lebensmittel und die Anbaumethode der Milpa erfahren\, Vielfalt entdecken und selbst kreativ werden. \nAUSSTELLUNG\nDie Ausstellung porträtiert Geschichte und globale Verbreitung des Maises und geht u.a. auf die Frage ein\, was die Maispflanze mit (neo-)kolonialen Strukturen\, kulturellem Gedächtnis und kleinbäuerlichem Widerstand zu tun hat. Die mehr als 200 Illustrationen des Künstlers Jaime Rodriguez Inungaray (kollektiv tonalli) dienten zudem als Grundlage für den deutsch-spanischen Comic „El maíz-nuestro sustento“\, der im Rahmen unseres Projektes MAIZ entstanden ist. \nINFOTISCHE\nInformationen unserer Kooperationspartner\, regionaler und überregionaler Projekte zu den Themen Agrarbiodiversität\, nachhaltige Landwirtschaft\, Klimawandel\, Lateinamerika.. \nANFAHRT:\nVHS im Bezirksrathaus Mülheim\nWiener Platz 2a\, 51065 Köln\nHaltestelle Wiener Platz\nStadtbahn: Linien 4\, 13 und 18\nBus: Linien 151\, 152\, 153\, 159\, 190\, 250\, 260\, 434\nParkmöglichkeiten: CONTIPARK Parkhaus Galerie\nWiener Platz \nAus Platzgründen wird um ANMELDUNG gebeten: vhs-kundenzentrum@stadt-koeln.de
URL:https://koelle4future.de/event/erntefest-fiesta-de-la-milpa/
LOCATION:VHS Mülheim\, Wiener Platz 2a\, Köln\, 51065\, Germany
CATEGORIES:Festival,Kultur
ATTACH;FMTTYPE=image/jpeg:https://koelle4future.de/wp-content/uploads/2024/09/2410-maiz01.jpg
ORGANIZER;CN="Maiz":MAILTO:maiz@treemedia.org
END:VEVENT
BEGIN:VEVENT
DTSTART;TZID=Europe/Berlin:20241029T140000
DTEND;TZID=Europe/Berlin:20241029T210000
DTSTAMP:20260421T163549
CREATED:20241018T144857Z
LAST-MODIFIED:20241018T144857Z
UID:17699-1730210400-1730235600@koelle4future.de
SUMMARY:SDG Fachtag
DESCRIPTION:Das Bündnis Kommunale Nachhaltigkeit Köln lädt am 29. Oktober 2024 ab 14 Uhr in die Alte Feuerwache zum SDG-Fachtag 2024 ein\, um konkret mit Euch und Ihnen über Konzepte\, Schritte und Maßnahmen zu diskutieren\, wie soziale Nachhaltigkeit in Köln gestärkt werden kann! \nWenn es um das Thema Nachhaltigkeit geht\, denken viele zunächst an Klimakrise und die drängendsten Umweltfragen  –  aber wie sieht es mit der sozialen Dimension von Nachhaltigkeit aus? Denn auch die soziale Nachhaltigkeit befindet sich derzeit in einer Krise\, wie z.B. die Wahlergebnisse und die sich verschärfende Ungleichheit der Einkommens- und Wohlstandsverteilung zeigen. Aber welche Aspekte beinhaltet die soziale Nachhaltigkeit\, wie hängt diese mit Gerechtigkeit und unserer Demokratie zusammen und was können wir hier in Köln konkret tun\, die soziale Dimension der Nachhaltigkeit wieder auf sichere Beine zu stellen? \nNachmittags laden unterschiedliche Kölner Initiativen bei Workshops dazu ein\, sich in unterschiedlichen Themenfeldern der sozialen Nachhaltigkeit – von Partizipation und Bürger*innenbeteiligung\, über die derzeitige Situation von Geflüchteten\, Wohnraumpolitik und Fragen von Demokratie und Mediennutzung bei Kindern und Jugendlichen – tiefergehend mit konkreten Fragen lokaler Veränderung zu befassen. \nAbends sprechen wir mit Akteur*innen aus Verwaltung und Zivilgesellschaft bei einer Podiumsdiskussion darüber warum soziale Nachhaltigkeit ein wichtiger Pfeiler unserer Demokratie ist. \nAußerdem wird die neue Broschüre vom Bündnis Kommunale Nachhaltigkeit Köln „Impulse für die nachhaltige Transformation Kölns – Wege zur Umsetzung der Sustainable Development Goals“ erstmals vorgestellt. \nEinlass: ab 14 Uhr\, Programmbeginn: ab 15 Uhr. Weitere Informationen zu Programm findet ihr unter: https://bkn.koeln/news-events/  \nAnmeldung unter: projekte@koelnagenda.de \nDie Veranstaltung ist kostenfrei und findet in der Alten Feuerwache Köln (Melchiorstr. 3\, 50670 Köln) statt. \nDie Veranstaltung wird gefördert von der Stadt Köln.
URL:https://koelle4future.de/event/sdg-fachtag/
LOCATION:Alte Feuerwache Köln\, Melchiorstraße 3\, Köln\, 50670\, Deutschland
CATEGORIES:Mach was!
ATTACH;FMTTYPE=image/jpeg:https://koelle4future.de/wp-content/uploads/2024/10/241029-sdg-tag.jpg
END:VEVENT
END:VCALENDAR