BEGIN:VCALENDAR
VERSION:2.0
PRODID:-//Kölle for Future - ECPv6.15.20//NONSGML v1.0//EN
CALSCALE:GREGORIAN
METHOD:PUBLISH
X-WR-CALNAME:Kölle for Future
X-ORIGINAL-URL:https://koelle4future.de
X-WR-CALDESC:Veranstaltungen für Kölle for Future
REFRESH-INTERVAL;VALUE=DURATION:PT1H
X-Robots-Tag:noindex
X-PUBLISHED-TTL:PT1H
BEGIN:VTIMEZONE
TZID:Europe/Berlin
BEGIN:DAYLIGHT
TZOFFSETFROM:+0100
TZOFFSETTO:+0200
TZNAME:CEST
DTSTART:20240331T010000
END:DAYLIGHT
BEGIN:STANDARD
TZOFFSETFROM:+0200
TZOFFSETTO:+0100
TZNAME:CET
DTSTART:20241027T010000
END:STANDARD
BEGIN:DAYLIGHT
TZOFFSETFROM:+0100
TZOFFSETTO:+0200
TZNAME:CEST
DTSTART:20250330T010000
END:DAYLIGHT
BEGIN:STANDARD
TZOFFSETFROM:+0200
TZOFFSETTO:+0100
TZNAME:CET
DTSTART:20251026T010000
END:STANDARD
BEGIN:DAYLIGHT
TZOFFSETFROM:+0100
TZOFFSETTO:+0200
TZNAME:CEST
DTSTART:20260329T010000
END:DAYLIGHT
BEGIN:STANDARD
TZOFFSETFROM:+0200
TZOFFSETTO:+0100
TZNAME:CET
DTSTART:20261025T010000
END:STANDARD
END:VTIMEZONE
BEGIN:VEVENT
DTSTART;TZID=Europe/Berlin:20250710T170000
DTEND;TZID=Europe/Berlin:20250710T200000
DTSTAMP:20260420T031532
CREATED:20250618T060036Z
LAST-MODIFIED:20250617T072856Z
UID:106992-1752166800-1752177600@koelle4future.de
SUMMARY:Kick Off Green Agents Netzwerk
DESCRIPTION:10.07.25 von 17-20 Uhr – Büze Ehrenfeld\nHast du Interesse an mehrsprachiger und niederschwelliger Umweltbildung? Sind für dich die Perspektiven des Globalen Südens zu Umweltgerechtigkeit wichtig? \nDann bist du bei uns genau richtig!\n\n\nNeben verschiedenen Workshops und Bühnenbeiträgen rund ums Netzwerk und seinen Aktivitäten wird es auch einen Markt der Möglichkeiten mit Infos der Netzwerkmitglieder geben.\nAls besonderen Gast werden wir Imani Nsamila aus Tanzania dabei haben\, ein preisgekrönter Fotograf\, der Klimawandelfolgen in Ostafrika dokumentiert.\n\nMehr Infos und Kontakt: www.greenagents.de/kickoff\n\nWir freuen uns auf deinen Besuch!
URL:https://koelle4future.de/event/kick-off-green-agents-netzwerk/
LOCATION:BüZe Ehrenfeld\, Venloer Straße 429\, Köln\, 50825\, Germany
CATEGORIES:Mach was!
END:VEVENT
END:VCALENDAR