BEGIN:VCALENDAR
VERSION:2.0
PRODID:-//Kölle for Future - ECPv6.15.20//NONSGML v1.0//EN
CALSCALE:GREGORIAN
METHOD:PUBLISH
X-ORIGINAL-URL:https://koelle4future.de
X-WR-CALDESC:Veranstaltungen für Kölle for Future
REFRESH-INTERVAL;VALUE=DURATION:PT1H
X-Robots-Tag:noindex
X-PUBLISHED-TTL:PT1H
BEGIN:VTIMEZONE
TZID:Europe/Berlin
BEGIN:DAYLIGHT
TZOFFSETFROM:+0100
TZOFFSETTO:+0200
TZNAME:CEST
DTSTART:20240331T010000
END:DAYLIGHT
BEGIN:STANDARD
TZOFFSETFROM:+0200
TZOFFSETTO:+0100
TZNAME:CET
DTSTART:20241027T010000
END:STANDARD
BEGIN:DAYLIGHT
TZOFFSETFROM:+0100
TZOFFSETTO:+0200
TZNAME:CEST
DTSTART:20250330T010000
END:DAYLIGHT
BEGIN:STANDARD
TZOFFSETFROM:+0200
TZOFFSETTO:+0100
TZNAME:CET
DTSTART:20251026T010000
END:STANDARD
BEGIN:DAYLIGHT
TZOFFSETFROM:+0100
TZOFFSETTO:+0200
TZNAME:CEST
DTSTART:20260329T010000
END:DAYLIGHT
BEGIN:STANDARD
TZOFFSETFROM:+0200
TZOFFSETTO:+0100
TZNAME:CET
DTSTART:20261025T010000
END:STANDARD
END:VTIMEZONE
BEGIN:VEVENT
DTSTART;TZID=Europe/Berlin:20250109T133000
DTEND;TZID=Europe/Berlin:20250109T180000
DTSTAMP:20260423T031457
CREATED:20250109T102311Z
LAST-MODIFIED:20250112T104037Z
UID:18770-1736429400-1736445600@koelle4future.de
SUMMARY:Forderungen zur Bundestagswahl
DESCRIPTION:Spaziergang zu den Parteizentralen in Köln\, um die Forderungen zu übergeben. \nStart: SPD Parteizentrale um 13:30 Uhr \nAusklang: Alte Feuerwache \nMehr Infos\nForderungen zur Bundestagswahl 2025 – Kölle for Future
URL:https://koelle4future.de/event/forderungen-zur-bundestagswahl/
LOCATION:SPD Zentrale Köln\, Magnusstr. 18b\, Köln\, 50672\, Germany
CATEGORIES:Mach was!
ATTACH;FMTTYPE=image/jpeg:https://koelle4future.de/wp-content/uploads/2024/09/240920-klimastreik01.jpeg
END:VEVENT
END:VCALENDAR