BEGIN:VCALENDAR
VERSION:2.0
PRODID:-//Kölle for Future - ECPv6.15.20//NONSGML v1.0//EN
CALSCALE:GREGORIAN
METHOD:PUBLISH
X-ORIGINAL-URL:https://koelle4future.de
X-WR-CALDESC:Veranstaltungen für Kölle for Future
REFRESH-INTERVAL;VALUE=DURATION:PT1H
X-Robots-Tag:noindex
X-PUBLISHED-TTL:PT1H
BEGIN:VTIMEZONE
TZID:Europe/Berlin
BEGIN:DAYLIGHT
TZOFFSETFROM:+0100
TZOFFSETTO:+0200
TZNAME:CEST
DTSTART:20230326T010000
END:DAYLIGHT
BEGIN:STANDARD
TZOFFSETFROM:+0200
TZOFFSETTO:+0100
TZNAME:CET
DTSTART:20231029T010000
END:STANDARD
BEGIN:DAYLIGHT
TZOFFSETFROM:+0100
TZOFFSETTO:+0200
TZNAME:CEST
DTSTART:20240331T010000
END:DAYLIGHT
BEGIN:STANDARD
TZOFFSETFROM:+0200
TZOFFSETTO:+0100
TZNAME:CET
DTSTART:20241027T010000
END:STANDARD
BEGIN:DAYLIGHT
TZOFFSETFROM:+0100
TZOFFSETTO:+0200
TZNAME:CEST
DTSTART:20250330T010000
END:DAYLIGHT
BEGIN:STANDARD
TZOFFSETFROM:+0200
TZOFFSETTO:+0100
TZNAME:CET
DTSTART:20251026T010000
END:STANDARD
END:VTIMEZONE
BEGIN:VEVENT
DTSTART;TZID=Europe/Berlin:20240902T190000
DTEND;TZID=Europe/Berlin:20240902T210000
DTSTAMP:20260425T173122
CREATED:20240814T130627Z
LAST-MODIFIED:20240820T082036Z
UID:16307-1725303600-1725310800@koelle4future.de
SUMMARY:Köln bleibt oben
DESCRIPTION:Im Herbst soll in Köln die wichtigste verkehrspolitische Entscheidung für Jahrzehnte fallen: \n\nWird ein Stadtbahn-Tunnel quer durch die Innenstadt gebaut?\nOder wird die Ost-West-Achse oberirdisch ausgebaut?\n\nUnd wenn ja\, wie? \nInformationsverantaltung: 02. September 2024  – 19.30 Uhr im Hotel Maritim \nEinlass ab 19 Uhr \nProgramm\nDer Verkehrsexperte Prof. Dr. Volker Stölting sowie Expert*innen von „Köln bleibt oben“ erläutern\, wie die Ost-West-Achse schnell\, kostengünstig\, klimafreundlich und barrierefrei unter Beibehaltung der 60-m-Bahnen ertüchtigt werden kann. \nSie erklären\, warum auf den Tunnel und auf die 90-m-Bahnen verzichtet werden kann und muss. \nIm Anschluss \n\nPublikumsdiskussion und Beantwortung von Fragen\nRatspolitiker*innen stehen Rede und Antwort\, Verwaltung und KVB sind ebenfalls eingeladen mitzudiskutieren\n\nEs laden ein\n\nVerkehrswende Köln\nBürgerinteressengemeinschaft Weiden e.V. (BIG-Weiden)\nBürgerinteressengemeinschaft Junkersdorf e.V. (BIG Junkersdorf)\nIGBB Braunsfelder Bürger*innen\nRobin Wood\nWir vom Rathenauplatz\n\nMehr infos: info@koeln-bleibt-oben.de \nPressemeldungen\nInitiativen wollen gemeinsam gegen Tunnel auf der Ost-West-Achse und für 60 Meter Züge streiten – Report-K
URL:https://koelle4future.de/event/koeln-bleibt-oben/
LOCATION:Maritim Hotel Köln\, Heumarkt 20\, Köln\, 50667\, Deutschland
CATEGORIES:Vortrag und Austausch
ATTACH;FMTTYPE=image/png:https://koelle4future.de/wp-content/uploads/2024/08/240902-oben-bleiben.png
END:VEVENT
BEGIN:VEVENT
DTSTART;TZID=Europe/Berlin:20240907T140000
DTEND;TZID=Europe/Berlin:20240907T180000
DTSTAMP:20260425T173122
CREATED:20240828T101731Z
LAST-MODIFIED:20240828T101731Z
UID:16467-1725717600-1725732000@koelle4future.de
SUMMARY:Tag des guten Lebens
DESCRIPTION:Herzliche Einladung zum Tag des guten Lebens in Kalk \nDu findest Green Agents\, Parents und Grannies for Future Köln zusammen auf Höhe der  Josephkirchstraße 56. \n 
URL:https://koelle4future.de/event/tag-des-guten-lebens-092024/
LOCATION:Josephskirche Kalk\, Höfestraße 21\, Köln\, 51103\, Deutschland
CATEGORIES:Festival,Kultur,Mach was!
ATTACH;FMTTYPE=image/png:https://koelle4future.de/wp-content/uploads/2024/08/240808-TdgL.png
END:VEVENT
BEGIN:VEVENT
DTSTART;TZID=Europe/Berlin:20240907T150000
DTEND;TZID=Europe/Berlin:20240907T170000
DTSTAMP:20260425T173122
CREATED:20240820T081900Z
LAST-MODIFIED:20240823T060726Z
UID:16384-1725721200-1725728400@koelle4future.de
SUMMARY:Offenes Plenum September 24
DESCRIPTION:Herzliche Einladung zum Treffen der Kölner for Future Gruppen. \nWir treffen uns vor Ort auf dem Tag des guten Lebens in Köln-Kalk\, Höhe Josephkirchstraße 56. \nDie Themen findest Du im Infochat und auf WeChange. Die vorläufige Tagesordnung: \n\nUpdate anstehende Aktionen\,u.a.\n\nGlobaler Klimastreik der Fridays for Future in Köln\nKlimawoche der Stadt Köln: unsere Lesung NaturMensch\nWeltkinderfest\nSommerfest Parents for Future Köln\n\n\nRückblick Ehrenamtstag beim NRW-Tag\nOben bleiben\, aktueller Stand\nSonstiges
URL:https://koelle4future.de/event/treffen-parents-for-future-09-24/
LOCATION:Josephskirche Kalk\, Höfestraße 21\, Köln\, 51103\, Deutschland
CATEGORIES:Plenum
ATTACH;FMTTYPE=image/jpeg:https://koelle4future.de/wp-content/uploads/2024/08/201017-NRW-Tag35k.jpg
END:VEVENT
BEGIN:VEVENT
DTSTART;TZID=Europe/Berlin:20240911T173000
DTEND;TZID=Europe/Berlin:20240911T200000
DTSTAMP:20260425T173122
CREATED:20240902T140401Z
LAST-MODIFIED:20240902T140401Z
UID:16509-1726075800-1726084800@koelle4future.de
SUMMARY:Gesunde Umwelt - gesundes Leben
DESCRIPTION:Wie kann ich im Alltag die Umwelt schützen? Workshop auf Arabisch \nIn diesem Workshop zeigt uns Alaa Alshibli\, wie wir im Alltag etwas Gutes für uns und die Umwelt tun können. \nThemen sind beispielsweise gesunde Ernährung\, Energie sparen oder weniger Plastik verbrauchen. ​ \nZur Veranstaltung gibt es neben interessanten Informationen auch leckere Snacks und Getränke. ​ \nDie Teilnehmenden werden auch eingeladen\, am 21. September um 14 Uhr zum Ausflug zum Kölner Biobauern nach Köln Vingst mitzukommen.
URL:https://koelle4future.de/event/gesunde-umwelt-gesundes-leben/
LOCATION:Migrafica\, Goebenstraße 10-12\, Köln\, 50672\, Germany
CATEGORIES:Mach was!,Vortrag und Austausch
ATTACH;FMTTYPE=image/jpeg:https://koelle4future.de/wp-content/uploads/2024/09/240911-migrafica01.jpeg
END:VEVENT
BEGIN:VEVENT
DTSTART;TZID=Europe/Berlin:20240919T190000
DTEND;TZID=Europe/Berlin:20240919T213000
DTSTAMP:20260425T173122
CREATED:20240903T060027Z
LAST-MODIFIED:20240902T140915Z
UID:16514-1726772400-1726781400@koelle4future.de
SUMMARY:Verkehrswendestadt Wolfsburg
DESCRIPTION:Die Krise der Automobil-und Zulieferindustrie ist da. Weit über ​50.000 Stellen wurden in den letzten fünf Jahren verlagert oder ​vernichtet. Aber die Profite der Eigentümer wie Wolfgang Porsche ​oder dem Emirat Katar sprudeln dabei weiter. \nDeswegen brauchen wir Konversion – den Umbau der Produktion auf ​Dinge\, die wir wirklich brauchen – und Vergesellschaftung – die ​Fabrik denen\, die darin arbeiten. \nDass die Aktionen der kreativen Aktivist*innen und kämpferischen ​Arbeiter*innen Wirkung zeigen\, wird in weit über 100 lokalen\, ​bundesweiten und internationalen Presseberichten deutlich\, sowie ​auch der Repression seitens des Staats und Kapitals. Je eine ​Hausdurchsuchung zu Beginn und zum Ende der Kampagne\, ​unzählige Prozesse und ein Kooperationsverbot aller städtischen ​Einrichtungen durch den CDU-Oberbürgermeister geben einen ​ersten Eindruck – hier wurde ein Nerv getroffen. \nDer Film mit einigen Aktionsszenen und vielen Interviewpassagen ​zeigt die Wirksamkeit direkter Aktionen auf das gesellschaftliche ​Bewusstsein. „Es braucht nicht viele\, um etwas zu bewegen“\, so die ​Überzeugung der Aktivist*innen und Arbeiter*innen. Es geht darum ​die soziale und ökologische Frage zusammen zu denken und ​danach zu handeln.
URL:https://koelle4future.de/event/verkehrswendestadt-wolfsburg/
LOCATION:DGB Haus Köln\, Hans-Böckler-Platz 1\, Köln\, 50672\, Germany
CATEGORIES:Mach was!
ATTACH;FMTTYPE=image/jpeg:https://koelle4future.de/wp-content/uploads/2024/09/240919-verkehrswendestadt.jpg
END:VEVENT
BEGIN:VEVENT
DTSTART;TZID=Europe/Berlin:20240920T160000
DTEND;TZID=Europe/Berlin:20240920T180000
DTSTAMP:20260425T173122
CREATED:20240810T090326Z
LAST-MODIFIED:20240920T095610Z
UID:16220-1726848000-1726855200@koelle4future.de
SUMMARY:Globaler Klimastreik - auch in Köln
DESCRIPTION:Die Stadt Köln will auf der Ost-West-Achse einen Tunnel bauen\, in welchen die Linien 1\, 7 und 9 verlegt werden sollen. Dieser Tunnel wird mindestens eine Milliarde Euro kosten\, ein jahrzehntelanges Bauchaos verursachen\, mehrere 100.000 Tonnen CO2 ausstoßen und die Haltestelle Mauritiusstraße vernichten. Dieses Geld könnten wir allerdings andernorts viel besser gebrauchen\, beispielsweise für einen kostenlosen ÖPNV\, damit alle Menschen Bahn fahren können. In Borkum wird gerade ein neues Gasfeld gebaut\, damit ein fossiler Gaskonzern noch mehr Profit machen kann. Diese Gasfeld wird das Weltkulturerbe Wattenmeer teilweise zerstören\, den Lebensraum der dort lebenden Robben massiv einschränken und ein riesiges Stück der Lebensqualität von Borkum wegnehmen. In Köln wird in wenigen Jahren das Gremberger Wäldchen für eine Erweiterung der A4 abgeholzt. Diese Liste an Verbrechen die gegen unsere Lebensgrundlagen alleine in Deutschland begangen werden könnte man ewig weiterführen. Diese Verbrechen sind in unserem System (Kapitalismus) leider keine Ausnahme\, sondern Normalzustand. Streike mit uns am 20.09.24 für Klimagerechtigkeit und gegen die Politik\, die lieber Kapitalinteressen als uns schützt! \n\n16 Uhr Laufdemo / Fahrraddemo: Komödienstraße \n\n  \n\n18 Uhr politisches Straßenfest am Wilhelmplatz (Nippes) \n\n  \n\nTreffpunkt Klimachor\n\n  \n\nAgneskirche – 16:30 Uhr Aufbau; 16:45 Uhr Einsingen \n\nKlimachor am Klimastreik \n\n\n\nTreffpunkt Familienblock\n\n\n\nFamilien mit Kindern und alle\, die es etwas ruhiger mögen treffen sich auf der Komödienstraße auf Höhe Andreaskloster. \n\n\n\nRouten\, Awareness und Inklusion und Programm\n\n\n\n\n\nKlimastreik \n\n 
URL:https://koelle4future.de/event/240920-globaler-klimastreik/
LOCATION:Komödienstraße\, Komödienstraße\, Köln\, 50667\, Deutschland
CATEGORIES:Demo
ATTACH;FMTTYPE=image/jpeg:https://koelle4future.de/wp-content/uploads/2024/08/240920-klimastreik-cgn01.jpg
END:VEVENT
BEGIN:VEVENT
DTSTART;TZID=Europe/Berlin:20240920T180000
DTEND;TZID=Europe/Berlin:20240920T200000
DTSTAMP:20260425T173122
CREATED:20240829T060022Z
LAST-MODIFIED:20240920T095546Z
UID:16481-1726855200-1726862400@koelle4future.de
SUMMARY:Straßenfest nach dem Klimastreik
DESCRIPTION:Die Stadt Köln will auf der Ost-West-Achse einen Tunnel bauen\, in welchen die Linien 1\, 7 und 9 verlegt werden sollen. Dieser Tunnel wird mindestens eine Milliarde Euro kosten\, ein jahrzehntelanges Bauchaos verursachen\, mehrere 100.000 Tonnen CO2 ausstoßen und die Haltestelle Mauritiusstraße vernichten. Dieses Geld könnten wir allerdings andernorts viel besser gebrauchen\, beispielsweise für einen kostenlosen ÖPNV\, damit alle Menschen Bahn fahren können. In Borkum wird gerade ein neues Gasfeld gebaut\, damit ein fossiler Gaskonzern noch mehr Profit machen kann. Diese Gasfeld wird das Weltkulturerbe Wattenmeer teilweise zerstören\, den Lebensraum der dort lebenden Robben massiv einschränken und ein riesiges Stück der Lebensqualität von Borkum wegnehmen. In Köln wird in wenigen Jahren das Gremberger Wäldchen für eine Erweiterung der A4 abgeholzt. Diese Liste an Verbrechen die gegen unsere Lebensgrundlagen alleine in Deutschland begangen werden könnte man ewig weiterführen. Diese Verbrechen sind in unserem System (Kapitalismus) leider keine Ausnahme\, sondern Normalzustand. Vor dem Straßenfest ist Klimastreik 20.09.24 – ab 16 Uhr – Komödienstraße Köln Streike mit uns am 20.09.24 für Klimagerechtigkeit und gegen die Politik\, die lieber Kapitalinteressen als uns schützt!   16 Uhr Laufdemo / Fahrraddemo: Komödienstraße \n\n  \n\n18 Uhr politisches Straßenfest am Wilhelmplatz (Nippes) \n\n  \n\nTreffpunkt Klimachor\n\n  \n\nAgneskirche – 16:30 Uhr Aufbau; 16:45 Uhr Einsingen \n\nKlimachor am Klimastreik \n\n\n \n\n\n  \n\nTreffpunkt Familienblock\n\n  \n\nFamilien mit Kindern und alle\, die es etwas ruhiger mögen treffen sich auf der Komödienstraße auf Höhe Andreaskloster. \n\n  \n\nRouten\, Awareness und Inklusion und Programm\n\n\n\n\n\nKlimastreik
URL:https://koelle4future.de/event/240920-strassenfest/
LOCATION:Wilhelmplatz\, Wilhelmplatz\, Köln\, 50733\, Deutschland
CATEGORIES:Festival,Kultur,Mach was!
ATTACH;FMTTYPE=image/jpeg:https://koelle4future.de/wp-content/uploads/2024/08/240920-klimastreik-cgn02.jpg
END:VEVENT
BEGIN:VEVENT
DTSTART;TZID=Europe/Berlin:20240921T130000
DTEND;TZID=Europe/Berlin:20240921T170000
DTSTAMP:20260425T173122
CREATED:20240918T063012Z
LAST-MODIFIED:20240918T063050Z
UID:16812-1726923600-1726938000@koelle4future.de
SUMMARY:Ökozidgesetz jetzt!
DESCRIPTION:Ökozidgesetz JETZT!\nSamstag\, 21.09.24 – Münserplatz\,  Bonn\, 13 bis 17 Uhr\n\n\n\n\n\n\n\nKunstperformance und Demonstrationszug zu Artensterben und Ökozidgesetz im Rahmen des Umweltfestivals  zur „grünen Woche in Bonn – Rundum nachhaltig“!\nMit der Performance fordert die Gruppe die Regierungen der Welt auf\, Ökozid als internationales Verbrechen gegen die Menschheit anzuerkennen und als 5. Kernverbrechen in das römische Statut aufzunehmen. Sie stellt sich damit hinter die Forderung der pazifischen Inselstaaten Vanuatu\, Fidschi und Samoa\, die den Straftatbestand des „Ökozids“ am 09. SEPTEMBER 2024 offiziell den Mitgliedsstaaten des Internationalen Strafgerichtshofs (IStGH) zur Prüfung vorgelegt haben – ein wichtiger Schritt in den weltweiten Bemühungen\, massive Umweltzerstörung als Verbrechen im Völkerrecht zu verankern. \nÖkozid-Gesetz – JETZT\nLuft. Wasser. Nahrung. Lebensraum. \nGenau einen Monat vor dem Auftakt der 11. Plenarsitzung der Weltnaturkonferenz (CBD COP16) im Oktober in Cali\, Kolumbien inszenieren die Roten Rebell:innen mit Extinction Rebellion am Samstag\, den 21.09.24 in der Bonner Innenstadt eine eindringliche Performance gegen das Artensterben – und für ein Ökozid-Gesetz. \nWährend sich das 6. große Massenaussterben nahezu unbemerkt im Hintergrund vollzieht\, wird hier das Ausmaß der Biodiversitätskrise in der Öffentlichkeit dargestellt. \nDie menschliche Zivilisation braucht intakte Ökosysteme. \nObwohl dies breite Zustimmung der Bevölkerung vieler Länder der Erde findet\, geht die Zerstörung der Natur ungehindert weiter. Denn Regierungen und profitorientierte Unternehmen müssen bislang kaum rechtliche Konsequenzen befürchten. \nDas liegt an einer klaffenden Lücke im internationalen Völkerrecht. Die großflächige Zerstörung von Ökosystemen – Ökozid genannt – wird nicht als Verbrechen eingestuft. Damit gibt es keine Rechenschaft für die Menschen\, die diese Verbrechen zu verantworten haben. \nEs ist Zeit\, die Regeln zu ändern. Das internationale Strafrecht muss unsere Ökosysteme schützen. \n  \nDie Kunstperformance von Extinction Rebellion wird mehrmals im Rahmen des Demozuges entlang Münsterplatz – Friedensplatz – Marktplatz – Münsterplatz aufgeführt. \n  \nDazu sind alle Natur- und Kulturfreund:innen herzlich eingeladen!
URL:https://koelle4future.de/event/oekozidgesetz-jetzt/
LOCATION:Münsterplatz Bonn\, Münsterplatz\, Bonn\, 53111\, Germany
CATEGORIES:Kultur
ATTACH;FMTTYPE=image/jpeg:https://koelle4future.de/wp-content/uploads/2024/09/240921-oekozidgesetz.jpg
END:VEVENT
BEGIN:VEVENT
DTSTART;TZID=Europe/Berlin:20240921T180000
DTEND;TZID=Europe/Berlin:20240921T210000
DTSTAMP:20260425T173122
CREATED:20240802T090052Z
LAST-MODIFIED:20240913T064133Z
UID:16147-1726941600-1726952400@koelle4future.de
SUMMARY:NaturMensch Lesung
DESCRIPTION:Im Rahmen der Klimawoche veranstaltet Parents for Future Köln eine Lesung mit dem Thema „NaturMensch“. \nSie soll Raum und Rahmen bieten\, sich literarisch mit dem Spannungsfeld des Themas zu beschäftigen. Selbst geschriebene literarische Texte der verschiedenen Gattungen wie Lyrik\, Erzählung\, Kurzgeschichte oder Essay sind gefragt und sollen eine Bühne bekommen. \nMit einem zeitlichen Rahmen von sieben Minuten werden die Texte im Rahmen der Lesung dann von den Autor*innen selbst vorgetragen. Musikalische Elemente werden die Veranstaltung unterstreichen. \nTermin der Lesung: \n21.September 2024 um 18:00 Uhr \nOrt: \nLiteraturhaus Köln e.V.\, Großer Griechenmarkt 39\, 50676 Köln \nWir freuen uns auf zahlreiche Beteiligung! \nTexte können bis zum 6. September 2024eingesendet werden: \nkoeln@parentsforfuture.de Betreff: Lesung „NaturMensch“ \nUnsere Rückmeldung erfolgt am 15.09.2024 \nOffene Fragen können ebenfalls gestellt werden unter koeln@parentsforfuture.de \n 
URL:https://koelle4future.de/event/naturmensch-lesung/
LOCATION:Literaturhaus Köln\, Großer Griechenmarkt 39\, Köln\, 50676\, Deutschland
CATEGORIES:Kultur,Mach was!
ATTACH;FMTTYPE=image/jpeg:https://koelle4future.de/wp-content/uploads/2024/08/fullsizeoutput_c98.jpeg
END:VEVENT
BEGIN:VEVENT
DTSTART;TZID=Europe/Berlin:20240922T120000
DTEND;TZID=Europe/Berlin:20240922T180000
DTSTAMP:20260425T173122
CREATED:20240708T083138Z
LAST-MODIFIED:20240915T102925Z
UID:15951-1727006400-1727028000@koelle4future.de
SUMMARY:Weltkindertag 2024
DESCRIPTION:Mit einem bunten Programm für Kinder und Familien wird auch in diesem Jahr wieder im Rheinauhafen gefeiert. Am Sonntag\, 22. September 2024\, gibt es Spieleaktionen\, ein tolles Bühnenprogramm und Informationsangebote. \nWir sind mit dem Infostand dabei. \nWeitere Details folgen
URL:https://koelle4future.de/event/weltkindertag-2024/
LOCATION:Rheinauhafen\, Harry-Blum-Platz\, Köln\, 50678\, Deutschland
CATEGORIES:Festival,Kultur,Mach was!
ATTACH;FMTTYPE=image/jpeg:https://koelle4future.de/wp-content/uploads/2024/08/201017-NRW-Tag13k.jpg
END:VEVENT
BEGIN:VEVENT
DTSTART;TZID=Europe/Berlin:20240927T190000
DTEND;TZID=Europe/Berlin:20240927T203000
DTSTAMP:20260425T173122
CREATED:20240913T055730Z
LAST-MODIFIED:20240913T055730Z
UID:16707-1727463600-1727469000@koelle4future.de
SUMMARY:Einladung zur Solarparty
DESCRIPTION:Packs drauf – Einladung zur Solarparty\nSolarinfos von und für Nachbar*innen\nHabt Ihr schon mal darüber nach gedacht\, eine Solaranlage auf Euer Dach zu packen? Dann komm doch gerne zu unserer Solarparty! \nSo können wir gemeinsam die Energiewende in unsere Nachbarschaft bringen! \nBitte gerne unter https://packsdrauf.de/gastanmeldung/?eventid=418 anmelden. \nDein Energiebedarf lässt sich kostengünstig zum größten Teil mit Solarkraft decken. Das ist gut für Dich und Deine Kinder und Enkel. Ideal sind dafür Dächer. \n\nWas ist bei der Installation einer Solaranlage zu beachten?\nWas musst Du wissen?\nWas kostet das?\n\nEhrenamtiliche Expert*innen von der Solarinitiative Köln informieren mit einem Vortrag. Es gibt Tipps und Infos\, die Dir die Umsetzung der eigenen Solaranlage erleichtern. Deine Fragen werden beantwortet.
URL:https://koelle4future.de/event/einladung-zur-solarparty/
LOCATION:St. Stephanus Gemeindezentrum\, Subbelrather Str. 206-210\, Köln\, 50823\, Germany
CATEGORIES:Mach was!,Vortrag und Austausch
ATTACH;FMTTYPE=image/png:https://koelle4future.de/wp-content/uploads/2024/09/240927-solarparty.png
END:VEVENT
BEGIN:VEVENT
DTSTART;TZID=Europe/Berlin:20240929T110000
DTEND;TZID=Europe/Berlin:20240929T160000
DTSTAMP:20260425T173122
CREATED:20240927T130051Z
LAST-MODIFIED:20240927T131155Z
UID:16990-1727607600-1727625600@koelle4future.de
SUMMARY:Fahrrad-Exkursion zu den Kölner Kraftwerken
DESCRIPTION:Am Ende der zweiten Kölner Klimawoche möchten wir zu einer Fahrrad-Exkursion zu den derzeit noch größten CO2-Quellen in Köln einladen. Wir treffen uns auf dem Alter Markt und fahren zunächst zum Heizkraftwerk Niehl. Dort werden wir erläutern\, wie aktuell die Wärme für das Fernwärmenetz Innenstadt erzeugt wird. Außerdem haben wir die RheinEnergie angefragt\, ihre Pläne für „Europas größte Fluss-Wärmepumpe“ vorzustellen. \nUnsere Fahrrad-Exkursion geht dann weiter zum Kraftwerk in Merkenich. Dort wird ein Experte aus dem Rheinischen Revier ausführen\, wie vor den Toren Kölns immer noch Braunkohle gefördert wird und wie diese nach Merkenich gelangt. Seit vielen Jahren fordern zahlreiche Klimagruppen aus Köln die Stilllegung des Braunkohle-Blocks! Hier erwartet euch eine positive Überraschung! \nMit dieser Exkursion wollen wir für den konsequenten Ausbau von erneuerbaren Energien werben und davor warnen\, sich auf Wasserstoff als einfache Lösung fürs Heizen zu verlassen. \n\nWann? Sonntag\, den 29.09.2024\nTreffpunkt: Alter Markt um 11 Uhr\nZwischenstopp: Kraftwerk Niehl um ca. 12:15 Uhr\nZiel: Kraftwerk Merkenich um ca. 13:45 Uhr\n\nBitte mitbringen: Vor dem Kraftwerk Merkenich wollen wir ein Picknick veranstalten und mit euch über die Chancen und Herausforderungen der Energie- und Wärmewende diskutieren. Bringt dafür bitte eine Kleinigkeit zum Essen und Trinken mit. \nDie Fahrrad-Exkursion wird veranstaltet von: Greenpeace Köln und Klimawende Köln\nund unterstützt von: Allerweltshaus\, Extinction Rebellion Köln\, Kölle for Future\, Fahrrad-Entscheid Köln\, Ökoreferat des AStAs der Uni Köln\, Robin Wood Köln\, RWE enteignen\, … \n——\nDie zweite Kölner Klimawoche bietet vom 23. bis 29. September 2024 eine Woche lang geballten Klimaschutz in Köln mit analogen und digitalen Informations- und Mitmachangeboten verschiedener Akteur*innen. \nUnter dem Motto „NULLfuture2035 – Wie sieht dein Köln der Zukunft aus?“ werden interessante Orte und die Menschen dahinter vorgestellt. \nWeitere Informationen unter: www.klimaschutz.koeln/koelner-klimawoche \nX-Post von: \nhttps://klimawende.koeln/events/fahrrad-exkursion-zu-den-koelner-kraftwerken/
URL:https://koelle4future.de/event/fahrrad-exkursion-zu-den-koelner-kraftwerken/
LOCATION:Alter Markt
CATEGORIES:Mach was!
ATTACH;FMTTYPE=image/jpeg:https://koelle4future.de/wp-content/uploads/2024/09/240929-Exkursion.jpeg
END:VEVENT
END:VCALENDAR