BEGIN:VCALENDAR
VERSION:2.0
PRODID:-//Kölle for Future - ECPv6.15.20//NONSGML v1.0//EN
CALSCALE:GREGORIAN
METHOD:PUBLISH
X-ORIGINAL-URL:https://koelle4future.de
X-WR-CALDESC:Veranstaltungen für Kölle for Future
REFRESH-INTERVAL;VALUE=DURATION:PT1H
X-Robots-Tag:noindex
X-PUBLISHED-TTL:PT1H
BEGIN:VTIMEZONE
TZID:Europe/Berlin
BEGIN:DAYLIGHT
TZOFFSETFROM:+0100
TZOFFSETTO:+0200
TZNAME:CEST
DTSTART:20220327T010000
END:DAYLIGHT
BEGIN:STANDARD
TZOFFSETFROM:+0200
TZOFFSETTO:+0100
TZNAME:CET
DTSTART:20221030T010000
END:STANDARD
BEGIN:DAYLIGHT
TZOFFSETFROM:+0100
TZOFFSETTO:+0200
TZNAME:CEST
DTSTART:20230326T010000
END:DAYLIGHT
BEGIN:STANDARD
TZOFFSETFROM:+0200
TZOFFSETTO:+0100
TZNAME:CET
DTSTART:20231029T010000
END:STANDARD
BEGIN:DAYLIGHT
TZOFFSETFROM:+0100
TZOFFSETTO:+0200
TZNAME:CEST
DTSTART:20240331T010000
END:DAYLIGHT
BEGIN:STANDARD
TZOFFSETFROM:+0200
TZOFFSETTO:+0100
TZNAME:CET
DTSTART:20241027T010000
END:STANDARD
END:VTIMEZONE
BEGIN:VEVENT
DTSTART;TZID=Europe/Berlin:20231201T190000
DTEND;TZID=Europe/Berlin:20231201T220000
DTSTAMP:20260425T200834
CREATED:20231119T091859Z
LAST-MODIFIED:20231123T142451Z
UID:13112-1701457200-1701468000@koelle4future.de
SUMMARY:Tod durch RWE?
DESCRIPTION:Update: Die Strafanzeige wegen Tötungsdelikten gegen die Verantwortlichen von RWE Power ist weiterhin aktuell!\n19:00 – 22:00 Uhr – Alte Feuerwache\, Melchiorstr. 3\, 50670 Köln (Nähe Ebertplatz) Raum: Großes Forum \nAktuelle Informationen: https://www.rwe-tribunal.org/ \nGeplanter Ablauf\nEinführung mit Prof. Dr. Niko Froitzheim (Geologe)\, RA Dr. Heinrich Comes\, Kinderarzt Christian Döring u.a.\nModerator: Jürgen Döschner (Journalist)\nDer Kabarettist Jürgen Becker wird mit einer Videobotschaft dabei sein.\nIm Anschluss  Podiumsdiskussion mit Publikumsbeteiligung. \nDokumentation der skandalösen Vorgänge hinsichtlich dieser Strafanzeige
URL:https://koelle4future.de/event/tod-durch-rwe/
LOCATION:Alte Feuerwache Köln\, Melchiorstraße 3\, Köln\, 50670\, Deutschland
CATEGORIES:Mach was!,Vortrag und Austausch
ATTACH;FMTTYPE=image/jpeg:https://koelle4future.de/wp-content/uploads/2023/11/2311-rwe02.jpg.jpeg
END:VEVENT
BEGIN:VEVENT
DTSTART;TZID=Europe/Berlin:20231206T190000
DTEND;TZID=Europe/Berlin:20231206T203000
DTSTAMP:20260425T200834
CREATED:20231123T095253Z
LAST-MODIFIED:20231204T130147Z
UID:13123-1701889200-1701894600@koelle4future.de
SUMMARY:Verkehrswende Köln: Roadmap\, Ost-West-Achse mit oder ohne Tunnel?
DESCRIPTION:Ablauf\n\n\n\n\nab 18:45 Uhr Ankommen\n\n\n\n19:00 Uhr Beginn der Veranstaltung\, Anmoderation\n\n\n\nca. 19:05 Uhr Vorstellung der ÖPNV Roadmap plus\n\n\n\nca. 19:30 – 20:30 Uhr Raum für Fragen\n\n\n\nca. 20:30 Uhr Ende der Veranstaltung\, im Nachgang: persönliche Gespräche\, gerne auch bei Fassbrause\, Kölsch oder Glühwein\n\nHintergrund\nLinie 1\,7 und 9 unter die Erde bringen oder oberirdisch ertüchtigen?
URL:https://koelle4future.de/event/verkehrswende-koeln-roadmap-ost-west-achse-mit-oder-ohne-tunnel/
LOCATION:Initiativenhaus für Menschenrechte & Demokratie e.V.\, Gürzenichstraße 21 a-c\, Köln\, 50667\, Deutschland
CATEGORIES:Mach was!,Vortrag und Austausch
ATTACH;FMTTYPE=image/png:https://koelle4future.de/wp-content/uploads/2023/12/231206-oben-bleben.png
END:VEVENT
BEGIN:VEVENT
DTSTART;TZID=Europe/Berlin:20231207T130000
DTEND;TZID=Europe/Berlin:20231207T140000
DTSTAMP:20260425T200834
CREATED:20231202T093258Z
LAST-MODIFIED:20231204T131847Z
UID:13173-1701954000-1701957600@koelle4future.de
SUMMARY:Mahnwache oben bleiben
DESCRIPTION:Die Ratsentscheidung über U-Bahn-Tunnel oder „oben bleiben“ auf der Kölner Ost-West-Achse (Stadtbahnlinien 1\, 7\, 9 zwischen Aachener Weiher und Deutzer Brücke) rückt immer näher! \nUnsere nächste Mahnwache vor der Ratssitzung findet am Donnerstag\, dem 7. Dezember 2023 von 13:00 Uhr bis 14:00 Uhr statt. \nOrt: Vor dem Haupteingang Spanischer Bau\, Rathausplatz\, 50667 Köln \nZufahrt: über die Bürgerstraße (die Portalsgasse ist wegen der Baustelle nach wie vor gesperrt). \nFußweg: am Alter Markt die Treppe hinaufgehen oder mit dem U-Bahn-Fahrstuhl hinauffahren. \nAusweichort: Theo-Burauen-Platz (Nordseite des Spanischen Baus).
URL:https://koelle4future.de/event/mahnwache-oben-bleiben/
LOCATION:Rathaus Köln – Haupteingang Spanischer Bau\, Rathausplatz\, Köln\, 50667\, Deutschland
CATEGORIES:Demo,Mach was!
ATTACH;FMTTYPE=image/png:https://koelle4future.de/wp-content/uploads/2023/11/Neues-LOGO-Buendnis-ab-10.1.2022-1024x961-1.png
END:VEVENT
BEGIN:VEVENT
DTSTART;TZID=Europe/Berlin:20231208T180000
DTEND;TZID=Europe/Berlin:20231208T190000
DTSTAMP:20260425T200834
CREATED:20231204T131021Z
LAST-MODIFIED:20231204T131021Z
UID:13219-1702058400-1702062000@koelle4future.de
SUMMARY:Fahrrad Rave Demo
DESCRIPTION:Der nächste Fahrradrave steht an! \nWir raven wieder bei Live Techno mit einem DJ auf einem Lastenrad durch die Stadt. 🚲 \nWir treffen uns am 08.12. um 18 Uhr am Albertus-Magnus-Platz😁🚲🙌🏼 \nDiesmal wird es dunkel sein\, also kommt gerne mit Lichterketten oder ähnlichem und bringt eure Freunde mit🤘🏼🔥 \nWie letztes Mal lassen wir den Abend danach bei Kaltgetränken und Glühwein/Kinderpunsch gemeinsam zum guten Techno ausklingen🪩🎉 \nAlle Infos zum Fahrradentscheid Köln 👇 \nhttps://linktr.ee/fahrradentscheid_koeln
URL:https://koelle4future.de/event/fahrrad-rave-demo/
LOCATION:Albertus-Magnus-Platz\, Albertus-Magnus-Platz\, Köln\, 50931\, Deutschland
CATEGORIES:Demo,Kultur,Mach was!
ATTACH;FMTTYPE=image/jpeg:https://koelle4future.de/wp-content/uploads/2023/12/231208-fahrradrave.jpg
END:VEVENT
BEGIN:VEVENT
DTSTART;TZID=Europe/Berlin:20231208T193000
DTEND;TZID=Europe/Berlin:20231208T220000
DTSTAMP:20260425T200834
CREATED:20231203T092134Z
LAST-MODIFIED:20231204T131103Z
UID:13202-1702063800-1702072800@koelle4future.de
SUMMARY:Der Coup zur COP
DESCRIPTION:Kunst und Wissenschaft übernehmen die Initiative zur gemeinsamen Gestaltung einer nachhaltigen Zukunft\nEine »Nacht der Kultur der Zukunft« mit den Künstlern Hermann Josef Hack und Andreas Pohlmann und den Scientists-for-Future Köln-Bonn in der Kunst-Station Sankt Peter am 8. Dezember 2023\, 19.30 Uhr
URL:https://koelle4future.de/event/der-coup-zur-cop/
LOCATION:Kunst-Station Sankt Peter Köln\, Jabachstraße 1\, Köln\, 50676\, Deutschland
CATEGORIES:Kultur,Mach was!
END:VEVENT
BEGIN:VEVENT
DTSTART;TZID=Europe/Berlin:20231210T160000
DTEND;TZID=Europe/Berlin:20231210T180000
DTSTAMP:20260425T200834
CREATED:20231202T095335Z
LAST-MODIFIED:20231204T131946Z
UID:13186-1702224000-1702231200@koelle4future.de
SUMMARY:Bunte Lichterfahrt – Kidical Mass Special „Schulstraße“
DESCRIPTION:Sonntag 10.12.2023\nStart: 16:00 Uhr\, Hans-Böckler-Platz\nWeiterer Startort: 16.15 Uhr\, Montessori Grundschule\, Am Pistorhof\,\nZiel: Schulstraße Vincenz-Statz-Grundschule\, Lindenbornstraße\n \nDenkt an euer Bonusheft. Am Ziel bekommen alle Kids einen Stempel und ab 3 Stempeln gibt es vor Ort eine tolle Überraschung.\nWir sammeln dann auch alle Bonushefte mit mind. 3 Stempeln ein und verlosen am Ende des Jahres einen Hauptgewinn.\nWer nicht bei der Tour im Dezember dabei sein kann\, verpasst natürlich ziemlich viel …aber kann uns das Heft auch fotografieren und per Mail senden. \n  \nMehr: \nBunte Lichterfahrt – Kidical Mass Special „Schulstraße“
URL:https://koelle4future.de/event/bunte-lichterfahrt-kidical-mass-special-schulstrasse/
LOCATION:Hans-Böckler-Platz\, Hans-Böckler-Platz\, Köln\, 50672\, Deutschland
CATEGORIES:Mach was!
ATTACH;FMTTYPE=image/jpeg:https://koelle4future.de/wp-content/uploads/2023/12/231210-kidicalmass.jpeg
END:VEVENT
END:VCALENDAR