BEGIN:VCALENDAR
VERSION:2.0
PRODID:-//Kölle for Future - ECPv6.15.20//NONSGML v1.0//EN
CALSCALE:GREGORIAN
METHOD:PUBLISH
X-ORIGINAL-URL:https://koelle4future.de
X-WR-CALDESC:Veranstaltungen für Kölle for Future
REFRESH-INTERVAL;VALUE=DURATION:PT1H
X-Robots-Tag:noindex
X-PUBLISHED-TTL:PT1H
BEGIN:VTIMEZONE
TZID:Europe/Berlin
BEGIN:DAYLIGHT
TZOFFSETFROM:+0100
TZOFFSETTO:+0200
TZNAME:CEST
DTSTART:20220327T010000
END:DAYLIGHT
BEGIN:STANDARD
TZOFFSETFROM:+0200
TZOFFSETTO:+0100
TZNAME:CET
DTSTART:20221030T010000
END:STANDARD
BEGIN:DAYLIGHT
TZOFFSETFROM:+0100
TZOFFSETTO:+0200
TZNAME:CEST
DTSTART:20230326T010000
END:DAYLIGHT
BEGIN:STANDARD
TZOFFSETFROM:+0200
TZOFFSETTO:+0100
TZNAME:CET
DTSTART:20231029T010000
END:STANDARD
BEGIN:DAYLIGHT
TZOFFSETFROM:+0100
TZOFFSETTO:+0200
TZNAME:CEST
DTSTART:20240331T010000
END:DAYLIGHT
BEGIN:STANDARD
TZOFFSETFROM:+0200
TZOFFSETTO:+0100
TZNAME:CET
DTSTART:20241027T010000
END:STANDARD
END:VTIMEZONE
BEGIN:VEVENT
DTSTART;TZID=Europe/Berlin:20231107T120000
DTEND;TZID=Europe/Berlin:20231107T133000
DTSTAMP:20260426T003001
CREATED:20231105T184220Z
LAST-MODIFIED:20231105T184220Z
UID:13058-1699358400-1699363800@koelle4future.de
SUMMARY:Warming stripes (Klimazeitstrahl) vor dem Amtsgericht
DESCRIPTION:Wir rollen anlässlich des Prozesses gegen Menschen der Letzten Generation unsere „warming stripes“ aus. Auf dem Klimazeitstrahl kannst Du die klimatischen Veränderungen in Deutschland auf der Klimafieberkurve verfolgen. \n 
URL:https://koelle4future.de/event/warming-stripes-klimazeitstrahl-vor-dem-amtsgericht/
LOCATION:Amtsgericht Köln\, Luxemburger Straße 101\, Köln\, 50939\, Deutschland
CATEGORIES:Demo,Mach was!
ATTACH;FMTTYPE=image/jpeg:https://koelle4future.de/wp-content/uploads/2023/10/231026-klimafieber.jpeg
END:VEVENT
BEGIN:VEVENT
DTSTART;TZID=Europe/Berlin:20231110T160000
DTEND;TZID=Europe/Berlin:20231110T180000
DTSTAMP:20260426T003001
CREATED:20231105T083236Z
LAST-MODIFIED:20231105T083236Z
UID:13031-1699632000-1699639200@koelle4future.de
SUMMARY:Mahnwache KEN SARO-WIWA Memorial 2023
DESCRIPTION:– Erinnern ◌ Proteste ◌ Aktionen ◌ Infos –  \nIn Gedenken an die Ogoni 9 (nigerianische Umweltaktivisten): \nBarinem Kiobel\, Saturday Dobee\, Paul Levura\, Nordu Eawo\, Felix Nuate\, Daniel Gbokoo\, John Kpuinen und Buribor Bera \nHingerichtet am 10.11.1995 im Auftrag von Shell
URL:https://koelle4future.de/event/mahnwache-ken-saro-wiwa-memorial-2023/
LOCATION:Shell-Tankstelle Südstadt\, Bonner-Str. 98\, Köln\, 50677\, Deutschland
CATEGORIES:Demo
ATTACH;FMTTYPE=image/jpeg:https://koelle4future.de/wp-content/uploads/2023/11/ogoni01.jpg.jpeg
END:VEVENT
BEGIN:VEVENT
DTSTART;TZID=Europe/Berlin:20231112T180000
DTEND;TZID=Europe/Berlin:20231112T210000
DTSTAMP:20260426T003001
CREATED:20231105T083211Z
LAST-MODIFIED:20231105T083211Z
UID:13034-1699812000-1699822800@koelle4future.de
SUMMARY:INFOABEND KEN SARO-WIWA Memorial 2023
DESCRIPTION:– Erinnern ◌ Proteste ◌ Aktionen ◌ Infos –  \nIn Gedenken an die Ogoni 9 (nigerianische Umweltaktivisten): \nBarinem Kiobel\, Saturday Dobee\, Paul Levura\, Nordu Eawo\, Felix Nuate\, Daniel Gbokoo\, John Kpuinen und Buribor Bera \nHingerichtet am 10.11.1995 im Auftrag von Shell
URL:https://koelle4future.de/event/infoabend-ken-saro-wiwa-memorial-2023/
LOCATION:Platz für Alle\, Genovevastraße 94\, Köln\, 51063\, Deutschland
CATEGORIES:Kultur,Mach was!,Vortrag und Austausch
ATTACH;FMTTYPE=image/jpeg:https://koelle4future.de/wp-content/uploads/2023/11/ogoni01.jpg.jpeg
END:VEVENT
BEGIN:VEVENT
DTSTART;TZID=Europe/Berlin:20231118T110000
DTEND;TZID=Europe/Berlin:20231118T130000
DTSTAMP:20260426T003001
CREATED:20231117T133439Z
LAST-MODIFIED:20231117T133439Z
UID:13078-1700305200-1700312400@koelle4future.de
SUMMARY:Warming stripes (Klimazeitstrahl) auf dem Martenusplatz
DESCRIPTION:Wir rollen auf dem Maternusplatz in Rodenkirchen die „warming stripes“ aus. Auf dem Klimazeitstrahl kannst Du die klimatischen Veränderungen in Deutschland auf der Klimafieberkurve verfolgen. \n  \n 
URL:https://koelle4future.de/event/warming-stripes-klimazeitstrahl-auf-dem-martenusplatz/
LOCATION:Maternusplatz Rodenkirchen\, Maternusplatz\, Köln\, 50966\, Deutschland
CATEGORIES:Demo,Mach was!
ATTACH;FMTTYPE=image/jpeg:https://koelle4future.de/wp-content/uploads/2023/10/231026-klimafieber.jpeg
END:VEVENT
END:VCALENDAR