BEGIN:VCALENDAR
VERSION:2.0
PRODID:-//Kölle for Future - ECPv6.15.20//NONSGML v1.0//EN
CALSCALE:GREGORIAN
METHOD:PUBLISH
X-WR-CALNAME:Kölle for Future
X-ORIGINAL-URL:https://koelle4future.de
X-WR-CALDESC:Veranstaltungen für Kölle for Future
REFRESH-INTERVAL;VALUE=DURATION:PT1H
X-Robots-Tag:noindex
X-PUBLISHED-TTL:PT1H
BEGIN:VTIMEZONE
TZID:Europe/Berlin
BEGIN:DAYLIGHT
TZOFFSETFROM:+0100
TZOFFSETTO:+0200
TZNAME:CEST
DTSTART:20240331T010000
END:DAYLIGHT
BEGIN:STANDARD
TZOFFSETFROM:+0200
TZOFFSETTO:+0100
TZNAME:CET
DTSTART:20241027T010000
END:STANDARD
BEGIN:DAYLIGHT
TZOFFSETFROM:+0100
TZOFFSETTO:+0200
TZNAME:CEST
DTSTART:20250330T010000
END:DAYLIGHT
BEGIN:STANDARD
TZOFFSETFROM:+0200
TZOFFSETTO:+0100
TZNAME:CET
DTSTART:20251026T010000
END:STANDARD
BEGIN:DAYLIGHT
TZOFFSETFROM:+0100
TZOFFSETTO:+0200
TZNAME:CEST
DTSTART:20260329T010000
END:DAYLIGHT
BEGIN:STANDARD
TZOFFSETFROM:+0200
TZOFFSETTO:+0100
TZNAME:CET
DTSTART:20261025T010000
END:STANDARD
END:VTIMEZONE
BEGIN:VEVENT
DTSTART;TZID=Europe/Berlin:20250201T110000
DTEND;TZID=Europe/Berlin:20250201T140000
DTSTAMP:20260426T025924
CREATED:20250122T170036Z
LAST-MODIFIED:20250122T080911Z
UID:26445-1738407600-1738418400@koelle4future.de
SUMMARY:Kundgebung zur Bundestagswahl - Deine Stimme für Demokratie und Klimaschutz!
DESCRIPTION:Am 23. Februar 2025 ist Bundestagswahl\nKlimaschutz ist Menschenschutz\nGehe wählen!\nWähle demokratisch!\nWähle Klimaschutz!\nDie Termine unserer Kundgebungen (jeweils 11-14 Uhr (*)) \n\n18.01.2025 Breite Straße/Richmodstraße\, Altstadt-Nord\n25.01.2025 Liverpooler Platz\, Chorweiler\n01.02.2025 Eigelstein\, Altstadt-Nord\n08.02.2025 Josefstraße\, Porz-Urbach\n15.02.2025 Deutzer Freiheit\, Deutz\n22.02.2024 Chlodwigplatz\, Neustadt-Süd\n\nDeine Stimme für Demokratie und Klimaschutz!\nMehr Infos\nForderungen zur Bundestagswahl 2025 \n \n(*) Orte unter Vorbehalt
URL:https://koelle4future.de/event/kundgebung-zur-bundestagswahl-deine-stimme-fuer-demokratie-und-klimaschutz/
LOCATION:Eigelstein\, Eigelstein\, Köln\, 50668\, Germany
CATEGORIES:Infostand
ATTACH;FMTTYPE=image/jpeg:https://koelle4future.de/wp-content/uploads/2025/01/2501-klimaschutz-menschenschutz01.jpg
END:VEVENT
BEGIN:VEVENT
DTSTART;TZID=Europe/Berlin:20250201T150000
DTEND;TZID=Europe/Berlin:20250201T170000
DTSTAMP:20260426T025924
CREATED:20250122T075056Z
LAST-MODIFIED:20250122T094105Z
UID:26435-1738422000-1738429200@koelle4future.de
SUMMARY:Plenum Parents for Future Februar 2025
DESCRIPTION:Herzliche Einladung zum internen Plenum der Parents for Future Köln. \nWir treffen uns vor Ort in der Alten Feurewache\, Melchiorstraße 3\,  Köln \nDie Themen findest Du im Infochat und auf WeChange. \nDie vorläufige Tagesordnung: \n\nHalbzeitfeier Kundgebung zur Bundestagswahl\n\nWie waren die drei Termine?\nWas läuft gut?\nWo besteht Verbesserungsbedarf?\n\n\nUpdate anstehende Aktionen\, u.a.\n\nGlobaler Klimastreik der Fridays for Future in Köln am 14.02.25\n\n\nOben bleiben\, aktueller Stand\nTeilnahme Kölner Klimawoche 7. bis 13. Juli 2025.\nWie umgehen mit den mittlerweile anti-sozialen Media Plattformen Facebook\, Instagram\, YouTube und X?\n\nSachstand\nAlternativen\nSzenarien\n\n\nSonstiges
URL:https://koelle4future.de/event/plenum-parents-for-future-februar-2025/
LOCATION:Alte Feuerwache Köln\, Melchiorstraße 3\, Köln\, 50670\, Deutschland
CATEGORIES:Plenum
END:VEVENT
BEGIN:VEVENT
DTSTART;TZID=Europe/Berlin:20250201T170000
DTEND;TZID=Europe/Berlin:20250201T180000
DTSTAMP:20260426T025924
CREATED:20250122T130620Z
LAST-MODIFIED:20250131T162745Z
UID:26436-1738429200-1738432800@koelle4future.de
SUMMARY:Verlegt zum HEUMARKT Offenes Plenum Februar 2025
DESCRIPTION:Das offene Plenum wandert morgen zum Heumarkt und schließt sich der Demo an. \nDringende Themen können wir Mittags am Eigelstein klären. \nHerzliche Einladung zum Treffen der Kölner for Future Gruppen. \nZum Jahrsauftakt treffen wir uns im Alten Feuerwache\, Melchiorstraße 3\,  Köln \nDie Themen findest Du im Infochat und auf WeChange. Die vorläufige Tagesordnung: \nDie vorläufige Tagesordnung: \n\n\n\nHalbzeitfeier Kundgebung zur Bundestagswahl\n\nWie waren die drei Termine?\nWas läuft gut?\nWo besteht Verbesserungsbedarf?\n\n\nUpdate anstehende Aktionen\, u.a.\n\nGlobaler Klimastreik der Fridays for Future in Köln am 14.02.25\n\n\nOben bleiben\, aktueller Stand\nTeilnahme Kölner Klimawoche 7. bis 13. Juli 2025.\nWie umgehen mit den mittlerweile anti-sozialen Media Plattformen Facebook\, Instagram\, YouTube und X?\n\nSachstand\nAlternativen\nSzenarien\n\n\nSonstiges
URL:https://koelle4future.de/event/offenes-plenum-februar-25/
LOCATION:Heumarkt\, Heumarkt\, Köln\, 50667\, Deutschland
CATEGORIES:Plenum
ATTACH;FMTTYPE=image/jpeg:https://koelle4future.de/wp-content/uploads/2024/08/201017-NRW-Tag35k.jpg
END:VEVENT
END:VCALENDAR