BEGIN:VCALENDAR
VERSION:2.0
PRODID:-//Kölle for Future - ECPv6.15.20//NONSGML v1.0//EN
CALSCALE:GREGORIAN
METHOD:PUBLISH
X-ORIGINAL-URL:https://koelle4future.de
X-WR-CALDESC:Veranstaltungen für Kölle for Future
REFRESH-INTERVAL;VALUE=DURATION:PT1H
X-Robots-Tag:noindex
X-PUBLISHED-TTL:PT1H
BEGIN:VTIMEZONE
TZID:Europe/Berlin
BEGIN:DAYLIGHT
TZOFFSETFROM:+0100
TZOFFSETTO:+0200
TZNAME:CEST
DTSTART:20240331T010000
END:DAYLIGHT
BEGIN:STANDARD
TZOFFSETFROM:+0200
TZOFFSETTO:+0100
TZNAME:CET
DTSTART:20241027T010000
END:STANDARD
BEGIN:DAYLIGHT
TZOFFSETFROM:+0100
TZOFFSETTO:+0200
TZNAME:CEST
DTSTART:20250330T010000
END:DAYLIGHT
BEGIN:STANDARD
TZOFFSETFROM:+0200
TZOFFSETTO:+0100
TZNAME:CET
DTSTART:20251026T010000
END:STANDARD
BEGIN:DAYLIGHT
TZOFFSETFROM:+0100
TZOFFSETTO:+0200
TZNAME:CEST
DTSTART:20260329T010000
END:DAYLIGHT
BEGIN:STANDARD
TZOFFSETFROM:+0200
TZOFFSETTO:+0100
TZNAME:CET
DTSTART:20261025T010000
END:STANDARD
END:VTIMEZONE
BEGIN:VEVENT
DTSTART;TZID=Europe/Berlin:20250104T150000
DTEND;TZID=Europe/Berlin:20250104T170000
DTSTAMP:20260426T042347
CREATED:20241222T111859Z
LAST-MODIFIED:20241222T111859Z
UID:18574-1736002800-1736010000@koelle4future.de
SUMMARY:Plenum Parents for Future Januar 2025
DESCRIPTION:Herzliche Einladung zum internen Plenum der Parents for Future Köln. \nWir treffen uns vor Ort im Allerweltshaus\, Geisselstr. 3-5\, Köln \nDie Themen findest Du im Infochat und auf WeChange. \nDie vorläufige Tagesordnung: \n\nUpdate anstehende Aktionen\,u.a.\n\nGlobaler Klimastreik der Fridays for Future in Köln am 14.02.25\n\n\nRückblick 2024\nOben bleiben\, aktueller Stand\nSonstiges
URL:https://koelle4future.de/event/plenum-parents-for-future-2501/
LOCATION:Allerweltshaus\, Geisselstraße 3\, Köln\, 50823\, Deutschland
CATEGORIES:Plenum
END:VEVENT
BEGIN:VEVENT
DTSTART;TZID=Europe/Berlin:20250104T170000
DTEND;TZID=Europe/Berlin:20250104T180000
DTSTAMP:20260426T042347
CREATED:20241222T111552Z
LAST-MODIFIED:20241222T111552Z
UID:18571-1736010000-1736013600@koelle4future.de
SUMMARY:Offenes Plenum Januar 25
DESCRIPTION:Herzliche Einladung zum Treffen der Kölner for Future Gruppen. \nZum Jahrsauftakt treffen wir uns im Allerweltshaus\, Geisselstr. 3-5\, Köln \nDie Themen findest Du im Infochat und auf WeChange. Die vorläufige Tagesordnung: \n\nUpdate anstehende Aktionen\,u.a.\n\nGlobaler Klimastreik der Fridays for Future in Köln am 14.02.25\n\n\nRückblick 2024\nOben bleiben\, aktueller Stand\nSonstiges
URL:https://koelle4future.de/event/offenes-plenum-2501/
LOCATION:Allerweltshaus\, Geisselstraße 3\, Köln\, 50823\, Deutschland
CATEGORIES:Plenum
ATTACH;FMTTYPE=image/jpeg:https://koelle4future.de/wp-content/uploads/2024/08/201017-NRW-Tag35k.jpg
END:VEVENT
END:VCALENDAR