BEGIN:VCALENDAR
VERSION:2.0
PRODID:-//Kölle for Future - ECPv6.15.20//NONSGML v1.0//EN
CALSCALE:GREGORIAN
METHOD:PUBLISH
X-ORIGINAL-URL:https://koelle4future.de
X-WR-CALDESC:Veranstaltungen für Kölle for Future
REFRESH-INTERVAL;VALUE=DURATION:PT1H
X-Robots-Tag:noindex
X-PUBLISHED-TTL:PT1H
BEGIN:VTIMEZONE
TZID:Europe/Berlin
BEGIN:DAYLIGHT
TZOFFSETFROM:+0100
TZOFFSETTO:+0200
TZNAME:CEST
DTSTART:20230326T010000
END:DAYLIGHT
BEGIN:STANDARD
TZOFFSETFROM:+0200
TZOFFSETTO:+0100
TZNAME:CET
DTSTART:20231029T010000
END:STANDARD
BEGIN:DAYLIGHT
TZOFFSETFROM:+0100
TZOFFSETTO:+0200
TZNAME:CEST
DTSTART:20240331T010000
END:DAYLIGHT
BEGIN:STANDARD
TZOFFSETFROM:+0200
TZOFFSETTO:+0100
TZNAME:CET
DTSTART:20241027T010000
END:STANDARD
BEGIN:DAYLIGHT
TZOFFSETFROM:+0100
TZOFFSETTO:+0200
TZNAME:CEST
DTSTART:20250330T010000
END:DAYLIGHT
BEGIN:STANDARD
TZOFFSETFROM:+0200
TZOFFSETTO:+0100
TZNAME:CET
DTSTART:20251026T010000
END:STANDARD
END:VTIMEZONE
BEGIN:VEVENT
DTSTART;VALUE=DATE:20241123
DTEND;VALUE=DATE:20241124
DTSTAMP:20260426T014856
CREATED:20241122T132245Z
LAST-MODIFIED:20241122T132245Z
UID:18048-1732320000-1732406399@koelle4future.de
SUMMARY:Von der Ohnmacht zum Handeln – Wie wir vor Ort unsere Demokratie stärken können
DESCRIPTION:Offene Kommunen NRW Barcamp 2024\n\n\n\nTHEMA\n\n\n\n\n\n\nDie Herausforderungen für unsere Demokratie werden zunehmend komplexer. Deshalb ist es entscheidend\, dass wir nicht in Empörung verharren\, sondern lösungsorientiert handeln. Dieses OKNRW-Barcamp widmet sich der Frage\, wie wir unsere Handlungsfähigkeit stärken und neue Verbindungen schaffen können. \nIm Fokus steht\, über institutionelle Grenzen hinweg positiv zu gestalten\, Ideen zu entwickeln und sich zu vernetzen. Wir freuen uns\, dass Mehr Demokratie e.V.\, die Bergische VHS und Talbeteiligung das diesjährige Barcamp mitveranstalten. \nZentrale Fragen des OKNRW-Barcamps: \n\nWie können wir uns persönlich engagieren?\nWie stärken wir kommunale Demokratie?\nWie nutzen wir Netzwerke effektiv?\nWelche Erfolgsgeschichten inspirieren uns?\nWie setzen wir digitale Infrastrukturen ein?\nWie schaffen wir freigestaltbare Lebensräume?\nWelche Ressourcen und Lösungsansätze gibt es?\n\nWarum gerade jetzt? \nUnsere Demokratie ist keine Selbstverständlichkeit\, sondern ein kontinuierlicher Prozess. Gerade auf lokaler Ebene können wir direkt Einfluss nehmen und diesen Prozess aktiv mitgestalten. Doch das setzt voraus\, dass wir uns nicht ohnmächtig fühlen\, sondern den Mut und die richtigen Ansätze zum Handeln haben. \nDieses OKNRW-Barcamp bietet Euch die Möglichkeit\, Euch mit Gleichgesinnten auszutauschen\, neue Ideen zu entwickeln und konkrete Maßnahmen zu diskutieren. Es geht darum\, demokratische Selbstwirksamkeit zu erfahren und zu erleben\, dass jeder Beitrag zählt. Egal\, ob Ihr bereits aktiv seid oder gerade erst überlegt\, Euch stärker einzubringen – dieses OKNRW-Barcamp ist der Ort\, um gemeinsam zu lernen\, zu gestalten und unsere Demokratie vor Ort zu stärken. \nEin Barcamp ist eine offene Konferenzform\, bei der die Teilnehmenden selbst die Inhalte und den Ablauf bestimmen\, indem sie zu Beginn der Veranstaltung Themen vorschlagen und Workshops organisieren\, wodurch ein interaktiver und flexibler Austausch von Wissen und Ideen ermöglicht wird. \nUnsere Ziele: \n\nStärkung der Demokratie: Wie können wir das politische Bewusstsein vor Ort schärfen und unsere Handlungsfähigkeit erhöhen?\nVielfalt in der Beteiligung: Wie schaffen wir es\, dass mehr Menschen teilhaben und ihre Stimmen einbringen?\nOffene Gesellschaft: Wie verteidigen wir unsere demokratischen Werte und sorgen dafür\, dass sie im Alltag gelebt werden?\n\nAnmelden \nhttps://oknrw.de/veranstaltungen/offene-kommunen-nrw-2024/
URL:https://koelle4future.de/event/demokratie-staerken/
LOCATION:Bergische Volkshochschule Wuppertal\, Auer Schulstraße 20\, Wuppertal\, 42103\, Germany
CATEGORIES:Demokratielabor
ATTACH;FMTTYPE=image/jpeg:https://koelle4future.de/wp-content/uploads/2024/11/OKNRW_2024-1024x576-1.jpg
END:VEVENT
END:VCALENDAR