BEGIN:VCALENDAR
VERSION:2.0
PRODID:-//Kölle for Future - ECPv6.15.20//NONSGML v1.0//EN
CALSCALE:GREGORIAN
METHOD:PUBLISH
X-WR-CALNAME:Kölle for Future
X-ORIGINAL-URL:https://koelle4future.de
X-WR-CALDESC:Veranstaltungen für Kölle for Future
REFRESH-INTERVAL;VALUE=DURATION:PT1H
X-Robots-Tag:noindex
X-PUBLISHED-TTL:PT1H
BEGIN:VTIMEZONE
TZID:Europe/Berlin
BEGIN:DAYLIGHT
TZOFFSETFROM:+0100
TZOFFSETTO:+0200
TZNAME:CEST
DTSTART:20230326T010000
END:DAYLIGHT
BEGIN:STANDARD
TZOFFSETFROM:+0200
TZOFFSETTO:+0100
TZNAME:CET
DTSTART:20231029T010000
END:STANDARD
BEGIN:DAYLIGHT
TZOFFSETFROM:+0100
TZOFFSETTO:+0200
TZNAME:CEST
DTSTART:20240331T010000
END:DAYLIGHT
BEGIN:STANDARD
TZOFFSETFROM:+0200
TZOFFSETTO:+0100
TZNAME:CET
DTSTART:20241027T010000
END:STANDARD
BEGIN:DAYLIGHT
TZOFFSETFROM:+0100
TZOFFSETTO:+0200
TZNAME:CEST
DTSTART:20250330T010000
END:DAYLIGHT
BEGIN:STANDARD
TZOFFSETFROM:+0200
TZOFFSETTO:+0100
TZNAME:CET
DTSTART:20251026T010000
END:STANDARD
END:VTIMEZONE
BEGIN:VEVENT
DTSTART;TZID=Europe/Berlin:20241012T120000
DTEND;TZID=Europe/Berlin:20241012T150000
DTSTAMP:20260425T225718
CREATED:20241011T061437Z
LAST-MODIFIED:20241011T061437Z
UID:17599-1728734400-1728745200@koelle4future.de
SUMMARY:NATO-Atomkriegsmanöver 2024 stoppen!
DESCRIPTION:Auftakt um 12.00 Uhr am Kriegsflugplatz Nörvenich\, 12.30 Uhr Demonstrationszug\, ca. 13.00 Uhr Kundgebung: Schlosspark Nörvenich \nBei der Kundgebung werden u.a. sprechen: \n\nHeiner Krüger\, Friedensgruppe Düren // Susan van der Hijden\, Catholic Worker Amsterdam // Dr. Uwe Trieschmann\, IPPNW-Regionalgruppe Köln // NN\, Solidarity of Korean People in Europe // NN\, ICAN // Gerold König\, Bundesvorstand pax christi\nKultur: Nic Knatterton&Kira. Das Marmeladen-Duett aus Aachen. Rap und Klavier // Gerd Schinkel\, Gitarre\nModeration: Detlef Peikert\, Antikriegsbündnis Aachen\n\nDetails \nhttps://www.atomwaffenfrei.de/home/artikel/0ebc8ca542c0d8881049be21edb8bb4c/nato-atomkriegsmanoever-2024-stoppen.html \n 
URL:https://koelle4future.de/event/nato-atomkriegsmanoever-2024-stoppen/
LOCATION:Schlossplatz Nörvenich\, Burgstraße 24\, Nörvenich\, 52388\, Germany
CATEGORIES:Demo
ATTACH;FMTTYPE=image/png:https://koelle4future.de/wp-content/uploads/2024/10/header_noervenich_2024_klein.png
END:VEVENT
BEGIN:VEVENT
DTSTART;TZID=Europe/Berlin:20241012T150000
DTEND;TZID=Europe/Berlin:20241012T180000
DTSTAMP:20260425T225718
CREATED:20240823T052922Z
LAST-MODIFIED:20240930T105707Z
UID:16410-1728745200-1728756000@koelle4future.de
SUMMARY:Treffen Parents for Future Oktober 24
DESCRIPTION:Herzliche Einladung zum Treffen der Parents for Future Köln. \nWir treffen uns vor Ort in der Alten Feuerwache. \nDie Themen findest Du im Infochat und auf WeChange. Die vorläufige Tagesordnung: \n\nUpdate anstehende Aktionen\,u.a.\nRückblick August / September\nOben bleiben\, aktueller Stand\nStrategie Herbst / Winter 2024/2025\nSonstiges
URL:https://koelle4future.de/event/treffen-parents-for-future-oktober-24/
LOCATION:Alte Feuerwache Köln\, Melchiorstraße 3\, Köln\, 50670\, Deutschland
CATEGORIES:Plenum
END:VEVENT
BEGIN:VEVENT
DTSTART;TZID=Europe/Berlin:20241012T150000
DTEND;TZID=Europe/Berlin:20241012T200000
DTSTAMP:20260425T225718
CREATED:20241009T091555Z
LAST-MODIFIED:20241009T091555Z
UID:17582-1728745200-1728763200@koelle4future.de
SUMMARY:Wasserfest in Kuckum
DESCRIPTION:Wann?\n\n\n\n12.10.2024 – 15 bis 20 Uhr \n\n\n\nWo?\n\n\n\nKuckumer Quellenweg 31\, 41812 Erkelenz \n\n\n\nWas?\n\n\n\n\nAktion für Kinder\n\n\n\nChor „Piece of Piece“\n\n\n\nKunstaktionen\n\n\n\nVortrag von ANSEV (Allianz für nachhaltigen Strukturwandel)\n\n\n\nGitarrenmusik unplugged\n\n\n\nVortrag von Toren Schulz (Zweckverband Landfolge)\n\n\n\nAustausch mit Menschen aus der Reion\n\n\n\nVeganes Essen und Getränke\n\n\n\n\nOrga\n\n\n\nAlle Dörfer bleiben \n\n\n\nMahnwache Lützerath lebt \n\n\n\nWasserbündnis Rheinisches Revier \n\n\n\n 
URL:https://koelle4future.de/event/wasserfest-in-kuckum/
LOCATION:Kuckumer Quellenweg\, Kuckumer Quellenweg 31\, Erkelenz\, 41812\, Germany
CATEGORIES:Mach was!
ATTACH;FMTTYPE=image/jpeg:https://koelle4future.de/wp-content/uploads/2024/10/241012-wasserfest.jpg
END:VEVENT
END:VCALENDAR