BEGIN:VCALENDAR
VERSION:2.0
PRODID:-//Kölle for Future - ECPv6.15.20//NONSGML v1.0//EN
CALSCALE:GREGORIAN
METHOD:PUBLISH
X-ORIGINAL-URL:https://koelle4future.de
X-WR-CALDESC:Veranstaltungen für Kölle for Future
REFRESH-INTERVAL;VALUE=DURATION:PT1H
X-Robots-Tag:noindex
X-PUBLISHED-TTL:PT1H
BEGIN:VTIMEZONE
TZID:Europe/Berlin
BEGIN:DAYLIGHT
TZOFFSETFROM:+0100
TZOFFSETTO:+0200
TZNAME:CEST
DTSTART:20230326T010000
END:DAYLIGHT
BEGIN:STANDARD
TZOFFSETFROM:+0200
TZOFFSETTO:+0100
TZNAME:CET
DTSTART:20231029T010000
END:STANDARD
BEGIN:DAYLIGHT
TZOFFSETFROM:+0100
TZOFFSETTO:+0200
TZNAME:CEST
DTSTART:20240331T010000
END:DAYLIGHT
BEGIN:STANDARD
TZOFFSETFROM:+0200
TZOFFSETTO:+0100
TZNAME:CET
DTSTART:20241027T010000
END:STANDARD
BEGIN:DAYLIGHT
TZOFFSETFROM:+0100
TZOFFSETTO:+0200
TZNAME:CEST
DTSTART:20250330T010000
END:DAYLIGHT
BEGIN:STANDARD
TZOFFSETFROM:+0200
TZOFFSETTO:+0100
TZNAME:CET
DTSTART:20251026T010000
END:STANDARD
END:VTIMEZONE
BEGIN:VEVENT
DTSTART;TZID=Europe/Berlin:20240902T190000
DTEND;TZID=Europe/Berlin:20240902T210000
DTSTAMP:20260425T183339
CREATED:20240814T130627Z
LAST-MODIFIED:20240820T082036Z
UID:16307-1725303600-1725310800@koelle4future.de
SUMMARY:Köln bleibt oben
DESCRIPTION:Im Herbst soll in Köln die wichtigste verkehrspolitische Entscheidung für Jahrzehnte fallen: \n\nWird ein Stadtbahn-Tunnel quer durch die Innenstadt gebaut?\nOder wird die Ost-West-Achse oberirdisch ausgebaut?\n\nUnd wenn ja\, wie? \nInformationsverantaltung: 02. September 2024  – 19.30 Uhr im Hotel Maritim \nEinlass ab 19 Uhr \nProgramm\nDer Verkehrsexperte Prof. Dr. Volker Stölting sowie Expert*innen von „Köln bleibt oben“ erläutern\, wie die Ost-West-Achse schnell\, kostengünstig\, klimafreundlich und barrierefrei unter Beibehaltung der 60-m-Bahnen ertüchtigt werden kann. \nSie erklären\, warum auf den Tunnel und auf die 90-m-Bahnen verzichtet werden kann und muss. \nIm Anschluss \n\nPublikumsdiskussion und Beantwortung von Fragen\nRatspolitiker*innen stehen Rede und Antwort\, Verwaltung und KVB sind ebenfalls eingeladen mitzudiskutieren\n\nEs laden ein\n\nVerkehrswende Köln\nBürgerinteressengemeinschaft Weiden e.V. (BIG-Weiden)\nBürgerinteressengemeinschaft Junkersdorf e.V. (BIG Junkersdorf)\nIGBB Braunsfelder Bürger*innen\nRobin Wood\nWir vom Rathenauplatz\n\nMehr infos: info@koeln-bleibt-oben.de \nPressemeldungen\nInitiativen wollen gemeinsam gegen Tunnel auf der Ost-West-Achse und für 60 Meter Züge streiten – Report-K
URL:https://koelle4future.de/event/koeln-bleibt-oben/
LOCATION:Maritim Hotel Köln\, Heumarkt 20\, Köln\, 50667\, Deutschland
CATEGORIES:Vortrag und Austausch
ATTACH;FMTTYPE=image/png:https://koelle4future.de/wp-content/uploads/2024/08/240902-oben-bleiben.png
END:VEVENT
END:VCALENDAR