BEGIN:VCALENDAR
VERSION:2.0
PRODID:-//Kölle for Future - ECPv6.15.20//NONSGML v1.0//EN
CALSCALE:GREGORIAN
METHOD:PUBLISH
X-ORIGINAL-URL:https://koelle4future.de
X-WR-CALDESC:Veranstaltungen für Kölle for Future
REFRESH-INTERVAL;VALUE=DURATION:PT1H
X-Robots-Tag:noindex
X-PUBLISHED-TTL:PT1H
BEGIN:VTIMEZONE
TZID:Europe/Berlin
BEGIN:DAYLIGHT
TZOFFSETFROM:+0100
TZOFFSETTO:+0200
TZNAME:CEST
DTSTART:20230326T010000
END:DAYLIGHT
BEGIN:STANDARD
TZOFFSETFROM:+0200
TZOFFSETTO:+0100
TZNAME:CET
DTSTART:20231029T010000
END:STANDARD
BEGIN:DAYLIGHT
TZOFFSETFROM:+0100
TZOFFSETTO:+0200
TZNAME:CEST
DTSTART:20240331T010000
END:DAYLIGHT
BEGIN:STANDARD
TZOFFSETFROM:+0200
TZOFFSETTO:+0100
TZNAME:CET
DTSTART:20241027T010000
END:STANDARD
BEGIN:DAYLIGHT
TZOFFSETFROM:+0100
TZOFFSETTO:+0200
TZNAME:CEST
DTSTART:20250330T010000
END:DAYLIGHT
BEGIN:STANDARD
TZOFFSETFROM:+0200
TZOFFSETTO:+0100
TZNAME:CET
DTSTART:20251026T010000
END:STANDARD
END:VTIMEZONE
BEGIN:VEVENT
DTSTART;TZID=Europe/Berlin:20240729T090000
DTEND;TZID=Europe/Berlin:20240809T160000
DTSTAMP:20260425T173119
CREATED:20240719T055531Z
LAST-MODIFIED:20240719T055531Z
UID:16029-1722243600-1723219200@koelle4future.de
SUMMARY:Solarcamp Köln-Bonn
DESCRIPTION:Werde Solar-Fit im Solarcamp Köln-Bonn!\nHey\, du! Bist du bereit für ein unvergessliches Sommerabenteuer und willst dabei noch etwas richtig Sinnvolles lernen? Dann komm zu unserem Solarcamp Köln-Bonn und mach dich fit in Solarenergie! \nWann?\nVom 29.07. bis 09.08.2024 \nWo?\nDirekt am Rhein im Latibul – einem echten Zirkusplatz-Flair! Nur 10 Minuten vom Kölner Dom entfernt. \nWas erwartet dich?\nWoche 1\nLerne die theoretischen Grundlagen der Photovoltaik und setze sie sofort in die Praxis um. Gemeinsam installieren wir Solarpanele auf Schräg- und Flachdächern sowie auf Balkonen. \nWoche 2\nEntscheide dich für ein spannendes Praktikum beim Dachdecker oder Elektriker. Alternativ kannst du an Selbstbau-Workshops teilnehmen und den EUP-Schein (Elektrisch unterwiesene Person) machen – der perfekte Start in eine Ausbildung im Bereich erneuerbare Energien. \nWo schläfst du?\nWähle zwischen einem gemütlichen Bauwagen oder bring dein eigenes Zelt mit. \nWas bieten wir?\nVon 9-16 Uhr lernst und arbeitest du praktisch mit Spaß und Freude. Danach hast du freie Zeit\, um die Stadt zu erkunden und neue Freundschaften zu schließen. \nWarum solltest du dabei sein?\n\nWerde fit in Solarenergie\nGenieße den Sommer auf einem einzigartigen Zirkusplatz\nErlebe spannende Praktika und Workshops\nLerne neue Leute kennen und entdecke Köln\n\nMelde dich jetzt an!\n👉 https://solarcamp-koeln-bonn.de/ \nWir freuen uns auf dich!
URL:https://koelle4future.de/event/solarcamp-koeln-bonn/
CATEGORIES:Mach was!
ATTACH;FMTTYPE=image/jpeg:https://koelle4future.de/wp-content/uploads/2024/07/2407-solarcamp.jpg
END:VEVENT
END:VCALENDAR