BEGIN:VCALENDAR
VERSION:2.0
PRODID:-//Kölle for Future - ECPv6.15.20//NONSGML v1.0//EN
CALSCALE:GREGORIAN
METHOD:PUBLISH
X-ORIGINAL-URL:https://koelle4future.de
X-WR-CALDESC:Veranstaltungen für Kölle for Future
REFRESH-INTERVAL;VALUE=DURATION:PT1H
X-Robots-Tag:noindex
X-PUBLISHED-TTL:PT1H
BEGIN:VTIMEZONE
TZID:Europe/Berlin
BEGIN:DAYLIGHT
TZOFFSETFROM:+0100
TZOFFSETTO:+0200
TZNAME:CEST
DTSTART:20230326T010000
END:DAYLIGHT
BEGIN:STANDARD
TZOFFSETFROM:+0200
TZOFFSETTO:+0100
TZNAME:CET
DTSTART:20231029T010000
END:STANDARD
BEGIN:DAYLIGHT
TZOFFSETFROM:+0100
TZOFFSETTO:+0200
TZNAME:CEST
DTSTART:20240331T010000
END:DAYLIGHT
BEGIN:STANDARD
TZOFFSETFROM:+0200
TZOFFSETTO:+0100
TZNAME:CET
DTSTART:20241027T010000
END:STANDARD
BEGIN:DAYLIGHT
TZOFFSETFROM:+0100
TZOFFSETTO:+0200
TZNAME:CEST
DTSTART:20250330T010000
END:DAYLIGHT
BEGIN:STANDARD
TZOFFSETFROM:+0200
TZOFFSETTO:+0100
TZNAME:CET
DTSTART:20251026T010000
END:STANDARD
END:VTIMEZONE
BEGIN:VEVENT
DTSTART;TZID=Europe/Berlin:20240720T143000
DTEND;TZID=Europe/Berlin:20240720T170000
DTSTAMP:20260425T141901
CREATED:20240717T200334Z
LAST-MODIFIED:20240820T082113Z
UID:16012-1721485800-1721494800@koelle4future.de
SUMMARY:Gremberger Wäldchen bleibt - Infoveranstaltung
DESCRIPTION:Die A4 soll ausgebaut werden! Aktivist*innen besetzen das Gremberger Wäldchen! \nMahnwache\, Waldspaziergang etc. … Was ist da eigentlich los und was soll da noch kommen?! \nDas erfahrt ihr am 20.7.24 ab 14.30 Uhr im Naturfreundehaus Kalk. \nMitglieder der Bürgerinitiative A4minus werden uns über die geplanten Baumaßnahmen Informieren\, die Initiative ‚Grembergerger Wäldchen bleibt‘ stellt sich vor. Es gibt leckeres Essen und eure Kinder können den Garten unsicher machen.
URL:https://koelle4future.de/event/gremberger-waeldchen-bleibt-infoveranstaltung/
LOCATION:Naturfreundehaus Köln-Kalk\, Kapellenstraße 9a\, Köln\, 51103\, Deutschland
ATTACH;FMTTYPE=image/jpeg:https://koelle4future.de/wp-content/uploads/2024/07/240720-Info-grembi.jpeg
END:VEVENT
END:VCALENDAR