BEGIN:VCALENDAR
VERSION:2.0
PRODID:-//Kölle for Future - ECPv6.15.20//NONSGML v1.0//EN
CALSCALE:GREGORIAN
METHOD:PUBLISH
X-WR-CALNAME:Kölle for Future
X-ORIGINAL-URL:https://koelle4future.de
X-WR-CALDESC:Veranstaltungen für Kölle for Future
REFRESH-INTERVAL;VALUE=DURATION:PT1H
X-Robots-Tag:noindex
X-PUBLISHED-TTL:PT1H
BEGIN:VTIMEZONE
TZID:Europe/Berlin
BEGIN:DAYLIGHT
TZOFFSETFROM:+0100
TZOFFSETTO:+0200
TZNAME:CEST
DTSTART:20230326T010000
END:DAYLIGHT
BEGIN:STANDARD
TZOFFSETFROM:+0200
TZOFFSETTO:+0100
TZNAME:CET
DTSTART:20231029T010000
END:STANDARD
BEGIN:DAYLIGHT
TZOFFSETFROM:+0100
TZOFFSETTO:+0200
TZNAME:CEST
DTSTART:20240331T010000
END:DAYLIGHT
BEGIN:STANDARD
TZOFFSETFROM:+0200
TZOFFSETTO:+0100
TZNAME:CET
DTSTART:20241027T010000
END:STANDARD
BEGIN:DAYLIGHT
TZOFFSETFROM:+0100
TZOFFSETTO:+0200
TZNAME:CEST
DTSTART:20250330T010000
END:DAYLIGHT
BEGIN:STANDARD
TZOFFSETFROM:+0200
TZOFFSETTO:+0100
TZNAME:CET
DTSTART:20251026T010000
END:STANDARD
END:VTIMEZONE
BEGIN:VEVENT
DTSTART;VALUE=DATE:20240628
DTEND;VALUE=DATE:20240701
DTSTAMP:20260425T141548
CREATED:20240521T124517Z
LAST-MODIFIED:20240521T124517Z
UID:15147-1719532800-1719791999@koelle4future.de
SUMMARY:Widersetzen - AfD Parteitag in Essen verhindern
DESCRIPTION:X-Post von widersetzen.com \nAm 25.4. haben 170 Einzelpersonen und Vertreter*innen von Organisationen und Initiativen widersetzen gegründet. Das ist die Resolution zur Gründung: \nDer Provokation der AfD ihren Bundesparteitag ausgerechnet im Ruhrgebiet mit 200 Jahren Geschichte von Migration abzuhalten\, widersetzen wir uns.\nDie AfD ist eine von Faschisten geführte Partei\, die Millionen von Mitbürger*innen deportieren will und einen antidemokratischen Umsturz plant. \nWir stehen an der Seite von Millionen Menschen\, die in den letzten Monaten gegen die Deportationspläne der AfD auf die Straße gegangen sind. \nWir sagen aber auch: Wenn wir der AfD nicht aktiv den Raum nehmen\, den sie sich nehmen will\, werden wir die Ausbreitung des Faschismus nicht verhindern. \nWir wollen klar machen\, dass es unsere Räume sind: Räume der Demokratie\, der Vielfalt und der Menschlichkeit. Dabei agieren wir auch mit Mitteln des zivilen Ungehorsams\, bei denen alle mitmachen können. Von uns geht dabei keine Gewalt und keine Eskalation aus. \nWir sind solidarisch und fürsorglich miteinander. Wir wünschen uns: „bunten“ zivilen Ungehorsam – bunt auch im Kleidungsbild\, fröhliche Aktionen – bringt Musikinstrumente und geeignete Spiele mit. Seid kreativ. Wir widersetzen uns.
URL:https://koelle4future.de/event/widersetzen-afd-parteitag-in-essen-verhindern/
LOCATION:Essen
CATEGORIES:Demo,Mach was!
ATTACH;FMTTYPE=image/png:https://koelle4future.de/wp-content/uploads/2024/05/2406-widersetzen.png
END:VEVENT
BEGIN:VEVENT
DTSTART;TZID=Europe/Berlin:20240630T150000
DTEND;TZID=Europe/Berlin:20240630T170000
DTSTAMP:20260425T141548
CREATED:20240625T105908Z
LAST-MODIFIED:20240625T105908Z
UID:15848-1719759600-1719766800@koelle4future.de
SUMMARY:1. Kidical Mass in Bornheim
DESCRIPTION:Sonntag\, 30.06.2024 – 1. Kidical Mass in Bornheim \nStart: 15 Uhr am Alexander von Humbold Gymnasium \nFür sichere und bessere Radwege\, auch zu den Rheindörfern \nMit Übergabe unserer Radwegepetition an den Rat der Stadt
URL:https://koelle4future.de/event/kidical-mass-bornheim/
LOCATION:Alexander-von-Humboldt-Gymnasium Bornheim\, Adenauerallee 50\, Bornheim\, 53332\, Deutschland
CATEGORIES:Mach was!
ATTACH;FMTTYPE=image/jpeg:https://koelle4future.de/wp-content/uploads/2024/06/240630-kidicalmass_bornheim.jpg
END:VEVENT
END:VCALENDAR