BEGIN:VCALENDAR
VERSION:2.0
PRODID:-//Kölle for Future - ECPv6.15.20//NONSGML v1.0//EN
CALSCALE:GREGORIAN
METHOD:PUBLISH
X-WR-CALNAME:Kölle for Future
X-ORIGINAL-URL:https://koelle4future.de
X-WR-CALDESC:Veranstaltungen für Kölle for Future
REFRESH-INTERVAL;VALUE=DURATION:PT1H
X-Robots-Tag:noindex
X-PUBLISHED-TTL:PT1H
BEGIN:VTIMEZONE
TZID:Europe/Berlin
BEGIN:DAYLIGHT
TZOFFSETFROM:+0100
TZOFFSETTO:+0200
TZNAME:CEST
DTSTART:20230326T010000
END:DAYLIGHT
BEGIN:STANDARD
TZOFFSETFROM:+0200
TZOFFSETTO:+0100
TZNAME:CET
DTSTART:20231029T010000
END:STANDARD
BEGIN:DAYLIGHT
TZOFFSETFROM:+0100
TZOFFSETTO:+0200
TZNAME:CEST
DTSTART:20240331T010000
END:DAYLIGHT
BEGIN:STANDARD
TZOFFSETFROM:+0200
TZOFFSETTO:+0100
TZNAME:CET
DTSTART:20241027T010000
END:STANDARD
BEGIN:DAYLIGHT
TZOFFSETFROM:+0100
TZOFFSETTO:+0200
TZNAME:CEST
DTSTART:20250330T010000
END:DAYLIGHT
BEGIN:STANDARD
TZOFFSETFROM:+0200
TZOFFSETTO:+0100
TZNAME:CET
DTSTART:20251026T010000
END:STANDARD
END:VTIMEZONE
BEGIN:VEVENT
DTSTART;TZID=Europe/Berlin:20240624T100000
DTEND;TZID=Europe/Berlin:20240624T121500
DTSTAMP:20260423T144553
CREATED:20240609T073353Z
LAST-MODIFIED:20240609T073353Z
UID:15577-1719223200-1719231300@koelle4future.de
SUMMARY:Mahnwache vor der Sondersitzung des Verkehrsausschusses
DESCRIPTION:Montag\, 24. Juni 2024 von 10:00 Uhr bis 12:00 Uhr \nDiesmal machen wir eine Mahnwache vor der Sondersitzung des Verkehrsausschusses! \nAm Montag\, dem 24. Juni 2024 um 12:00 Uhr tagt der Verkehrsausschuss des Rates zu einer Sondersitzung! Der Ausschuss tagt im Ratssaal (Spanischer Bau)\, wo auch die Ratssitzungen stattfinden. Einziges Thema ist der Variantenentscheid zur Ertüchtigung der Ost-West-Achse der KVB in der Innenstadt. Entschieden wird über eine oberirdische Variante (Verlängerung der Bahnsteige) und eine unterirsiche Variante („U-Bahn“-Tunnel zwischen Deutzer Brücke und Aachener Weiher). Beabsichtigt ist\, dass eine Variante noch vor den Sommerferien verabschiedet wird\, deshalb gibt es diese Sondersitzung drei Tage vor der regulären Ratssitzung. Es ist aber nicht auszuschließen\, dass die Entscheidung vertagt wird\, vielleicht über die Sommerferien hinweg\, vielleicht sogar bis zur nächsten Wahl? \nDer Theo-Burauen-Platz liegt in Hörweite nördlich des Ratssaals und wir werden diesmal dort unsere Mahnwache abhalten. \nWir bitten um zahlreiches Erscheinen zu dieser entscheidenden Siztung für jede und jeden\, dem es am Montagmorgen möglich ist! Vielen Dank im Voraus! \nAuch vor der folgenden Ratssitzung drei Tage später planen wir eine Mahnwache\, siehe hier: \nhttps://verkehrswende.koeln/events/mahnwache-vor-der-ratssiztung-2024-06-27
URL:https://koelle4future.de/event/mahnwache-verkehrsausschusses-06-2024/
LOCATION:Rathaus Köln – Theo-Burauen-Platz\, Unter Goldschmied 9\, Köln\, 50667\, Deutschland
CATEGORIES:Demo
ATTACH;FMTTYPE=image/jpeg:https://koelle4future.de/wp-content/uploads/2024/04/2404-oben-bleiben.jpg
END:VEVENT
END:VCALENDAR