BEGIN:VCALENDAR
VERSION:2.0
PRODID:-//Kölle for Future - ECPv6.15.20//NONSGML v1.0//EN
CALSCALE:GREGORIAN
METHOD:PUBLISH
X-ORIGINAL-URL:https://koelle4future.de
X-WR-CALDESC:Veranstaltungen für Kölle for Future
REFRESH-INTERVAL;VALUE=DURATION:PT1H
X-Robots-Tag:noindex
X-PUBLISHED-TTL:PT1H
BEGIN:VTIMEZONE
TZID:Europe/Berlin
BEGIN:DAYLIGHT
TZOFFSETFROM:+0100
TZOFFSETTO:+0200
TZNAME:CEST
DTSTART:20230326T010000
END:DAYLIGHT
BEGIN:STANDARD
TZOFFSETFROM:+0200
TZOFFSETTO:+0100
TZNAME:CET
DTSTART:20231029T010000
END:STANDARD
BEGIN:DAYLIGHT
TZOFFSETFROM:+0100
TZOFFSETTO:+0200
TZNAME:CEST
DTSTART:20240331T010000
END:DAYLIGHT
BEGIN:STANDARD
TZOFFSETFROM:+0200
TZOFFSETTO:+0100
TZNAME:CET
DTSTART:20241027T010000
END:STANDARD
BEGIN:DAYLIGHT
TZOFFSETFROM:+0100
TZOFFSETTO:+0200
TZNAME:CEST
DTSTART:20250330T010000
END:DAYLIGHT
BEGIN:STANDARD
TZOFFSETFROM:+0200
TZOFFSETTO:+0100
TZNAME:CET
DTSTART:20251026T010000
END:STANDARD
END:VTIMEZONE
BEGIN:VEVENT
DTSTART;TZID=Europe/Berlin:20240420T103000
DTEND;TZID=Europe/Berlin:20240420T123000
DTSTAMP:20260425T131207
CREATED:20240302T163207Z
LAST-MODIFIED:20240419T060817Z
UID:14151-1713609000-1713616200@koelle4future.de
SUMMARY:Wir schaffen das nur gemeinsam! - Klimadialoge und Warming stripes (Klimazeitstrahl) auf dem Riehler Wochenmarkt
DESCRIPTION:Parents for Future Köln und weitere For Future-Gruppen laden mit „Warming Stripes“ zu Klimadialogen. Immer am dritten Samstag im Monat\, die Veranstaltungsorte wechseln. \n„Die Folgen des menschengemachten Klimawandels sind mittlerweile unübersehbar – ob Starkregen und Flut im Ahrtal\, das Austrocknen des Rheins oder 70% mehr Hitzetage in Köln\, die besonders in der Innenstadt zur Belastung werden – immer spielt die Klimakrise eine wichtige Rolle“\, erläutert Renate Schmid  von der Klimaschutzgruppe Parents for Future Köln. \n„Um den Kölner Beitrag zum Klimaschutz erbringen zu können\, müssen alle Kölnerinnen und Kölner mitmachen!“\, so Gerhard Regitz von der Solaroffensive Köln. \nBis 2035 will die Stadt Köln klimaneutral sein\, doch hat die städtische Verwaltung nur direkten Einfluss auf 15% der Treibhausgasemissionen der rheinischen Metropole. „Um die weiteren 85% der Emissionen auf Null zu bekommen\, müssen wir Kölnerinnen und Kölner zusammenstehen. Und das geht am besten\, wenn alle Bescheid wissen\, wie wichtig für unsere Zukunft Klimaschutz ist\,“ so Dieter Gehringer von den Grannies for Future. \nParents for Future Köln lädt in Zusammenarbeit mit anderen For Future-Gruppen daher die Kölner Stadtgemeinschaft zum Gespräch ein. Mit einem über 20m langen Transparent\, auf dem die „Warming Stripes“\, ergänzt mit vielen wichtigen Informationen zur Erderwärmung\, zu sehen sind\, werden klimaengagierte Bürger und Bürgerinnen an jedem dritten Samstag im Monat an zentralen Plätzen Kölns über die Klimakrise aufklären und Möglichkeiten der Beteiligung vorstellen. Die „Warming Stripes“ (Klimastreifen) geben anschaulich die Erwärmung der Erde seit Beginn der Industrialisierung wieder. \n„Auch wenn die Zeit für effektiven Klimaschutz drängt\, es ist noch nicht zu spät\, die schlimmsten Folgen zu verhindern! Lasst uns gemeinsam dafür sorgen\, dass Köln als Millionenstadt seinen wichtigen Beitrag zum Klimaschutz leistet“\, zieht Renate Schmid als Fazit. \nDie Termine der Warming Stripes-Kampagne der Parents for Future Köln (jeweils 10:30-12:30 Uhr) \n20.1. Wiener Platz\n17.2. Rudolfplatz\n16.3. Holweide\n20.4. Riehl\n18.5. Ecke Breite Str/Richmodisstr.\n15.6. Buchforst \nGenaue Ortsangaben werden vor jedem Termin noch bekannt gegeben. \nPressemitteilung\nWir schaffen das nur gemeinsam! – Kölle for Future (koelle4future.de) \n 
URL:https://koelle4future.de/event/klimadialoge-april2024/
LOCATION:Riehler Wochenmarkt\, Riehler Gürtel\, Köln\, 50735\, Deutschland
CATEGORIES:Demo,Mach was!
ATTACH;FMTTYPE=image/jpeg:https://koelle4future.de/wp-content/uploads/2024/01/2401-klimadialoge-warming-stripes.jpeg
END:VEVENT
BEGIN:VEVENT
DTSTART;TZID=Europe/Berlin:20240420T140000
DTEND;TZID=Europe/Berlin:20240420T200000
DTSTAMP:20260425T131207
CREATED:20240412T133748Z
LAST-MODIFIED:20240415T071554Z
UID:14565-1713621600-1713643200@koelle4future.de
SUMMARY:Fahrradentscheid Köln - Auftaktfest
DESCRIPTION:Wir fangen am 20. April 2024 endlich an\, Unterschriften für unsere Forderung zu sammeln! Den Sammelstart feiern wir mit einem großen Auftaktevent! \n\nWann? 20. April\, 14-20 Uhr\nWo? Bürgerhaus Stollwerck\, Dreikönigenstraße 23\, Innenstadt\n\nEs wird eine Bühne mit Live-Musik und Workshops geben und einen Markt mit Handwerks- und Kunstständen! Auch für euch Kinder wird es spannende Sachen geben. Und für das leibliche Wohl ist auch gesorgt. Und natürlich werden wir auch schon die ersten Unterschriftenzettel füllen 😉 \nEs wird ein ganzes Straßenfest und wir freuen uns auf den Tag mit euch!! \nX-Post von https://fahrrad-entscheid.koeln/aktuelles/bald-gehts-los-auftaktevent-zum-start-des-unterschriften-sammelns-am-20-april/ \nGroßes Auftaktevent am 20. April: Programm
URL:https://koelle4future.de/event/fahrradentscheid-koeln-auftaktfest/
LOCATION:Bürgerhaus Stollwerck\, Dreikönigenstraße 23\, Köln\, 50678
CATEGORIES:Mach was!
ATTACH;FMTTYPE=image/jpeg:https://koelle4future.de/wp-content/uploads/2024/04/240420-rharadentscheid-koeln.start_.jpeg
END:VEVENT
END:VCALENDAR