BEGIN:VCALENDAR
VERSION:2.0
PRODID:-//Kölle for Future - ECPv6.15.20//NONSGML v1.0//EN
CALSCALE:GREGORIAN
METHOD:PUBLISH
X-ORIGINAL-URL:https://koelle4future.de
X-WR-CALDESC:Veranstaltungen für Kölle for Future
REFRESH-INTERVAL;VALUE=DURATION:PT1H
X-Robots-Tag:noindex
X-PUBLISHED-TTL:PT1H
BEGIN:VTIMEZONE
TZID:Europe/Berlin
BEGIN:DAYLIGHT
TZOFFSETFROM:+0100
TZOFFSETTO:+0200
TZNAME:CEST
DTSTART:20230326T010000
END:DAYLIGHT
BEGIN:STANDARD
TZOFFSETFROM:+0200
TZOFFSETTO:+0100
TZNAME:CET
DTSTART:20231029T010000
END:STANDARD
BEGIN:DAYLIGHT
TZOFFSETFROM:+0100
TZOFFSETTO:+0200
TZNAME:CEST
DTSTART:20240331T010000
END:DAYLIGHT
BEGIN:STANDARD
TZOFFSETFROM:+0200
TZOFFSETTO:+0100
TZNAME:CET
DTSTART:20241027T010000
END:STANDARD
BEGIN:DAYLIGHT
TZOFFSETFROM:+0100
TZOFFSETTO:+0200
TZNAME:CEST
DTSTART:20250330T010000
END:DAYLIGHT
BEGIN:STANDARD
TZOFFSETFROM:+0200
TZOFFSETTO:+0100
TZNAME:CET
DTSTART:20251026T010000
END:STANDARD
END:VTIMEZONE
BEGIN:VEVENT
DTSTART;TZID=Europe/Berlin:20240417T190000
DTEND;TZID=Europe/Berlin:20240417T210000
DTSTAMP:20260425T131307
CREATED:20240415T152039Z
LAST-MODIFIED:20240415T152039Z
UID:14601-1713380400-1713387600@koelle4future.de
SUMMARY:Die Zukunft des Fahrrades in Köln
DESCRIPTION:Wie sieht die Zukunft des Fahrrads in Köln aus?\nWir laden herzlich ein zu unserer Podiumsdiskussion zur Zukunft des Fahrrads in Köln! Wir erwarten hochkarätige Gäste: Die Bundestagsabgeordnete Nyke Slawik (Grüne)\, die beiden Kölner Ratsmitglieder Teresa de Bellis-Olinger (CDU) und Lukas Lorenz (SPD) sowie Dr. Ute Symanski von der RADKOMM. \n\nWo? Gemeindehaus der Evangelischen Christuskriche\, Dellbrücker Mauspfad 345\, Köln Dellbrück\nWann? 17.04.\, 19-21 Uhr\n\nDen Abend moderiert Arnd Henze vom WDR\, ehemaliger Tagesschau-Korrespondent – ebenfalls eine sehr große Ehre für uns: Arnd Henze hat bereits 111 Podiumsdiskussionen in der Christuskirche moderiert! \nWir sind gespannt auf den Abend und freuen uns. Wir hoffen\, sehr viele von euch dort begrüßen zu dürfen! \nDer Eintritt ist frei\, eine Anmeldung nicht nötig.
URL:https://koelle4future.de/event/zukunft-fahrrad-koeln/
LOCATION:Ev. Gemeindehaus Christophkirche\, Dellbrücker Mauspfad 345\, Köln\, 51069\, Deutschland
CATEGORIES:Mach was!
ATTACH;FMTTYPE=image/png:https://koelle4future.de/wp-content/uploads/2024/04/240417-fahradzukunft.png
END:VEVENT
END:VCALENDAR