BEGIN:VCALENDAR
VERSION:2.0
PRODID:-//Kölle for Future - ECPv6.15.20//NONSGML v1.0//EN
CALSCALE:GREGORIAN
METHOD:PUBLISH
X-WR-CALNAME:Kölle for Future
X-ORIGINAL-URL:https://koelle4future.de
X-WR-CALDESC:Veranstaltungen für Kölle for Future
REFRESH-INTERVAL;VALUE=DURATION:PT1H
X-Robots-Tag:noindex
X-PUBLISHED-TTL:PT1H
BEGIN:VTIMEZONE
TZID:Europe/Berlin
BEGIN:DAYLIGHT
TZOFFSETFROM:+0100
TZOFFSETTO:+0200
TZNAME:CEST
DTSTART:20230326T010000
END:DAYLIGHT
BEGIN:STANDARD
TZOFFSETFROM:+0200
TZOFFSETTO:+0100
TZNAME:CET
DTSTART:20231029T010000
END:STANDARD
BEGIN:DAYLIGHT
TZOFFSETFROM:+0100
TZOFFSETTO:+0200
TZNAME:CEST
DTSTART:20240331T010000
END:DAYLIGHT
BEGIN:STANDARD
TZOFFSETFROM:+0200
TZOFFSETTO:+0100
TZNAME:CET
DTSTART:20241027T010000
END:STANDARD
BEGIN:DAYLIGHT
TZOFFSETFROM:+0100
TZOFFSETTO:+0200
TZNAME:CEST
DTSTART:20250330T010000
END:DAYLIGHT
BEGIN:STANDARD
TZOFFSETFROM:+0200
TZOFFSETTO:+0100
TZNAME:CET
DTSTART:20251026T010000
END:STANDARD
END:VTIMEZONE
BEGIN:VEVENT
DTSTART;TZID=Europe/Berlin:20240413T140000
DTEND;TZID=Europe/Berlin:20240413T170000
DTSTAMP:20260425T130448
CREATED:20240410T133013Z
LAST-MODIFIED:20240410T133013Z
UID:14558-1713016800-1713027600@koelle4future.de
SUMMARY:Spaziergang durch den Deutzer Hafen
DESCRIPTION:Am Deutzer Hafen wird derzeit ein Neubaugebiet errichtet.\nSchon Anfang April sollen die Bagger anrücken\, um die Fernwärmeleitung vorzustrecken. Aber ist die Versorgung eines Neubaugebietes mit Fernwärme die beste Lösung im Sinne des Klimaschutzes\, der Effizienz\, der Versorgungssicherheit und der Bezahlbarkeit? Wir sagen NEIN! \nDie „moderne stadt“ als Projektentwicklerin reagiert nicht auf unsere Anfragen\, Gespräche mit den GRÜNEN haben bisher keinen durchschlagenden Erfolg gehabt und die Stadtverwaltung wird trotz des klaren Verstoßes gegen die Klimaschutzleitlinie nicht tätig. Das ist frustrierend. Insbesondere weil wir von vielen Seiten die Rückmeldung bekommen haben\, dass unsere Argumente gut und richtig sind und dass es effiziente\, klimaschonende Alternativen zur Fernwärme gibt. \nDaher laden wir ein zum Spaziergang durch den Deutzer Hafen!\nSamstag den 13.4.2024\n14:00 Uhr: Auftaktkundgebung\, Teutonenstr. 16 (dort\, wo die Vorstreckung der Fernwärmeleitung beginnen soll)\n14:30 Uhr: Demo über die Siegburger Str. und den Poller Kirchweg (auf der Trasse der geplanten Fernwärmeleitung)\nMit Fotoaktion auf der Deutzer Drehbrücke\nca. 16 Uhr: Abschlusskundgebung\, Poller Kirchweg 13 (an dem Ort\, wo RheinEnergie eine Energiezentrale plant) \nMehr Infos hier: \nDeutzer Hafen – Klimawende Köln
URL:https://koelle4future.de/event/spaziergang-durch-den-deutzer-hafen/
LOCATION:Teutonenstraße Köln\, Teutonenstr. 16\, Köln\, 50679\, Deutschland
ATTACH;FMTTYPE=image/jpeg:https://koelle4future.de/wp-content/uploads/2024/04/230413-waermewende.jpg
END:VEVENT
END:VCALENDAR