BEGIN:VCALENDAR
VERSION:2.0
PRODID:-//Kölle for Future - ECPv6.15.20//NONSGML v1.0//EN
CALSCALE:GREGORIAN
METHOD:PUBLISH
X-WR-CALNAME:Kölle for Future
X-ORIGINAL-URL:https://koelle4future.de
X-WR-CALDESC:Veranstaltungen für Kölle for Future
REFRESH-INTERVAL;VALUE=DURATION:PT1H
X-Robots-Tag:noindex
X-PUBLISHED-TTL:PT1H
BEGIN:VTIMEZONE
TZID:Europe/Berlin
BEGIN:DAYLIGHT
TZOFFSETFROM:+0100
TZOFFSETTO:+0200
TZNAME:CEST
DTSTART:20230326T010000
END:DAYLIGHT
BEGIN:STANDARD
TZOFFSETFROM:+0200
TZOFFSETTO:+0100
TZNAME:CET
DTSTART:20231029T010000
END:STANDARD
BEGIN:DAYLIGHT
TZOFFSETFROM:+0100
TZOFFSETTO:+0200
TZNAME:CEST
DTSTART:20240331T010000
END:DAYLIGHT
BEGIN:STANDARD
TZOFFSETFROM:+0200
TZOFFSETTO:+0100
TZNAME:CET
DTSTART:20241027T010000
END:STANDARD
BEGIN:DAYLIGHT
TZOFFSETFROM:+0100
TZOFFSETTO:+0200
TZNAME:CEST
DTSTART:20250330T010000
END:DAYLIGHT
BEGIN:STANDARD
TZOFFSETFROM:+0200
TZOFFSETTO:+0100
TZNAME:CET
DTSTART:20251026T010000
END:STANDARD
END:VTIMEZONE
BEGIN:VEVENT
DTSTART;TZID=Europe/Berlin:20240318T133000
DTEND;TZID=Europe/Berlin:20240318T160000
DTSTAMP:20260425T171959
CREATED:20240309T103227Z
LAST-MODIFIED:20240309T103227Z
UID:14203-1710768600-1710777600@koelle4future.de
SUMMARY:TOD durch RWE! Strafvereitelung durch Staatsanwaltschaft?
DESCRIPTION:Auch Staatsanwaltschaften sind verpflichtet und daran gebunden\, auf der Basis der bestehenden Strafgesetze zu agieren.\nWarum wurde trotz vielfacher\, erdrückender wissenschaftlicher Beweislage bislang keine Ermittlung in der Sache Strafanzeige wegen Tötungsdelikten gegen RWE aufgenommen? \nHerzliche Einladung zur Mahnwache vor der Staatsanwaltschaft Hamm. \nWeiteres \nhttps://www.rwe-tribunal.org/strafanzeige-vorstand-rwe \n 
URL:https://koelle4future.de/event/tod-durch-rwe-strafvereitelung/
LOCATION:Generalstaatsanwaltschaft Hamm\, Hesslerstraße 53\, Hamm\, 59065\, Deutschland
CATEGORIES:Demo
ATTACH;FMTTYPE=image/jpeg:https://koelle4future.de/wp-content/uploads/2024/03/240318-hamm.jpeg
END:VEVENT
BEGIN:VEVENT
DTSTART;TZID=Europe/Berlin:20240318T183000
DTEND;TZID=Europe/Berlin:20240318T203000
DTSTAMP:20260425T171959
CREATED:20240307T174224Z
LAST-MODIFIED:20240310T142648Z
UID:14183-1710786600-1710793800@koelle4future.de
SUMMARY:Klima und Demokratie schützen März 2024
DESCRIPTION:Tritt mit uns für den Schutz von Klima und Demokratie ein! Komm zum Heumarkt\, wenn Du \n\nfür eine lebenswerte Zukunft in einer demokratischen Gesellschaft einstehst\,\neine vielfältige\, offene und tolerante Gesellschaft willst und\neine Kultur des Miteinanders\, der friedlichen Integration und des Austausches möchtest.\n\nGemeinsam sind wir mehr! Gemeinsam sind wir ein buntes Köln! \nWarme Herzen statt warmer Planet!
URL:https://koelle4future.de/event/klima-und-demokratie-schuetzen-maerz-2024/
LOCATION:Heumarkt\, Heumarkt\, Köln\, 50667\, Deutschland
CATEGORIES:Demo,Mach was!
ATTACH;FMTTYPE=image/jpeg:https://koelle4future.de/wp-content/uploads/2024/03/240318-klima-demokratie.jpeg
END:VEVENT
END:VCALENDAR