BEGIN:VCALENDAR
VERSION:2.0
PRODID:-//Kölle for Future - ECPv6.15.20//NONSGML v1.0//EN
CALSCALE:GREGORIAN
METHOD:PUBLISH
X-ORIGINAL-URL:https://koelle4future.de
X-WR-CALDESC:Veranstaltungen für Kölle for Future
REFRESH-INTERVAL;VALUE=DURATION:PT1H
X-Robots-Tag:noindex
X-PUBLISHED-TTL:PT1H
BEGIN:VTIMEZONE
TZID:Europe/Berlin
BEGIN:DAYLIGHT
TZOFFSETFROM:+0100
TZOFFSETTO:+0200
TZNAME:CEST
DTSTART:20230326T010000
END:DAYLIGHT
BEGIN:STANDARD
TZOFFSETFROM:+0200
TZOFFSETTO:+0100
TZNAME:CET
DTSTART:20231029T010000
END:STANDARD
BEGIN:DAYLIGHT
TZOFFSETFROM:+0100
TZOFFSETTO:+0200
TZNAME:CEST
DTSTART:20240331T010000
END:DAYLIGHT
BEGIN:STANDARD
TZOFFSETFROM:+0200
TZOFFSETTO:+0100
TZNAME:CET
DTSTART:20241027T010000
END:STANDARD
BEGIN:DAYLIGHT
TZOFFSETFROM:+0100
TZOFFSETTO:+0200
TZNAME:CEST
DTSTART:20250330T010000
END:DAYLIGHT
BEGIN:STANDARD
TZOFFSETFROM:+0200
TZOFFSETTO:+0100
TZNAME:CET
DTSTART:20251026T010000
END:STANDARD
END:VTIMEZONE
BEGIN:VEVENT
DTSTART;TZID=Europe/Berlin:20240302T110000
DTEND;TZID=Europe/Berlin:20240302T130000
DTSTAMP:20260425T173152
CREATED:20240223T133915Z
LAST-MODIFIED:20240223T134206Z
UID:14076-1709377200-1709384400@koelle4future.de
SUMMARY:Fahrrad-Demonstration zur Umsetzung des Kölner Fahrradgürtels
DESCRIPTION:Fahrrad-Demonstration zur Umsetzung des Kölner Fahrradgürtels im Bereich Parkgürtel und Ehrenfeldgürtel in Verlängerung des autofreien Niehler Gürtels. \nSchon 2018 haben die Bezirksvertretungen beschlossen\, den heutigen Gürtel zu verändern und eine Autospur als Fahrradspur zu gestalten – den Fahrradgürtel. \nIm Kölner Norden ab Nippes bis zum Rhein wird der Fahrradgürtel als Teil eines Grünzuges realisiert werden. \nIn Neu-Ehrenfeld kann im Zusammenhang mit dem Umbau der der KVB-Bahnsteige ein wichtiger Schritt zum Fahrradgürtel gemacht werden. \nDie Politik muss entsprechend entscheiden. \nWir fahren für eine Fahrradspur auf der Fahrbahn. \nWir fahren für mehr Platz auf dem Gehweg. \nWir fahren für eine bessere Luft und weniger Autolärm auf dem Gürtel. \nWir wollen auf dem Parkgürtel und Ehrenfeldgürtel 1 Fahrspur für den Radverkehr und 1 Fahrspur für den Autoverkehr. \nWir fahren dafür mit unseren Fahrrädern am Samstag\, 2. März 2024\, 11:00 Uhr\nTreffpunkt: Parkgürtel / Ecke Arnimstraße \nFahren Sie mit! Wir freuen uns! \nVeranstalterin: Fahrradentscheid Köln\, ADFC Köln\, Radkomm\, VCD Region Köln und viele Einzelpersonen
URL:https://koelle4future.de/event/fahrradguertel-koeln/
LOCATION:Arnimstraße Ecke Parkgürtel\, Arnimstraße 2a\, Köln\, 50825\, Deutschland
CATEGORIES:Demo,Mach was!
ATTACH;FMTTYPE=image/jpeg:https://koelle4future.de/wp-content/uploads/2020/03/Kidical_Mass_20190407_Gruppe_Severinsbr-ücke-1024x684_copyright_Stefan_Flach.jpg
END:VEVENT
BEGIN:VEVENT
DTSTART;TZID=Europe/Berlin:20240302T150000
DTEND;TZID=Europe/Berlin:20240302T170000
DTSTAMP:20260425T173152
CREATED:20240117T144316Z
LAST-MODIFIED:20240117T144316Z
UID:13551-1709391600-1709398800@koelle4future.de
SUMMARY:Plenum Parents for Future März 24
DESCRIPTION:Herzliche Einladung zum internen Plenum der Parents for Future Köln. \nWir treffen uns vor Ort in der Alten Feuerwache. \nDie Themen findest Du im Infochat und auf WeChange.
URL:https://koelle4future.de/event/plenum-parents-for-future-maerz-24/
LOCATION:Alte Feuerwache Köln\, Melchiorstraße 3\, Köln\, 50670\, Deutschland
CATEGORIES:Plenum
END:VEVENT
BEGIN:VEVENT
DTSTART;TZID=Europe/Berlin:20240302T170000
DTEND;TZID=Europe/Berlin:20240302T180000
DTSTAMP:20260425T173152
CREATED:20240117T143035Z
LAST-MODIFIED:20240117T143035Z
UID:13541-1709398800-1709402400@koelle4future.de
SUMMARY:Offenes Plenum März
DESCRIPTION:Herzliche Einladung zum offenen Plenum an alle kölschen Klimagruppen und klimainteressierte Menschen. \nIn einem gemütlichen Rahmen wollen wir uns besser kennen lernen\, gemeinsam austauschen und die Aktionen der nächsten Monate vorbesprechen.
URL:https://koelle4future.de/event/offenes-plenum-maerz/
LOCATION:Alte Feuerwache Köln\, Melchiorstraße 3\, Köln\, 50670\, Deutschland
CATEGORIES:Plenum
END:VEVENT
BEGIN:VEVENT
DTSTART;TZID=Europe/Berlin:20240302T190000
DTEND;TZID=Europe/Berlin:20240302T210000
DTSTAMP:20260425T173152
CREATED:20240219T163040Z
LAST-MODIFIED:20240219T163040Z
UID:14025-1709406000-1709413200@koelle4future.de
SUMMARY:Wasser.Land.Gerechtigkeit
DESCRIPTION:Mit der fortschreitenden Eskalation der Klimakrise spitzen sich auch Verteilungskämpfe um Wasser und Land zu. In vielen Teilen der Welt kämpfen die Menschen schon lange mit den Folgen der Klimakrise. Aber auch in Europa bedrohen Trockenheit und Dürre mittlerweile unsere Lebensgrundlagen. Während an vielen Orten bereits der Wassernotstand herrscht\, sind es vor allem Konzerne wie Tesla\, RWE und Co. die einen Großteil der lebenswichtigen Ressourcen verbrauchen. \nIn Frankreich kämpft die Bewegung der Les Soulèvements de la Terre (“Aufstände der Erde”) erfolgreich gegen zerstörerische industrielle Infrastruktur und für soziale Gerechtigkeit. Sie ist von einer starken Basis aus über 100.000 Kleinbäuer*innen\, Gewerkschafter*innen\, Aktivist*innen und Bewohner*innen umkämpfter Territorien getragen. Trotz der extremen staatlichen Repression gegen sie sind die “Aufstände der Erde“ ein inspirierendes Beispiel für kollektiven Widerstand. \nDie Bilder von den Menschen\, die gegen die Mega-Bassines in Saint-Soline protestierten\, gingen um die Welt. Jetzt kommen die Aktivist*innen im Rahmen einer Speakers-Tour zu uns! Auf 12 Stops in Deutschland\, den Niederlanden und Tschechien geben sie Einblicke in ihre Erfahrungen\, Strategien und Organisationsformen. Das ist eine einzigartige Gelegenheit\, von den Erfahrungen dieses starken Basisbündnisses zu lernen und sich mit Gleichgesinnten transnational zu vernetzen. \nLasst uns gemeinsam für eine lebenswerte Zukunft und einen gerechten Zugang zu existenziellen Lebensgrundlagen kämpfen. Klimagerechtigkeit ist Wassergerechtigkeit! \n  \n 
URL:https://koelle4future.de/event/240202-wasser-land-gerechtigkeit/
LOCATION:Naturfreundehaus Köln-Kalk\, Kapellenstraße 9a\, Köln\, 51103\, Deutschland
CATEGORIES:Mach was!
ATTACH;FMTTYPE=image/jpeg:https://koelle4future.de/wp-content/uploads/2024/02/2403-wassergerechtigkeit.jpeg
END:VEVENT
END:VCALENDAR