BEGIN:VCALENDAR
VERSION:2.0
PRODID:-//Kölle for Future - ECPv6.15.20//NONSGML v1.0//EN
CALSCALE:GREGORIAN
METHOD:PUBLISH
X-ORIGINAL-URL:https://koelle4future.de
X-WR-CALDESC:Veranstaltungen für Kölle for Future
REFRESH-INTERVAL;VALUE=DURATION:PT1H
X-Robots-Tag:noindex
X-PUBLISHED-TTL:PT1H
BEGIN:VTIMEZONE
TZID:Europe/Berlin
BEGIN:DAYLIGHT
TZOFFSETFROM:+0100
TZOFFSETTO:+0200
TZNAME:CEST
DTSTART:20230326T010000
END:DAYLIGHT
BEGIN:STANDARD
TZOFFSETFROM:+0200
TZOFFSETTO:+0100
TZNAME:CET
DTSTART:20231029T010000
END:STANDARD
BEGIN:DAYLIGHT
TZOFFSETFROM:+0100
TZOFFSETTO:+0200
TZNAME:CEST
DTSTART:20240331T010000
END:DAYLIGHT
BEGIN:STANDARD
TZOFFSETFROM:+0200
TZOFFSETTO:+0100
TZNAME:CET
DTSTART:20241027T010000
END:STANDARD
BEGIN:DAYLIGHT
TZOFFSETFROM:+0100
TZOFFSETTO:+0200
TZNAME:CEST
DTSTART:20250330T010000
END:DAYLIGHT
BEGIN:STANDARD
TZOFFSETFROM:+0200
TZOFFSETTO:+0100
TZNAME:CET
DTSTART:20251026T010000
END:STANDARD
END:VTIMEZONE
BEGIN:VEVENT
DTSTART;TZID=Europe/Berlin:20240301T120000
DTEND;TZID=Europe/Berlin:20240301T150000
DTSTAMP:20260425T155213
CREATED:20240117T140459Z
LAST-MODIFIED:20240222T174813Z
UID:13528-1709294400-1709305200@koelle4future.de
SUMMARY:Wir fahren zusammen - Bundesweiter Klimastreik
DESCRIPTION:Fridays for Future Köln und ver.di rufen zum bundesweiten Klimastreik und ÖPNV Aktionstag am 1. März auf.\n\n\nFridays for Future fordert gemeinsam mit den Kolleg*innen gute Arbeitsbedingungen und massive Investitionen von 16 Mrd in Infrastruktur. Denn die Verkehrswende geht nur mit guten Arbeitsbedingungen.\n\n\nStart 12 Uhr\nDom/Komödienstr. mit Laufdemo zum Hans-Böckler Platz\n\n\nDafür organisieren wir uns gemeinsam und es steht ein Highlight bevor: Der Klimastreik mit Reden von Kolleg*innen und Aktiven.\n\n\nAußerdem wollen wir die 120.000 Unterschriften für die gemeinsamen Forderungen an die Politiker*innen von Stadt\, Land und Bund übergeben.\n\n\nSeid dabei\, solidarisiert euch und setzt ein Zeichen für die Verkehrswende.\n\n 
URL:https://koelle4future.de/event/wir-fahren-zusammen-bundesweiter-klimastreik/
LOCATION:Köln Hauptbahnhof Domseite\, Bahnhofsvorpl. 1\,\, Köln\, 50667
CATEGORIES:Demo
ATTACH;FMTTYPE=image/jpeg:https://koelle4future.de/wp-content/uploads/2024/02/240301-wirfahrenzusammen.jpg
END:VEVENT
BEGIN:VEVENT
DTSTART;TZID=Europe/Berlin:20240301T153000
DTEND;TZID=Europe/Berlin:20240301T163000
DTSTAMP:20260425T155213
CREATED:20240225T181806Z
LAST-MODIFIED:20240225T181806Z
UID:14098-1709307000-1709310600@koelle4future.de
SUMMARY:Zubringerdemo zur CDU Regionalkonferenz
DESCRIPTION:Nach der Demo ist vor der Demo – Zubringer vom Klimastreik am 01.03. zur Kundgebung zur CDU Regionalkonferenz\, auf der das neue CDU Grundsatzprogramm vorgestellt wird \nLos geht es nach der Abschlusskundgebung um 15:30 vom Hans-Böckler-Platz und dann laufen wir zum Gürzenich\, wo es ab 16:30 mit Programm losgeht!
URL:https://koelle4future.de/event/zubringerdemo-zur-cdu-regionalkonferenz/
LOCATION:Hans-Böckler-Platz\, Hans-Böckler-Platz\, Köln\, 50672\, Deutschland
CATEGORIES:Demo
END:VEVENT
BEGIN:VEVENT
DTSTART;TZID=Europe/Berlin:20240301T163000
DTEND;TZID=Europe/Berlin:20240301T203000
DTSTAMP:20260425T155213
CREATED:20240222T070138Z
LAST-MODIFIED:20240223T110037Z
UID:14057-1709310600-1709325000@koelle4future.de
SUMMARY:Asylrecht aus dem Grundgesetz streichen? Ohne uns!
DESCRIPTION:Am 01.03. soll in Köln das neue CDU-Grundsatzprogramm vorgestellt werden: \nhttps://www.grundsatzprogramm-cdu.de/termine/grundsatzprogramm-konferenz-am-1-maerz-2024-koeln \nIn diesem soll unter anderem stehen\, dass das Recht auf Asyl eingeschränkt werden soll und Deutschland sich aussucht\, welche Flüchtlinge ins Land kommen dürfen und welche nicht.\nAsylsuchende Menschen sollen aus Europa direkt in Drittstaaten überführt und dort aussortiert werden. Wer uns nicht passt\, kann laut CDU von dort direkt abgeschoben werden. Das geht gegen unser Grundgesetz! \nDass das von einer Partei ausgeht\, die die Mitte sein will\, ist unglaublich! \nDas lassen wir so nicht unkommentiert stehen! \nWir protestieren am 01.03. nach dem Klimastreik ab 16:30 am Gürzenich gegen dieses neue Programm! \n\n\n\n\n\n\nDetails folgen.
URL:https://koelle4future.de/event/asylrecht-aus-dem-grundgesetz-streichen-ohne-uns/
LOCATION:Gürzenich Köln\, Martinstraße 29-37\, Köln\, 50667\, Deutschland
CATEGORIES:Demo
END:VEVENT
END:VCALENDAR