BEGIN:VCALENDAR
VERSION:2.0
PRODID:-//Kölle for Future - ECPv6.15.20//NONSGML v1.0//EN
CALSCALE:GREGORIAN
METHOD:PUBLISH
X-ORIGINAL-URL:https://koelle4future.de
X-WR-CALDESC:Veranstaltungen für Kölle for Future
REFRESH-INTERVAL;VALUE=DURATION:PT1H
X-Robots-Tag:noindex
X-PUBLISHED-TTL:PT1H
BEGIN:VTIMEZONE
TZID:Europe/Berlin
BEGIN:DAYLIGHT
TZOFFSETFROM:+0100
TZOFFSETTO:+0200
TZNAME:CEST
DTSTART:20230326T010000
END:DAYLIGHT
BEGIN:STANDARD
TZOFFSETFROM:+0200
TZOFFSETTO:+0100
TZNAME:CET
DTSTART:20231029T010000
END:STANDARD
BEGIN:DAYLIGHT
TZOFFSETFROM:+0100
TZOFFSETTO:+0200
TZNAME:CEST
DTSTART:20240331T010000
END:DAYLIGHT
BEGIN:STANDARD
TZOFFSETFROM:+0200
TZOFFSETTO:+0100
TZNAME:CET
DTSTART:20241027T010000
END:STANDARD
BEGIN:DAYLIGHT
TZOFFSETFROM:+0100
TZOFFSETTO:+0200
TZNAME:CEST
DTSTART:20250330T010000
END:DAYLIGHT
BEGIN:STANDARD
TZOFFSETFROM:+0200
TZOFFSETTO:+0100
TZNAME:CET
DTSTART:20251026T010000
END:STANDARD
END:VTIMEZONE
BEGIN:VEVENT
DTSTART;TZID=Europe/Berlin:20240212T073000
DTEND;TZID=Europe/Berlin:20240212T120000
DTSTAMP:20260425T184158
CREATED:20240204T092320Z
LAST-MODIFIED:20240205T125529Z
UID:13784-1707723000-1707739200@koelle4future.de
SUMMARY:Zoch vorm Zoch
DESCRIPTION:Pappnasen Alaaf! „Zoch vorm Zoch“ Alaaf! \n  \nX-Post von https://pappnasen-rotschwarz.de/aktuelles/ \nAm Rosenmontag\, 12. Februar ist es soweit: Wir sind wieder mit den Pappnasen RotSchwarz beim „Zoch vorm Zoch“ am Start\, diesmal begleitet von vielen Gruppen aus der Klimabewegung\, die auch eigene Lastenräder gestaltet haben\, wie immer mit neuen Liedern. (die gibt es bald auf der Website) Unter dem Motto „Wat e Trauerspill!“ fragen wir\, wer sich eigentlich woran festklebt: Die letzte Generation klebt sich an der Straße fest\, hat aber auch allen Grund dazu. Politiker*innen und Konzernchefs dagegen kleben am gestern: Lindner an der schwarzen Null\, Scholz am Glauben an das ewige Wachstum\, Wissing am Porsche\, der ohne Tempolimit in die Katastrophe rast\, Merz am Schlagbaum\, während Höcke rückwärts auf die 30er Jahre zuläuft… \nEt hätt nit immer jot jejange – und deshalb setzen wir der KG „Fiese Kleber von gestern“ auch etwas entgegen:„Mir han de Lösungsmittel“ \nUnser Kleber heißt „Uhutopie“ – garantiert AFD-frei. \nUm all das auf die Straße zu bringen\, brauchen wir euch! \nKostümvorschlag: Kommt als Bäume\, Blumen\, Schmetterlinge oder andere Tiere – statt der „Arteneinfalt“ des „Ich\, meins\, mehr“ setzen wir auf Artenvielfalt. Immer gehen natürlich auch kölsche Kostüme oder Bunte Funken. \nWir brauchen wie immer Menschen zum Mitgehen und Verteilen\, evtl. auch zum Tragen von Schildern\, der einen oder anderen Großpuppe oder zum Wagen ziehen. Wäre schön\, wenn Ihr uns kurz Bescheid gebt\, ob ihr kommt und wofür eure Kräfte reichen: Pappnasen-rotschwarz@posteo.de
URL:https://koelle4future.de/event/zoch-vorm-zoch/
LOCATION:Kartäuserwall / Ecke Severinsstraße\, Kartäuserwall 6-8\, Köln\, 50678\, Deutschland
CATEGORIES:Demo
ATTACH;FMTTYPE=image/jpeg:https://koelle4future.de/wp-content/uploads/2024/02/240212-pappnasen.jpeg
END:VEVENT
END:VCALENDAR