BEGIN:VCALENDAR
VERSION:2.0
PRODID:-//Kölle for Future - ECPv6.15.20//NONSGML v1.0//EN
CALSCALE:GREGORIAN
METHOD:PUBLISH
X-WR-CALNAME:Kölle for Future
X-ORIGINAL-URL:https://koelle4future.de
X-WR-CALDESC:Veranstaltungen für Kölle for Future
REFRESH-INTERVAL;VALUE=DURATION:PT1H
X-Robots-Tag:noindex
X-PUBLISHED-TTL:PT1H
BEGIN:VTIMEZONE
TZID:Europe/Berlin
BEGIN:DAYLIGHT
TZOFFSETFROM:+0100
TZOFFSETTO:+0200
TZNAME:CEST
DTSTART:20230326T010000
END:DAYLIGHT
BEGIN:STANDARD
TZOFFSETFROM:+0200
TZOFFSETTO:+0100
TZNAME:CET
DTSTART:20231029T010000
END:STANDARD
BEGIN:DAYLIGHT
TZOFFSETFROM:+0100
TZOFFSETTO:+0200
TZNAME:CEST
DTSTART:20240331T010000
END:DAYLIGHT
BEGIN:STANDARD
TZOFFSETFROM:+0200
TZOFFSETTO:+0100
TZNAME:CET
DTSTART:20241027T010000
END:STANDARD
BEGIN:DAYLIGHT
TZOFFSETFROM:+0100
TZOFFSETTO:+0200
TZNAME:CEST
DTSTART:20250330T010000
END:DAYLIGHT
BEGIN:STANDARD
TZOFFSETFROM:+0200
TZOFFSETTO:+0100
TZNAME:CET
DTSTART:20251026T010000
END:STANDARD
END:VTIMEZONE
BEGIN:VEVENT
DTSTART;TZID=Europe/Berlin:20240128T180000
DTEND;TZID=Europe/Berlin:20240128T193000
DTSTAMP:20260425T200431
CREATED:20240122T185449Z
LAST-MODIFIED:20240122T185449Z
UID:13625-1706464800-1706470200@koelle4future.de
SUMMARY:Offenes Plenum - AfD Verbot
DESCRIPTION:Komm zu unserem Offenem Plenum am Sonntag\, 28.01.24  um 18 Uhr in der Alten Feuerwache! \nDieses Mal haben wir außerdem auch einen Vortrag von Renate von @recht2go zum AfD-Verbot! \nKommt zahlreich und bringt Freunde mit! \n#afdverbot #fckafd #climatechange #fridaysforfuture #köln
URL:https://koelle4future.de/event/offenes-plenum-afd-verbot/
LOCATION:Alte Feuerwache Köln\, Melchiorstraße 3\, Köln\, 50670\, Deutschland
CATEGORIES:Plenum
ATTACH;FMTTYPE=image/png:https://koelle4future.de/wp-content/uploads/2024/01/240828-plenum.png
END:VEVENT
END:VCALENDAR