BEGIN:VCALENDAR
VERSION:2.0
PRODID:-//Kölle for Future - ECPv6.15.20//NONSGML v1.0//EN
CALSCALE:GREGORIAN
METHOD:PUBLISH
X-ORIGINAL-URL:https://koelle4future.de
X-WR-CALDESC:Veranstaltungen für Kölle for Future
REFRESH-INTERVAL;VALUE=DURATION:PT1H
X-Robots-Tag:noindex
X-PUBLISHED-TTL:PT1H
BEGIN:VTIMEZONE
TZID:Europe/Berlin
BEGIN:DAYLIGHT
TZOFFSETFROM:+0100
TZOFFSETTO:+0200
TZNAME:CEST
DTSTART:20230326T010000
END:DAYLIGHT
BEGIN:STANDARD
TZOFFSETFROM:+0200
TZOFFSETTO:+0100
TZNAME:CET
DTSTART:20231029T010000
END:STANDARD
BEGIN:DAYLIGHT
TZOFFSETFROM:+0100
TZOFFSETTO:+0200
TZNAME:CEST
DTSTART:20240331T010000
END:DAYLIGHT
BEGIN:STANDARD
TZOFFSETFROM:+0200
TZOFFSETTO:+0100
TZNAME:CET
DTSTART:20241027T010000
END:STANDARD
BEGIN:DAYLIGHT
TZOFFSETFROM:+0100
TZOFFSETTO:+0200
TZNAME:CEST
DTSTART:20250330T010000
END:DAYLIGHT
BEGIN:STANDARD
TZOFFSETFROM:+0200
TZOFFSETTO:+0100
TZNAME:CET
DTSTART:20251026T010000
END:STANDARD
END:VTIMEZONE
BEGIN:VEVENT
DTSTART;TZID=Europe/Berlin:20240121T110000
DTEND;TZID=Europe/Berlin:20240121T120000
DTSTAMP:20260425T200859
CREATED:20240120T074553Z
LAST-MODIFIED:20240120T074553Z
UID:13583-1705834800-1705838400@koelle4future.de
SUMMARY:Demokratie verteidigen - Zubringerdemo
DESCRIPTION:Wir treffen uns am Deutzer Bahnhof und ziehen zusammen für unsere Demokratie zur Deuter Werft
URL:https://koelle4future.de/event/demokratie-verteidigen-zubringerdemo/
LOCATION:Bahnhof Deutz – Opladener Straße\, Opladener Straße\, Köln\, 50679\, Deutschland
CATEGORIES:Demo
ATTACH;FMTTYPE=image/jpeg:https://koelle4future.de/wp-content/uploads/2024/01/230121-demokratie-verteidigen.jpeg
END:VEVENT
BEGIN:VEVENT
DTSTART;TZID=Europe/Berlin:20240121T120000
DTEND;TZID=Europe/Berlin:20240121T150000
DTSTAMP:20260425T200859
CREATED:20240117T141852Z
LAST-MODIFIED:20240119T135916Z
UID:13535-1705838400-1705849200@koelle4future.de
SUMMARY:Demokratie schützen\, AFD bekämpfen
DESCRIPTION:Aufruf Zur Kundgebung auf der Deutzer Werft (nicht mehr: Alter Markt) Köln\, Sonntag\, 21.1. 2024 12 h\n\nMit großer Besorgnis haben wir die Recherchen von „Correctiv“ zum Treffen von AFD Politikern und Mitgliedern der Werteunion mit der identitären Bewegung zur Kenntnis genommen.\n\nWir danken Correctiv und den Medien für die Berichterstattung zum „Geheimplan gegen Deutschland“\, einem Masterplan zur „Remigration“\, der die Vertreibung von Millionen von Menschen aus Deutschland beinhaltet\, einem Plan\, um die Artikel 3\, 16 und Artikel 21 des Grundgesetzes zu unterlaufen. Asylbewerber:innen\, Ausländer:innen mit Bleiberecht und „nicht assimilierte dt. Staatsbürger“ aber auch Menschen mit deutschem Pass die eine Migrationsgeschichte haben\, sollen mit „maßgeschneiderten Gesetzen“ aus Deutschland ausgewiesen werden. Dazu wird ein „afrikanischer Musterstaat“ für bis zu zwei Mio. Vertriebene anvisiert. Dieser Vorschlag erinnert fatal an eine Idee der Nationalsozialisten von 1940 \, alle europäischen Jüdinnen und Juden auf die Insel Madagaskar umzusiedeln.\n\nDie Recherchen von „Correctiv“ haben einmal mehr offengelegt\, wie weit wichtige Mitglieder und Funktionäre der AFD offen für rechtsextremistische\, verfassungswidrige Ideen und Pläne sind.\n\nSie haben offengelegt\, wie systematisch Finanziers für solche verfassungswidrige Ideen angeworben werden. Und sie haben gefährliche Netzwerke gleichermaßen zu Mitgliedern und Funktionären der Werte Union offengelegt\, die gleichzeitig Mitglieder der CDU sind. Alles das erinnert fatal an die schlimmsten rassistischen Traditionen des deutschen Faschismus von Ausgrenzung und Diskriminierung.\n\nEs ist höchste Zeit zu handeln!\n\nWir warnen alle demokratischen Parteien vor einem Wettbewerb um eine möglichst repressive Flüchtlingspolitik. Dabei gewinnt nur die AFD.\nWir fordern angesichts der bevorstehenden Europawahl und der Landtagswahlen in diesem Jahr\, dass die Brandmauern der demokratischen Parteien gegen die AFD erhöht werden.\n\nFür die großen ökologischen\, wirtschaftlichen und sozialen Herausforderungen bietet die AFD keine Lösungen. Im Gegenteil : sie leugnet den menschengemachten Klimawandel\, sie ist für Sozialabbau und gegen Mindestlöhne sowie gegen Steuererhöhungen für Wohlhabende und will die EU abschaffen.\nEs ist höchste Zeit\, das Verbindende der Demokratischen Kräfte in den Vordergrund zu stellen im Einsatz für ein demokratisches\, soziales Europa ohne Rassismus\, Antisemitismus und Nationalismus.\n\nWer die AFD unterstützt und wählt\, gibt Personen ein Mandat\, die menschenverachtende Verfassungsfeinde sind\, die die Demokratie missbrauchen\, um sie abzuschaffen\, und die selbst vor Deportationen nicht zurückschrecken.\n\nKSSQ setzt sich ein für ein breites Kölner Bündnis für den Schutz der Demokratie und zur Bekämpfung aller Rechtsextremisten und der AFD als ihrem parlamentarischen Arm.\nWir rufen auf zur Kundgebung Demokratie schützen\, AFD bekämpfen\n\nDeutzer Werft \, Sonntag\, 21.1. 2024 12 h
URL:https://koelle4future.de/event/demokratie-schuetzen-afd-bekaempfen/
LOCATION:Deutzer Werft\, Deutzer Werft\, Köln\, 50679\, Deutschland
CATEGORIES:Demo
ATTACH;FMTTYPE=image/jpeg:https://koelle4future.de/wp-content/uploads/2024/01/240121-demokratie.jpeg
END:VEVENT
END:VCALENDAR