BEGIN:VCALENDAR
VERSION:2.0
PRODID:-//Kölle for Future - ECPv6.15.20//NONSGML v1.0//EN
CALSCALE:GREGORIAN
METHOD:PUBLISH
X-WR-CALNAME:Kölle for Future
X-ORIGINAL-URL:https://koelle4future.de
X-WR-CALDESC:Veranstaltungen für Kölle for Future
REFRESH-INTERVAL;VALUE=DURATION:PT1H
X-Robots-Tag:noindex
X-PUBLISHED-TTL:PT1H
BEGIN:VTIMEZONE
TZID:Europe/Berlin
BEGIN:DAYLIGHT
TZOFFSETFROM:+0100
TZOFFSETTO:+0200
TZNAME:CEST
DTSTART:20230326T010000
END:DAYLIGHT
BEGIN:STANDARD
TZOFFSETFROM:+0200
TZOFFSETTO:+0100
TZNAME:CET
DTSTART:20231029T010000
END:STANDARD
BEGIN:DAYLIGHT
TZOFFSETFROM:+0100
TZOFFSETTO:+0200
TZNAME:CEST
DTSTART:20240331T010000
END:DAYLIGHT
BEGIN:STANDARD
TZOFFSETFROM:+0200
TZOFFSETTO:+0100
TZNAME:CET
DTSTART:20241027T010000
END:STANDARD
BEGIN:DAYLIGHT
TZOFFSETFROM:+0100
TZOFFSETTO:+0200
TZNAME:CEST
DTSTART:20250330T010000
END:DAYLIGHT
BEGIN:STANDARD
TZOFFSETFROM:+0200
TZOFFSETTO:+0100
TZNAME:CET
DTSTART:20251026T010000
END:STANDARD
END:VTIMEZONE
BEGIN:VEVENT
DTSTART;TZID=Europe/Berlin:20240106T170000
DTEND;TZID=Europe/Berlin:20240106T180000
DTSTAMP:20260425T200433
CREATED:20231230T150132Z
LAST-MODIFIED:20231231T090347Z
UID:13405-1704560400-1704564000@koelle4future.de
SUMMARY:Neujahrestreffen
DESCRIPTION:Herzliche Einladung zum Neujahrestreffen an alle kölschen Klimagruppen und klimainteresierte Menschen. \nIn einem gemütlichen Rahmen wollen wir uns besser kennen lernen\, gemeinsam austauschen und die Aktionen der nächsten Monate vorbesprechen.
URL:https://koelle4future.de/event/neujahrestreffen/
LOCATION:Alte Feuerwache Köln\, Melchiorstraße 3\, Köln\, 50670\, Deutschland
CATEGORIES:Mach was!
END:VEVENT
END:VCALENDAR